BEGIN:VCALENDAR
VERSION:2.0
PRODID:-//Sostre Cívic - ECPv6.10.1.1//NONSGML v1.0//EN
CALSCALE:GREGORIAN
METHOD:PUBLISH
X-ORIGINAL-URL:https://sostrecivic.jamgo.org
X-WR-CALDESC:Events for Sostre Cívic
REFRESH-INTERVAL;VALUE=DURATION:PT1H
X-Robots-Tag:noindex
X-PUBLISHED-TTL:PT1H
BEGIN:VTIMEZONE
TZID:Europe/Madrid
BEGIN:DAYLIGHT
TZOFFSETFROM:+0100
TZOFFSETTO:+0200
TZNAME:CEST
DTSTART:20250330T010000
END:DAYLIGHT
BEGIN:STANDARD
TZOFFSETFROM:+0200
TZOFFSETTO:+0100
TZNAME:CET
DTSTART:20251026T010000
END:STANDARD
END:VTIMEZONE
BEGIN:VEVENT
DTSTART;TZID=Europe/Madrid:20250323T180000
DTEND;TZID=Europe/Madrid:20250323T200000
DTSTAMP:20260422T034054
CREATED:20230304T091925Z
LAST-MODIFIED:20250220T160104Z
UID:13908-1742752800-1742760000@sostrecivic.jamgo.org
SUMMARY:Coneix el projecte sènior de Can 70!
DESCRIPTION:El projecte de Can 70 serà el primer habitatge cooperatiu sènior de Barcelona i el primer sobre sòl públic de Catalunya i l’estat.  \nCan70 és un grup de persones grans que treballem per tenir un envelliment actiu dins del marc de l’habitatge cooperatiu en cessió d’us\, concebut com una alternativa al model actual d’envelliment. L’habitatge cooperatiu i col·laboratiu permet viure la vellesa de manera autogestionada i solidària en un entorn que facilita la vida autònoma i saludable de la gent gran atenent a les necessitats de les persones tot propiciant el creixement personal i col·lectiu. \nSi vols formar part d’aquest projecte d’habitatge cooperatiu\, vine a aquesta sessió informativa oberta per a totes les persones interessades. T’explicarem tots els detalls del procés d’incorporacions\, resoldrem els teus dubtes sobre el projecte\, i podràs conèixer a algunes de les persones que actualment formem part del grup impulsor de Can 70. \nT’hi esperem 🙂 \n\nQuan?\nEl dijous 23 de març\, de 18 a 20 hores. \nA on?\nSala polivalent del Grup ECOS\, al carrer Casp\, 43 (Barcelona). \n  \n\nINSCRIU-TE A L’ACTIVITAT OMPLINT EL SEGÜENT FORMULARI\n[Places limitades per raons d’aforament]\n  \n \n\n\n\n\n\n\n\n﻿﻿﻿﻿﻿﻿﻿﻿﻿
URL:https://sostrecivic.jamgo.org/agenda/coneix-can70-2303/
LOCATION:ECOS Grup Cooperatiu\, Casp\, 43\, baixos.\, Barcelona\, 08010
ATTACH;FMTTYPE=image/png:https://sostrecivic.jamgo.org/wp-content/uploads/2022/09/can70.png
END:VEVENT
END:VCALENDAR