BEGIN:VCALENDAR
VERSION:2.0
PRODID:-//Sostre Cívic - ECPv6.10.1.1//NONSGML v1.0//EN
CALSCALE:GREGORIAN
METHOD:PUBLISH
X-ORIGINAL-URL:https://sostrecivic.jamgo.org
X-WR-CALDESC:Events for Sostre Cívic
REFRESH-INTERVAL;VALUE=DURATION:PT1H
X-Robots-Tag:noindex
X-PUBLISHED-TTL:PT1H
BEGIN:VTIMEZONE
TZID:Europe/Madrid
BEGIN:DAYLIGHT
TZOFFSETFROM:+0100
TZOFFSETTO:+0200
TZNAME:CEST
DTSTART:20220327T010000
END:DAYLIGHT
BEGIN:STANDARD
TZOFFSETFROM:+0200
TZOFFSETTO:+0100
TZNAME:CET
DTSTART:20221030T010000
END:STANDARD
END:VTIMEZONE
BEGIN:VEVENT
DTSTART;TZID=Europe/Madrid:20220910T110000
DTEND;TZID=Europe/Madrid:20220910T130000
DTSTAMP:20260423T231826
CREATED:20220901T130735Z
LAST-MODIFIED:20220905T110135Z
UID:11347-1662807600-1662814800@sostrecivic.jamgo.org
SUMMARY:Coneix el projecte Walden XXI!
DESCRIPTION:Coneix el projecte Walden XXI!\nEl nostre primer projecte sènior Walden XXI entra en la seva fase final abans de l’inici d’obres\, i obrim les últimes vacants per incorporar-s’hi! \nRehabilitarem un antic hotel a Sant Feliu de Guíxols per reconvertir-lo en 31 apartaments privats i diferents espais comunitaris (un 20% de la superfície del projecte) com sales polivalents\, cuina-menjador\, biblioteca\, bugaderia\, trasters\, jardí\, magatzem\, etc. \nT’hi vols sumar? Vine a aquesta xerrada i t’expliquem tots els detalls! \nQuan?\nEl dissabte 10 de setembre\, de 11 a 13 hores. \nA on?\nCasal De La Gent Gran De Santa Eugènia De Ter (Carrer de Santa Eugènia\, 145\, 17006 Girona) \n\n\n\nINSCRIU-TE A LA SESSIÓ OMPLINT EL SEGÜENT FORMULARI:\n \n\n\n\n\n\n\n\n﻿﻿﻿﻿﻿
URL:https://sostrecivic.jamgo.org/agenda/coneix-walden-xxi-girona-set22/
LOCATION:Casal De La Gent Gran De Santa Eugènia De Ter\, Carrer de Santa Eugènia\, 145\, Girona\, 17006
CATEGORIES:Xerrades
ATTACH;FMTTYPE=image/png:https://sostrecivic.jamgo.org/wp-content/uploads/2022/09/0922-CampanyaWalden21_xerrades_gir.png
END:VEVENT
BEGIN:VEVENT
DTSTART;TZID=Europe/Madrid:20220913T180000
DTEND;TZID=Europe/Madrid:20220913T193000
DTSTAMP:20260423T231826
CREATED:20220830T122334Z
LAST-MODIFIED:20220830T122334Z
UID:11321-1663092000-1663097400@sostrecivic.jamgo.org
SUMMARY:Com fer més habitatge cooperatiu? Mecanismes de col·laboració público-cooperativa a Barcelona
DESCRIPTION:Ampliar el parc públic d’habitatge és un dels principals reptes als quals ha de fer front Barcelona per garantir el dret de tothom a tenir un sostre. Per aquest motiu\, seguint el model de ciutats com Viena\, Amsterdam o Berlin\, el 2020 es va signar un conveni marc entre l’Ajuntament de Barcelona i les principals federacions de cooperatives i fundacions d’habitatge social\, el Conveni ESAL\, a través del qual es regulen i s’estableixen els mecanismes d’assignació dels solars públics a les entitats\, la cessió dels sòls i els ajuts públics. Des de llavors s’han posat en marxa 14 projectes d’habitatges cooperatius en cessió d’ús i de lloguers assequibles\, que es convertiran en la llar de 555 famílies i persones en situació de vulnerabilitat social o amb alguna mena de discapacitat o dependència. \nAquesta sessió anirà destinada a explicar quins projectes d’habitatge cooperatiu en cessió d’ús s’han iniciat en el marc d’aquest conveni i quins estan programats per executar-se\, alhora de difondre els mecanismes i requisits per poder participar en futures convocatòries.
URL:https://sostrecivic.jamgo.org/agenda/com-fer-mes-habitatge-cooperatiu-mecanismes-de-collaboracio-publico-cooperativa-a-barcelona/
LOCATION:Coòpolis\, C/Constitució 19-25\, Bloc 8\, Barcelona
ATTACH;FMTTYPE=image/jpeg:https://sostrecivic.jamgo.org/wp-content/uploads/2022/08/2022-09-13-Conveni-ESAL-twitter.jpg
END:VEVENT
BEGIN:VEVENT
DTSTART;TZID=Europe/Madrid:20220913T180000
DTEND;TZID=Europe/Madrid:20220913T193000
DTSTAMP:20260423T231826
CREATED:20220901T103508Z
LAST-MODIFIED:20220901T103539Z
UID:11339-1663092000-1663097400@sostrecivic.jamgo.org
SUMMARY:Coneix el projecte sènior Solterra! Xerrada virtual
DESCRIPTION:El grup sènior Rurals ha detectat un edifici en desús a Sant Hilari Sacalm i volem impulsar un projecte d’habitatge cooperatiu per a persones grans! \nEs tracta de l’antic balneari Solterra\, un hotel que es troba actualment en desús i que requereix de reforma per a la seva posada a punt. Aquest edifici és de propietat d’una empresa immobiliària i es disposa d’unes arres per la seva adquisició per part de la cooperativa\, i poder recuperar els habitatges de l’especulació per a usos socials. \nL’edifici permet ubicar-hi 30-35 allotjaments complets (cuina\, sala\, bany\, habitacions…)\, i disposarà d’espais col·lectius complementaris per l’ús de tota la comunitat. Coneix aquí tots els detalls! \nSi vols formar part d’aquest projecte\, vine a aquesta xerrada informativa i oberta per a les persones interessades! \nT’hi esperem 🙂 \n\nQuan?\nEl dimarts 13 de setembre\, de 18:00 a 19:30 hores. \nA on?\nXerrada virtual. S’enviarà un mail amb l’enllaç de la sessió a les persones inscrites. \n  \n\n \nINSCRIU-TE AL FORMULARI\n\n\n\n\n\n\n\n﻿﻿﻿﻿﻿﻿﻿﻿
URL:https://sostrecivic.jamgo.org/agenda/solterra-xerrada-virtual-set22/
LOCATION:En linia
END:VEVENT
BEGIN:VEVENT
DTSTART;TZID=Europe/Madrid:20220916T173000
DTEND;TZID=Europe/Madrid:20220916T173000
DTSTAMP:20260423T231826
CREATED:20220902T114220Z
LAST-MODIFIED:20220915T094037Z
UID:11354-1663349400-1663349400@sostrecivic.jamgo.org
SUMMARY:Inaugurem el projecte d'habitatge cooperatiu a Calonge!
DESCRIPTION:Estem d’enhorabona! Inaugurem un projecte pioner: el primer projecte d’habitatge cooperatiu de tot l’Estat dirigit específicament pel jovent\, en un edifici rehabilitat a Calonge amb l’objectiu d’oferir una alternativa assequible i digna d’habitatge per emancipar-se als joves del municipi. \nLes sòcies i socis del projecte ja estan a punt d’iniciar la seva vida a l’edifici! Per celebrar-ho\, et convidem a acompanyar-nos a l’acte d’entrega de claus que farem el pròxim divendres 16 de setembre a les 17.30h al carrer Sala\, 24\, de Calonge. \nDesprés de l’acte farem també una breu visita amb totes les persones assistents\, perquè pugueu conèixer per dins l’edifici. Així si t’agrada el projecte i vols formar-hi part… encara ets a temps! Tenim les últimes vacants disponibles\, en aquesta pàgina pots trobar tota la informació. \nQuan? Divendres 16 de setembre\, a les 17h30. \nA on? Al pati de l’edifici del projecte d’habitatge cooperatiu. Al carrer Sala\, 24\, a Calonge.
URL:https://sostrecivic.jamgo.org/agenda/inaugurem-el-projecte-dhabitatge-cooperatiu-a-calonge/
LOCATION:Projecte d’habitatge cooperatiu a Calonge\, Sala\, 24\, Calonge\, 17251
END:VEVENT
BEGIN:VEVENT
DTSTART;TZID=Europe/Madrid:20220917T110000
DTEND;TZID=Europe/Madrid:20220917T110000
DTSTAMP:20260423T231826
CREATED:20220901T131848Z
LAST-MODIFIED:20220912T101101Z
UID:11350-1663412400-1663412400@sostrecivic.jamgo.org
SUMMARY:Coneix el projecte Walden XXI!
DESCRIPTION:Coneix el projecte Walden XXI!\nEl nostre primer projecte sènior Walden XXI entra en la seva fase final abans de l’inici d’obres\, i obrim les últimes vacants per incorporar-s’hi! \nRehabilitarem un antic hotel a Sant Feliu de Guíxols per reconvertir-lo en 31 apartaments privats i diferents espais comunitaris (un 20% de la superfície del projecte) com sales polivalents\, cuina-menjador\, biblioteca\, bugaderia\, trasters\, jardí\, magatzem\, etc. \nT’hi vols sumar? Vine a aquesta xerrada i t’expliquem tots els detalls! \nQuan?\nEl dissabte 17 de setembre\, de 11 a 13 hores. \nA on?\nSala polivalent del Grup ECOS (Carrer de Casp\, 43\, baixos. Barcelona) \n\n\n\nINSCRIU-TE A LA SESSIÓ OMPLINT EL SEGÜENT FORMULARI:\n \n\n\n\n\n\n\n\n﻿﻿﻿﻿﻿﻿
URL:https://sostrecivic.jamgo.org/agenda/coneix-walden-xxi-barcelona-set22/
LOCATION:ECOS Grup Cooperatiu\, Casp\, 43\, baixos.\, Barcelona\, 08010
CATEGORIES:Xerrades
ATTACH;FMTTYPE=image/jpeg:https://sostrecivic.jamgo.org/wp-content/uploads/2022/09/0922-CampanyaWalden21_xerrades_bcn-1.jpg
END:VEVENT
BEGIN:VEVENT
DTSTART;TZID=Europe/Madrid:20220920T180000
DTEND;TZID=Europe/Madrid:20220920T200000
DTSTAMP:20260423T231826
CREATED:20220819T090213Z
LAST-MODIFIED:20220819T090302Z
UID:11124-1663696800-1663704000@sostrecivic.jamgo.org
SUMMARY:Habitatge cooperatiu per gent gran
DESCRIPTION:En aquesta sessió informativa organitzada per Coòpolis\, l’Ateneu Cooperatiu de Barcelona\, donarem a conèixer el cohabitatge sènior\, una tipologia específica dins el model de l’habitatge cooperatiu en cessió d’ús\, i coneixerem el grup Can70\, que promou un projecte d’aquestes característiques a la ciutat de Barcelona. \n\n\nInscripcions aquí
URL:https://sostrecivic.jamgo.org/agenda/habitatge-cooperatiu-per-gent-gran/
LOCATION:En linia
CATEGORIES:Xerrades
ATTACH;FMTTYPE=image/jpeg:https://sostrecivic.jamgo.org/wp-content/uploads/2022/08/2022-09-10-Sessio-Senior-twitter.jpg
END:VEVENT
BEGIN:VEVENT
DTSTART;TZID=Europe/Madrid:20220922T190000
DTEND;TZID=Europe/Madrid:20220922T210000
DTSTAMP:20260423T231826
CREATED:20220916T182840Z
LAST-MODIFIED:20220916T182840Z
UID:11441-1663873200-1663880400@sostrecivic.jamgo.org
SUMMARY:Presentació de Cirerers Habitatge Cooperatiu
DESCRIPTION:Ens fa molta il·lusió convidar-vos a la inauguració de l’exposició Vida comunitària a Cirerers: una resposta a l’especulació. Cirerers és un habitatge cooperatiu en cessió d’ús que aposta per reconèixer l’habitatge com un dret bàsic de les persones. Compartim un projecte de convivència amb el barri basat  en el suport mutu. \nPresentació a càrrec de les veïnes \nLloc: Sala d’actes de la Biblioteca Roquetes – Rafa Juncadella.  Via Favència\, 288B\, Barcelona \nDia i hora: dijous 22 de setembre de 2022 a les 19:00 h \nDesprés farem  una visita guiada per tot  l’edifici. \n Us hi esperem!
URL:https://sostrecivic.jamgo.org/agenda/presentacio-de-cirerers-habitatge-cooperatiu/
LOCATION:Biblioteca Roquetes – Rafa Juncadella\, Via Favència\, 288B\, Barcelona
CATEGORIES:Visites
ATTACH;FMTTYPE=image/png:https://sostrecivic.jamgo.org/wp-content/uploads/2022/09/image.png
END:VEVENT
BEGIN:VEVENT
DTSTART;TZID=Europe/Madrid:20220924T130000
DTEND;TZID=Europe/Madrid:20220924T140000
DTSTAMP:20260423T231826
CREATED:20220719T082205Z
LAST-MODIFIED:20220729T112948Z
UID:11039-1664024400-1664028000@sostrecivic.jamgo.org
SUMMARY:Sessió informativa: Què és l'habitatge cooperatiu?
DESCRIPTION:T’interessa formar part d’un projecte d’habitatge cooperatiu però no saps per on començar? Vols saber què fem a Sostre Cívic i els projectes que tenim actius? T’agradaria conèixer més a fons el model d’habitatge en cessió d’ús? \nParticipem a la Festa de l’Associa’t 2022\, el projecte municipal per visibilitzar el teixit associatiu\, comunitari i no lucratiu de la ciutat\, amb aquesta xerrada informativa i oberta per a les persones que vulguin aprofundir sobre el model de cessió d’ús i conèixer com s’organitza la nostra activitat. \nT’hi esperem! 🙂 \n\nQuan?\nEl dissabte 24 de setembre\, de 13 a 14 hores. \nA on?\nCasal de Barri Torre de La Sagrera. No cal inscripció prèvia.
URL:https://sostrecivic.jamgo.org/agenda/sessio-informativa-que-es-lhabitatge-cooperatiu/
LOCATION:Torre de La Sagrera\, Carrer de Berenguer de Palou\, 64-66\, Barcelona\, Barcelona\, 08027
CATEGORIES:Xerrades
END:VEVENT
BEGIN:VEVENT
DTSTART;TZID=Europe/Madrid:20220927T180000
DTEND;TZID=Europe/Madrid:20220927T193000
DTSTAMP:20260423T231826
CREATED:20220901T104245Z
LAST-MODIFIED:20220901T104245Z
UID:11343-1664301600-1664307000@sostrecivic.jamgo.org
SUMMARY:Coneix el projecte sènior Solterra! Xerrada a Barcelona
DESCRIPTION:El grup sènior Rurals ha detectat un edifici en desús a Sant Hilari Sacalm i volem impulsar un projecte d’habitatge cooperatiu per a persones grans! \nEs tracta de l’antic balneari Solterra\, un hotel que es troba actualment en desús i que requereix de reforma per a la seva posada a punt. Aquest edifici és de propietat d’una empresa immobiliària i es disposa d’unes arres per la seva adquisició per part de la cooperativa\, i poder recuperar els habitatges de l’especulació per a usos socials. \nL’edifici permet ubicar-hi 30-35 allotjaments complets (cuina\, sala\, bany\, habitacions…)\, i disposarà d’espais col·lectius complementaris per l’ús de tota la comunitat. Coneix aquí tots els detalls! \nSi vols formar part d’aquest projecte\, vine a aquesta xerrada informativa i oberta per a les persones interessades! \nT’hi esperem 🙂 \n\nQuan?\nEl dimarts 27 de setembre\, de 18:00 a 19:30 hores. \nA on?\nSala polivalent del Grup ECOS (c. Casp\, 43\, baixos. Barcelona) \n  \n\n \n\n\n\n\n\n\n\n﻿﻿﻿﻿﻿﻿
URL:https://sostrecivic.jamgo.org/agenda/solterra-barcelona-setembre22/
LOCATION:ECOS Grup Cooperatiu\, Casp\, 43\, baixos.\, Barcelona\, 08010
END:VEVENT
BEGIN:VEVENT
DTSTART;TZID=Europe/Madrid:20220928T190000
DTEND;TZID=Europe/Madrid:20220928T210000
DTSTAMP:20260423T231826
CREATED:20220926T210125Z
LAST-MODIFIED:20220926T210628Z
UID:11500-1664391600-1664398800@sostrecivic.jamgo.org
SUMMARY:Xerrada "Alternatives d'accés a l'habitatge"
DESCRIPTION:En els darrers anys han proliferat diferents iniciatives que plantegen nous models d’accés a l’habitatge. Aquesta xerrada és una oportunitat per refñexionar sobre algunes d’aquestes alternatives com són els habitatges cooperatius o la masoveria urbana. \nLa Mandi Domingo\, tècnica de Sostre Cívic\, i el Josep Maria Ricart\, del projecte Walden XXI\, participen en aquesta xerrada informativa organitzada per La Comunalitat de Valls. Comparteixen taula amb la cooperativa d’habitatges La Titaranya de Valls i la cooperativa Obrint Portes\, destinada a la promoció de la masoveria urbana a Lleida. \nA més\, presentarem els detalls del primer projecte d’habitatge cooperatiu de Sostre Cívic al municipi\, que preveu iniciar la campanya d’incorporacions durant el proper mes d’octubre. \nUs hi esperem!
URL:https://sostrecivic.jamgo.org/agenda/xerrada-alternatives-acces-habitatge/
LOCATION:Centre Cívic de Valls\, Carrer Sant Pere\, 2\, Valls\, 43800
CATEGORIES:Xerrades
END:VEVENT
BEGIN:VEVENT
DTSTART;TZID=Europe/Madrid:20220929T100000
DTEND;TZID=Europe/Madrid:20220929T123000
DTSTAMP:20260423T231826
CREATED:20220830T122639Z
LAST-MODIFIED:20220830T122823Z
UID:11325-1664445600-1664454600@sostrecivic.jamgo.org
SUMMARY:Marc legal de l’habitatge cooperatiu
DESCRIPTION:L’objectiu d’aquesta sessió és explicar el marc legal que opera i regula l’àmbit de l’habitatge cooperatiu en cessió d’ús\, dirigida a tècnics o càrrecs polítics de les diferents empreses i organismes públics. \nA casa nostra no existeix una llei de l’habitatge cooperatiu en cessió d’ús\, sinó un conjunt de normes de temes diferents relacionats amb aquest model d’accés a l’habitatge. Ens proposem facilitar-ne la comprensió amb una sessió formativa. També introduirem els futurs canvis introduïts a la futura Llei de Cooperatives i les principals reclamacions del sector de l’habitatge cooperatiu. \n\nLa participació serà híbrida opcionalment presencial o virtual.\nInscripcions
URL:https://sostrecivic.jamgo.org/agenda/marc-legal-de-lhabitatge-cooperatiu/
LOCATION:Coòpolis\, C/Constitució 19-25\, Bloc 8\, Barcelona
CATEGORIES:Xerrades
ATTACH;FMTTYPE=image/jpeg:https://sostrecivic.jamgo.org/wp-content/uploads/2022/08/2022-09-29-Marc-Legal-twitter.jpg
END:VEVENT
END:VCALENDAR