BEGIN:VCALENDAR
VERSION:2.0
PRODID:-//Sostre Cívic - ECPv6.10.1.1//NONSGML v1.0//EN
CALSCALE:GREGORIAN
METHOD:PUBLISH
X-WR-CALNAME:Sostre Cívic
X-ORIGINAL-URL:https://sostrecivic.jamgo.org
X-WR-CALDESC:Events for Sostre Cívic
REFRESH-INTERVAL;VALUE=DURATION:PT1H
X-Robots-Tag:noindex
X-PUBLISHED-TTL:PT1H
BEGIN:VTIMEZONE
TZID:Europe/Madrid
BEGIN:DAYLIGHT
TZOFFSETFROM:+0100
TZOFFSETTO:+0200
TZNAME:CEST
DTSTART:20220327T010000
END:DAYLIGHT
BEGIN:STANDARD
TZOFFSETFROM:+0200
TZOFFSETTO:+0100
TZNAME:CET
DTSTART:20221030T010000
END:STANDARD
END:VTIMEZONE
BEGIN:VEVENT
DTSTART;TZID=Europe/Madrid:20220507T110000
DTEND;TZID=Europe/Madrid:20220507T130000
DTSTAMP:20260424T032435
CREATED:20220502T085606Z
LAST-MODIFIED:20220502T090043Z
UID:9958-1651921200-1651928400@sostrecivic.jamgo.org
SUMMARY:Projecte per a joves a Calonge: xerrada + Portes Obertes
DESCRIPTION:Tens entre 18 i 35 anys? Vols que la teva primera casa sigui cooperativa\, assequible i estable a llarg termini? Vine a viure al projecte d’habitatge cooperatiu que just obrim ara a Calonge! Tenim 14 pisos disponibles i d’entrada immediata per a persones joves que creguin que una altra manera de viure és possible. \nEn aquesta xerrada informativa t’explicarem el projecte amb tot detall\, i parlarem també de com funciona el model de cessió d’ús i què significa formar de la nostra cooperativa.  Després anirem a visitar l’edifici d’habitatges\, per conèixer per dins el projecte i els diferents pisos que tens al teu abast. \nT’hi esperem! 🙂 \n\nQuan?\nEl dissabte 7 de maig\, de 11:00 a 13:00 hores. \nA on?\n11h: Xerrada informativa a la Sala de Plens de l’Ajuntament de Calonge i Sant Antoni \n12h: Portes Obertes de l’edifici del projecte d’habitatge cooperatiu (c. Sala\, 24. Calonge) \n  \n\nFORMULARI D’INSCRIPCIONS\nEns serveix per tenir un control de l’aforament i poder organitzar-nos. Si pots venir només a una de les activitats (xerrada informativa o visita)\, omple igualment les teves dades i indica’ns el que necessitis al camp d’observacions. \n \n\n\n\n\n\n\n\n﻿﻿﻿﻿﻿﻿
URL:https://sostrecivic.jamgo.org/agenda/calonge-1a-xerrada-visita/
LOCATION:Sala de Plens de l’Ajuntament de Calonge i Sant Antoni\, Plaça de la Concòrdia\, 5.\, Calonge\, 17251
CATEGORIES:Visites,Xerrades
END:VEVENT
BEGIN:VEVENT
DTSTART;TZID=Europe/Madrid:20220507T130000
DTEND;TZID=Europe/Madrid:20220507T140000
DTSTAMP:20260424T032435
CREATED:20220502T122110Z
LAST-MODIFIED:20220502T122110Z
UID:9967-1651928400-1651932000@sostrecivic.jamgo.org
SUMMARY:Sessió informativa L'H: sobre Què és l'habitatge cooperatiu?
DESCRIPTION:En el marc de la segona Fira d’Economia Solidària de #LHospitalet #FESLH hem organitzat una sessió informativa sobre Què és l’habitatge cooperatiu?  7/05/2022 a les 13 hores al Mercat de Torrent Gornal Vine a descobrir una alternativa real al lloguer o la compra/venda!
URL:https://sostrecivic.jamgo.org/agenda/sessio-informativa-lh-sobre-que-es-lhabitatge-cooperatiu/
LOCATION:Mercant Torrent Gornal\, Avinguda del Torrent Gornal\, 40\, L'Hospitalet de Llobregat
CATEGORIES:Xerrades
ATTACH;FMTTYPE=image/jpeg:https://sostrecivic.jamgo.org/wp-content/uploads/2022/05/FRvAVwMWUAEW6OC.jpg
END:VEVENT
BEGIN:VEVENT
DTSTART;TZID=Europe/Madrid:20220510T103000
DTEND;TZID=Europe/Madrid:20220510T193000
DTSTAMP:20260424T032435
CREATED:20220503T150741Z
LAST-MODIFIED:20220503T150741Z
UID:9979-1652178600-1652211000@sostrecivic.jamgo.org
SUMMARY:Jornada: Nous Models de Convivència en l’Habitatge Cooperatiu
DESCRIPTION:Inscripcions aquí. \nDes de finals del segle XIX i durant la primera meitat del segle XX\, a causa del creixement demogràfic i de les ciutats\, i dels canvis socials\, econòmics i culturals\, s’ha desenvolupat l’habitatge col·lectiu agrupat\, responent a l’elevada demanda d’habitatge principalment en nuclis urbans. La comunitat que es genera a partir d’aquest nou model agregat\, planteja l’oportunitat de pensar en comú. \nHistòricament\, han existit projectes que s’han concebut com a infraestructures enteses i pensades com un únic òrgan que funciona de manera unitària i com a conjunt\, qüestionant els límits entre allò públic i allò privat\, i posat en crisi la concepció dels edificis d’habitatge col·lectiu com una agregació d’habitatges individuals que funcionen de manera autònoma. En experiències com el Falanasterio de Furier (1820)\, Karl-Marx-Hof (1930)\, el Narkomfin a Moscou (1930) o el Sargfabrik a Viena (1998)\, els serveis esdevenen un suport a la vida i a la creació de comunitat. \nEn aquests projectes\, l’ús i l’acció en cada un dels espais és el que els acaba determinant com a col·lectius. En un edifici concebut com a infraestructura multifuncional i adaptable\, la qüestió “viva” que és l’habitar\, genera canvis segons les necessitats de les ocupants. Les persones habitants defineixen els usos i funcions dels propis espais\, que queden definits més pel mode d’habitar\, que per la seva concreció arquitectònica. Atenent aquesta qüestió\, les estructures habitacionals han anat canviant\, adaptant-se a les noves maneres d’habitar. Sense anar tan enrere en el temps\, durant les darreres dècades s’han desplegat nous models de convivència a països com Alemanya\, Suïssa\, Holanda o Àustria. A partir de noves necessitats convivencials\, en un moment on la família nuclear heteronormativa tradicional deixa de ser l’únic model de convivència possible\, i les xarxes relacionals adopten noves formes\, l’arquitectura i la infraestructura habitacional ha de poder respondre a aquestes necessitats. També a partir d’una concepció de l’habitar des d’una perspectiva feminista\, desjerarquitzant les peces de l’habitatge\, i atenent al conjunt\, és possible pensar en termes de “casa dispersa” o concebre que l’habitatge és tot l’edifici\, dissolent el límit entre habitació\, habitatge i edifici. \nSobretot vinculats a projectes d’habitatge cooperatiu\, on ja existeix una identitat col·lectiva\, aquests models persegueixen una vida més comunitària\, replantejant quina és la cèl·lula privativa necessària\, i com pot ser complementada amb altres espais de socialització i cura. Apareixen noves estratègies per adaptar-se a noves maneres de conviure. Models com el clúster\, a través del qual un conjunt d’espais privatius comparteixen espais col·lectius com pot ser una cuina-sala-menjador\, espai d’estudi o habitació per convidades. O projectes que incorporen “habitacions satèl·lit”\, no vinculades a cap habitatge en concret\, que permeten ser utilitzades de manera canviant en cada moment\, són estratègies arquitectòniques que permeten models convivencials variats\, flexibles i adaptables al llarg del temps. \nAlgunes d’aquestes estratègies\, a més\, pretenen donar resposta a situacions vitals concretes\, potenciant el suport mutu entre persones grans\, per exemple\, o fomentant una experiència de convivència emancipadora a persones joves. La infraestructura física –l’edifici– i la jurídico-econòmica –la cooperativa– esdevenen el suport necessari per a la creació d’una vida en col·lectiu\, més comunitària i sostenible\, i concebuda des del conjunt\, tant en la seva materialització\, com en la gestió dels usos\, l’energia i els consums. Una infraestructura que té\, també\, la voluntat i potencialitat d’impulsar projectes habitacionals més assequibles i inclusius. \nÉs a l’hora de pensar aquests nous models\, que ens falten referents. També en el moment d’imaginar la  convivència i gestió d’aquestes infraestructures. A més\, les estratègies que els fan possibles\, basades en espais intermitjos o indeterminats\, habitacions discontínues\, zones de pas\,…\, no són contemplades pels cànons normatius\, urbanístics\, o de finançament. És per això que cal buscar escletxes per poder implementar aquests models. \nPer tot això\, aquesta jornada té l’objectiu\, doncs\, de compartir projectes desenvolupats els darrers anys a altres països i conèixer de més a prop experiències innovadores que actualment esdevenen nous referents a tenir en compte. Perquè allò que no es coneix\, difícilment es pot pensar o replicar. I a partir d’aquestes experiències\, reflexionar conjuntament sobre el sentit i l’interès d’implementar aquests models en el nostre territori i context actual\, definint les oportunitats\, límits i reptes que implica. \nPer fer-ho\, la jornada s’organitza en dues parts: \n\nAl matí s’enfoca la jornada des de l’òptica de les polítiques públiques i les entitats i cooperatives que impulsen aquests nous models\, i en l’oportunitat que poden esdevenir.\nA la tarda es comparteix l’experiència convivencial per part de persones que habiten aquests nous models de convivència\n\n\nPrograma\nPART 1: Oportunitats a nivell normatiu per l’extensió de nous models d’habitatge\nFormat: presencial a l’Espai Francesca Bonnemaison i virtual \n10.15h Benvinguda a càrrec de Lena Vidal\, arquitecta de l’Oficina d’Habitatge de la Diputació de Barcelona \n10.30 – 12h Ponències internacionals: referents d’altres països \nAl matí es realitzaran 3 ponències internacionals per a compartir projectes d’altres països\, que serveixin com a referents i inspiració cara reflexionar la implementació de nous models al context català: \n\nMichael Prytula\, investigador i professor de la Postdam universitat\, Alemanya. \n\nCom a investigador de la facultat de Ciències Aplicades de Postdam\, és coautor de les dues publicacions sobre el model clúster\, Cluster-Wohnungen\, publicades amb el suport de Zukunft Bau. \n\nMonika Saxer\, membre del comitè de la cooperativa Kalkbreite\, Zuric\n\nKalkbreite és una cooperativa fundada el 2007\, que té més de 1500 persones sòcies. Ha impulsat la promoció Kalkbreite de 97 habitatges\, i la promoció Zollhaus de 56 habitatges. \n\nJeremy Hoskyn\, cap del departament de desenvolupament de projectes i concursos\, Ajuntament Zuric.\n\nPresident de l’Oficina de la Construcció de Zuric (Das Amt für Hochbauten). Coautor de la publicació Floor plan manual: 62 architectural competitions for non-profit housing. \n12 – 13.30h Taula rodona local: oportunitats\, límits i reptes en el context català \nA partir de les experiències internacionals\, es realitzarà una taula rodona participada per persones de les administracions públiques catalanes\, de l’àmbit de la recerca i la investigació\, i de l’àmbit de l’habitatge cooperatiu per reflexionar conjuntament sobre la implementació d’aquests models a Catalunya. \nInscripcions aquí. \n>Descarregat la presentació completa de la Jornada aquí.\nEntitats organitzadores\nAquesta jornada està organitzada per les següents entitats: \n\nLa Dinamo. Fundació que fomenta i promou la implantació del model d’habitatge cooperatiu en cessió d’ús com una alternativa als models convencionals d’accés a  l’habitatge i normalitzar la seva existència en el territori català.\n\n\nLacol. Cooperativa d’arquitectes establerta el 2009 al barri de Sants de Barcelona que treballa per generar infraestructures comunitàries per a la sostenibilitat de la vida\, com a eina clau per la transició ecosocial\, mitjançant l’arquitectura\, el cooperativisme i la participació.\n\nEntitats col·laboradores: \n\nModel. Festival d’Arquitectures de Barcelona. Coorganitzat per l’Ajuntament de Barcelona i el Col·legi d’Arquitectes de Catalunya (COAC) que neix amb la vocació de ser un esdeveniment anual que portarà la ciutat fins a la capitalitat mundial de l’arquitectura l’any 2026 i transformarà l’espai urbà que ens envolta en un fòrum de trobada per a líders de pensament d’arreu del món i en una festa per a la ciutadania en què la reflexió\, l’experimentació i la celebració aniran plegades.\n\n\nGoethe Institut. Promoció del coneixement de la llengua alemanya a l’estranger i fomentació de la cooperació cultural internacional a Barcelona.\n\n\nDiputació de Barcelona. Institució de govern local que impulsa el progrés i el benestar dels ciutadans de la província de Barcelona\, 311 municipis en xarxa.\n\nEntitats que donen suport a la jornada: \n\nCoòpolis Barcelona. L’Ateneu Cooperatiu de Barcelona\, un dispositiu de foment i promoció de l’Economia Social i Solidària a la ciutat de Barcelona.
URL:https://sostrecivic.jamgo.org/agenda/jornada-nous-models-de-convivencia-en-lhabitatge-cooperatiu/
LOCATION:Espai Francesca Bonnemaison\, Carrer de Sant Pere Més Baix\, 7\, Barcelona\, 08003
CATEGORIES:Xerrades
ATTACH;FMTTYPE=image/jpeg:https://sostrecivic.jamgo.org/wp-content/uploads/2022/05/FR0vGpWXEAEzsiN.jpg
ORGANIZER;CN="La Dinamo":MAILTO:info@ladinamofundacio.org
END:VEVENT
BEGIN:VEVENT
DTSTART;TZID=Europe/Madrid:20220511T180000
DTEND;TZID=Europe/Madrid:20220511T200000
DTSTAMP:20260424T032435
CREATED:20220502T074914Z
LAST-MODIFIED:20220502T084500Z
UID:9944-1652292000-1652299200@sostrecivic.jamgo.org
SUMMARY:Projecte per a joves a Calonge: sessió informativa virtual
DESCRIPTION:Tens entre 18 i 35 anys? Vols que la teva primera casa sigui cooperativa\, assequible i estable a llarg termini? Vine a viure al projecte d’habitatge cooperatiu que just obrim ara a Calonge! Tenim 14 pisos disponibles i d’entrada immediata per a persones joves que creguin que una altra manera de viure és possible. \nEn aquesta xerrada informativa t’explicarem el projecte amb tot detall\, i parlarem també de com funciona el model de cessió d’ús i què significa formar de la nostra cooperativa. \nT’hi esperem! 🙂 \n\nQuan?\nEl dimecres 11 de maig\, de 18:00 a 20:00 hores. \nA on?\nXerrada en línia. Passarem l’enllaç de l’acte per correu electrònic a les persones inscrites. \n  \n\nINSCRIU-TE AL FORMULARI ABANS DEL 10 DE MAIG\n \n\n\n\n\n\n\n\n﻿﻿﻿﻿﻿
URL:https://sostrecivic.jamgo.org/agenda/calonge-sessio-virtual/
LOCATION:En linia
END:VEVENT
BEGIN:VEVENT
DTSTART;TZID=Europe/Madrid:20220521T110000
DTEND;TZID=Europe/Madrid:20220521T130000
DTSTAMP:20260424T032435
CREATED:20220502T090410Z
LAST-MODIFIED:20220502T090410Z
UID:9964-1653130800-1653138000@sostrecivic.jamgo.org
SUMMARY:Projecte per a joves a Calonge: xerrada + Portes Obertes
DESCRIPTION:Tens entre 18 i 35 anys? Vols que la teva primera casa sigui cooperativa\, assequible i estable a llarg termini? Vine a viure al projecte d’habitatge cooperatiu que just obrim ara a Calonge! Tenim 14 pisos disponibles i d’entrada immediata per a persones joves que creguin que una altra manera de viure és possible. \nEn aquesta xerrada informativa t’explicarem el projecte amb tot detall\, i parlarem també de com funciona el model de cessió d’ús i què significa formar de la nostra cooperativa.  Després anirem a visitar l’edifici d’habitatges\, per conèixer per dins el projecte i els diferents pisos que tens al teu abast. \nT’hi esperem! 🙂 \n\nQuan?\nEl dissabte 21 de maig\, de 11:00 a 13:00 hores. \nA on?\n11h: Xerrada informativa a la Sala de Plens de l’Ajuntament de Calonge i Sant Antoni \n12h: Portes Obertes de l’edifici del projecte d’habitatge cooperatiu (c. Sala\, 24. Calonge) \n  \n\nFORMULARI D’INSCRIPCIONS\nEns serveix per tenir un control de l’aforament i poder organitzar-nos. Si pots venir només a una de les activitats (xerrada informativa o visita)\, omple igualment les teves dades i indica’ns el que necessitis al camp d’observacions. \n \n\n\n\n\n\n\n\n﻿﻿﻿﻿﻿﻿
URL:https://sostrecivic.jamgo.org/agenda/calonge-2a-xerrada-visita/
LOCATION:Sala de Plens de l’Ajuntament de Calonge i Sant Antoni\, Plaça de la Concòrdia\, 5.\, Calonge\, 17251
CATEGORIES:Visites,Xerrades
END:VEVENT
BEGIN:VEVENT
DTSTART;TZID=Europe/Madrid:20220524T170000
DTEND;TZID=Europe/Madrid:20220524T183000
DTSTAMP:20260424T032435
CREATED:20220421T200543Z
LAST-MODIFIED:20230228T111941Z
UID:9758-1653411600-1653417000@sostrecivic.jamgo.org
SUMMARY:Sessió informativa mensual
DESCRIPTION:T’interessa formar part d’un projecte d’habitatge cooperatiu però no saps per on començar? Vols saber què fem a Sostre Cívic i els projectes que tenim actius? T’agradaria conèixer més a fons el model d’habitatge en cessió d’ús? \nVine a aquesta xerrada informativa i oberta per a les persones interessades\, futurs nous socis i també per aquelles persones sòcies que vulguin aprofundir sobre el model de cessió d’ús i conèixer com s’organitza la nostra activitat. \nT’hi esperem 🙂 \n\nQuan?\nEl dimarts 24 de maig\, de 17:00 a 18:30 hores. \nA on?\nXerrada en línia. Passarem l’enllaç de l’acte per correu electrònic a les persones inscrites. \n  \n\nINSCRIU-TE AL FORMULARI ABANS DEL 22 DE MAIG\n \n\n\n\n\n\n\n\n﻿﻿﻿﻿
URL:https://sostrecivic.jamgo.org/agenda/sessio-informativa-mensual-maig22/
LOCATION:En linia
CATEGORIES:Xerrades
ATTACH;FMTTYPE=image/jpeg:https://sostrecivic.jamgo.org/wp-content/uploads/2022/04/0522_sessions-mensuals.jpg
ORGANIZER;CN="Sostre C%C3%ADvic":MAILTO:info@sostrecivic.cat
END:VEVENT
END:VCALENDAR