BEGIN:VCALENDAR
VERSION:2.0
PRODID:-//Sostre Cívic - ECPv6.10.1.1//NONSGML v1.0//EN
CALSCALE:GREGORIAN
METHOD:PUBLISH
X-WR-CALNAME:Sostre Cívic
X-ORIGINAL-URL:https://sostrecivic.jamgo.org
X-WR-CALDESC:Events for Sostre Cívic
REFRESH-INTERVAL;VALUE=DURATION:PT1H
X-Robots-Tag:noindex
X-PUBLISHED-TTL:PT1H
BEGIN:VTIMEZONE
TZID:Europe/Madrid
BEGIN:DAYLIGHT
TZOFFSETFROM:+0100
TZOFFSETTO:+0200
TZNAME:CEST
DTSTART:20220327T010000
END:DAYLIGHT
BEGIN:STANDARD
TZOFFSETFROM:+0200
TZOFFSETTO:+0100
TZNAME:CET
DTSTART:20221030T010000
END:STANDARD
END:VTIMEZONE
BEGIN:VEVENT
DTSTART;TZID=Europe/Madrid:20220205T110000
DTEND;TZID=Europe/Madrid:20220205T140000
DTSTAMP:20260424T061459
CREATED:20220111T123540Z
LAST-MODIFIED:20220202T183538Z
UID:8620-1644058800-1644069600@sostrecivic.jamgo.org
SUMMARY:Portes Obertes: Visita Cirerers!
DESCRIPTION:Et volem convidar a la jornada de portes obertes que farem a l’edifici del projecte d’habitatge cooperatiu Cirerers\, al barri de Roquetes. És el segon projecte d’obra nova de Sostre Cívic a la ciutat\, després d’iniciar el setembre de 2019 la construcció de La Balma\, a Poblenou. \n\n\n\nL’edifici\, dissenyat per l’equip d’arquitectes de la cooperativa Celobert\, representa tot un exemple d’innovació constructiva\, i ja és avui l’edifici de fusta més alt de l’Estat\, amb vuit plantes. A més\, altres materials que fa servir\, com el morter de calç en les façanes i plaques de guix en els interiors\, són igualment biodegradables i de baixa petjada ecològica\, aconseguint així que la seva producció\, transport i reciclatge comporti molt poques emissions de CO2. \n\n\n\nA més\, el projecte està pensat des d’una lògica comunitària i per això disposa d’un carrer-replà a cada planta\, on les usuàries podem sortir\, jugar o estendre la roba. També compta amb espais interiors comunitaris en planta baixa\, oberts al barri i a la plaça. \n\n\n\nCirerers és un projecte de convivència autogestionat i basat en un funcionament assembleari que fomenta la cooperació i l’ajuda mútua. Volem teixir i recuperar xarxes que ens permetin una vida en comú més lliure de portes endins i de portes enfora. Vols conèixer-lo? \n\n\n\nQuan? 5 de febrer\, en diferents franges horàries\, d’11 a 14 hores. On? c. Pla dels Cirerers\, 2-4. (Barcelona) \n\n\n\nIndicacions \n\n\n\n\nPorta la mascareta durant tota la visita.\nLa visita té una durada aproximada de 30 minuts.\nAccesibilitat: Malauradament\, actualment no ens és possible fer les visites accessibles\, ja que estem al tram final d’obra i encara no podem posar en marxar l’ascensor. Tot i així\, la plata baixa és del tot accesible: hi hauran vídeos i plafons explicatius i el nostre personal estarà a disposició de resoldre qualsevol dubte\n\n\n\n\nPer seguretat\, el grup de persones serà limitat: reserva la teva plaça amb responsabilitat i compromís\, i assegura’t de la teva disponibilitat per venir a l’activitat. \n\n\n\nPots triar l’hora d’accés a l’edifici que millor el vagi omplint el següent formulari.  \nPLACES LIMITADES. INSCRIU-TE AL FORMULARI ABANS DEL 4 DE FEBRER\n \n\n\n\n \n\n\n\n﻿﻿﻿﻿
URL:https://sostrecivic.jamgo.org/agenda/portes-obertes-visita-cirerers/
LOCATION:Cirerers\, Carrer del Pla dels Cirerers\, 2-4\, Barcelona\, 08042
CATEGORIES:Visites
ATTACH;FMTTYPE=image/jpeg:https://sostrecivic.jamgo.org/wp-content/uploads/2022/01/1221-Visites-Cirerers-2-e1641904075334.jpg
ORGANIZER;CN="Sostre C%C3%ADvic":MAILTO:info@sostrecivic.cat
END:VEVENT
BEGIN:VEVENT
DTSTART;TZID=Europe/Madrid:20220224T180000
DTEND;TZID=Europe/Madrid:20220224T193000
DTSTAMP:20260424T061459
CREATED:20220208T163439Z
LAST-MODIFIED:20220208T170250Z
UID:8741-1645725600-1645731000@sostrecivic.jamgo.org
SUMMARY:Fem Rusc! Finançament col·lectiu i títols participatius en habitatge cooperatiu en cessió d'ús
DESCRIPTION:Nova activitat amb les companyes del ‘Laboratori Territorial d’Habitatge’ de l’Ateneu Cooperatiu del Vallès Oriental. Parlarem de finançament col·lectiu i coneixerem les experiències d’habitatge cooperatiu en cessió d’ús de Can Carner (Castellar del Vallès) i Cal Paler Nou (Cardedeu).  \n+ info i inscripció: ateneucoopvor.org
URL:https://sostrecivic.jamgo.org/agenda/fem-rusc-financament-collectiu-i-titols-participatius-en-habitatge-cooperatiu-en-cessio-dus/
LOCATION:En linia
ATTACH;FMTTYPE=image/jpeg:https://sostrecivic.jamgo.org/wp-content/uploads/2022/02/FLFmJ_8WUAAcToV.jpg
END:VEVENT
BEGIN:VEVENT
DTSTART;TZID=Europe/Madrid:20220225T170000
DTEND;TZID=Europe/Madrid:20220225T183000
DTSTAMP:20260424T061459
CREATED:20220118T105751Z
LAST-MODIFIED:20230228T110838Z
UID:8638-1645808400-1645813800@sostrecivic.jamgo.org
SUMMARY:Sessió informativa mensual
DESCRIPTION:T’interessa formar part d’un projecte d’habitatge cooperatiu però no saps per on començar? Vols saber què fem a Sostre Cívic i els projectes que tenim actius? T’agradaria conèixer més a fons el model d’habitatge en cessió d’ús? \nVine a aquesta xerrada informativa i oberta per a les persones interessades\, futurs nous socis i també per aquelles persones sòcies que vulguin aprofundir sobre el model de cessió d’ús i conèixer com s’organitza la nostra activitat. \nT’hi esperem 🙂 \n\nQuan?\nEl divendres 25 de febrer\, de 17:00 a 18:30 hores. \nA on?\nXerrada en línia. Passarem l’enllaç de l’acte per correu electrònic a les persones inscrites el dia anterior. \n  \n\nINSCRIU-TE AL FORMULARI ABANS DEL 23 DE FEBRER\n \n\n\n\n\n\n\n\n﻿﻿﻿﻿
URL:https://sostrecivic.jamgo.org/agenda/sessio-informativa-mensual-febrer-22/
LOCATION:En linia
CATEGORIES:Xerrades
ATTACH;FMTTYPE=image/jpeg:https://sostrecivic.jamgo.org/wp-content/uploads/2022/01/0422_sessions-mensuals.jpg
ORGANIZER;CN="Sostre C%C3%ADvic":MAILTO:info@sostrecivic.cat
END:VEVENT
BEGIN:VEVENT
DTSTART;TZID=Europe/Madrid:20220226T110000
DTEND;TZID=Europe/Madrid:20220226T130000
DTSTAMP:20260424T061459
CREATED:20220201T101743Z
LAST-MODIFIED:20220222T194551Z
UID:8700-1645873200-1645880400@sostrecivic.jamgo.org
SUMMARY:Coneix el projecte Walden XXI!
DESCRIPTION:Coneix el projecte Walden XXI!\nFa 3 anys vam començar el projecte del primer habitatge cooperatiu sènior a Catalunya… i esperem fer-ho possible el 2023\, que és la data prevista per entrar-hi a viure! Rehabilitarem un antic hotel a Sant Feliu de Guíxols per reconvertir-lo en 31 apartaments privats i diferents espais comunitaris (un 20% de la superfície del projecte) com sales polivalents\, cuina\, menjador\, biblioteca-ordinadors\, bugaderia\, trasters\, terrasses\, jardí interior\, terrasses\, tallers bricolatge\, magatzem\, etc. \nEn aquesta pàgina pots consultar més informació de Walden XXI i\, si vols conèixer més del nostre projecte\, et convidem a aquesta sessió informativa presencial. \n  \nQuan?\nEl dissabte 26 de febrer\, de 11 a 13 hores. \nA on?\nSala polivalent del Grup ECOS\, al carrer Casp\, 43 (Barcelona). \n\n\n\nPLACES LIMITADES. INSCRIU-TE AL FORMULARI ABANS DEL 25 DE FEBRER\nEn cas de no poder assistir\, un cop inscrit\, avisa’ns a info@sostrecivic.cat per tal de poder donar la plaça a una altra persona.\n \n\n\n\n\n\n\n\n﻿﻿﻿﻿
URL:https://sostrecivic.jamgo.org/agenda/coneix-el-projecte-walden-xxi-6/
LOCATION:ECOS Grup Cooperatiu\, Casp\, 43\, baixos.\, Barcelona\, 08010
CATEGORIES:Xerrades
ATTACH;FMTTYPE=image/jpeg:https://sostrecivic.jamgo.org/wp-content/uploads/2022/02/0222-xerrada-walden21.jpg
END:VEVENT
END:VCALENDAR