BEGIN:VCALENDAR
VERSION:2.0
PRODID:-//Sostre Cívic - ECPv6.10.1.1//NONSGML v1.0//EN
CALSCALE:GREGORIAN
METHOD:PUBLISH
X-WR-CALNAME:Sostre Cívic
X-ORIGINAL-URL:https://sostrecivic.jamgo.org
X-WR-CALDESC:Events for Sostre Cívic
REFRESH-INTERVAL;VALUE=DURATION:PT1H
X-Robots-Tag:noindex
X-PUBLISHED-TTL:PT1H
BEGIN:VTIMEZONE
TZID:Europe/Madrid
BEGIN:DAYLIGHT
TZOFFSETFROM:+0100
TZOFFSETTO:+0200
TZNAME:CEST
DTSTART:20210328T010000
END:DAYLIGHT
BEGIN:STANDARD
TZOFFSETFROM:+0200
TZOFFSETTO:+0100
TZNAME:CET
DTSTART:20211031T010000
END:STANDARD
END:VTIMEZONE
BEGIN:VEVENT
DTSTART;TZID=Europe/Madrid:20211202T170000
DTEND;TZID=Europe/Madrid:20211202T193000
DTSTAMP:20260424T080713
CREATED:20211115T173628Z
LAST-MODIFIED:20211202T122353Z
UID:8106-1638464400-1638473400@sostrecivic.jamgo.org
SUMMARY:Les cures i l'arquitectura residencial
DESCRIPTION:4art Debat de reflexió al voltant del paper de l’arquitectura en la transformació social i mediambiental\nEn aquesta edició posarem el punt de mira en l’habitatge i les cures\, el que podem anomenar residencial amb serveis. I com sempre\, ho farem des del punt de vista de l’autogestió\, l’impuls col·lectiu i la vida comunitària que promou Sostre Cívic. \nA l’estat espanyol el percentatge de població més gran de 65 anys serà el 22\,7% de la població el 2026. Per altra banda les persones amb diversitat funcional o algun grau de discapacitat estan augmentant progressivament des que se segueixen estadísticament les dades. Aquesta realitat difícil\, moltes vegades acompanyada de soledat\, incomprensió\, etc. està lluny de ser compresa\, i menys encara coberta\, pel sistema públic assistencial. Alhora estem vivint una era de canvis socials i productius que estan canviant les formes d’habitar\, i per tant la morfologia de l’arquitectura residencial. \nDavant d’aquesta situació alguns col·lectius s’estan autorganitzant per cobrir les seves necessitats d’emancipació i socialització a través de noves formes de conviure en nous tipus d’espais habitacionals. I ho estan fent des de perspectives de lògica comunitària i de suport mutu\, a partir de la senzilla idea de mantenir el màxim d’independència individual a través de l’acció col·lectiva. Els sèniors (la gent gran) han estat la punta de llança d’aquestes noves formes de residencial\, però en els darrers temps\, altres col·lectius amb necessitats específiques\, com poden ser aquells amb diversitat funcional\, també proposen projectes col·lectius específicament adaptats a la seva realitat “no normativa”. \nÉs en aquest context a on administracions\, entitats del 3r sector\, i grups de ciutadans\, però també de professionals del sector de l’habitatge\, comencen a proposar altres maneres d’accedir i de dissenyar l’habitatge adaptat i/o amb serveis més enllà de la lògica de mercat i de propietat individual. \nAquest no és un camp de treball nou per l’arquitectura\, des dels Narkomfin soviètic i els luxosos family hotels de la Nova York\, passant pels icònics projectes de Herman Hertzberger\, fins a arribar als Holandesos Mecanoo i MVRDV\, molts arquitectes s’han enfrontat des de diverses òptiques a l’habitatge plurifamiliar amb serveis. Però és en les darreres dècades quan observem canvis importants\, que introdueixen noves tipologies de l’habitatge i nous marcs de convivència en el residencial amb serveis\, derivats de les noves demandes i les formes d’autogestió que comentàvem. \nAquesta innovació s’està impulsant principalment des de la iniciativa privada i especialment a través de cooperatives\, almenys pel que fa al nostre país. El fet cooperatiu: l’autopromoció\, el suport mutu\, l’autoresponsabilitat\, l’equitat i la gestió democràtica\, són elements fonamentals per aquests col·lectius que vulguin projectes emancipatoris i no només assistits. \nCreiem que aquests projectes\, de base comunitària i que parteixen de les necessitats reals de les usuàries\, són els que estan trencant els esquemes tradicionals de l’habitatge i que\, per tant\, estan aportant noves tipologies i noves formes\, en definitiva noves arquitectures\, pel disseny residencial. \nÉs per això que\, considerant a l’arquitectura com una eina de transformació social\, creiem que cal observar com aquestes arquitectures juguen un paper important en el progrés social\, equitatiu i democràtic. Ens proposem conèixer iniciatives d’arreu sobre arquitectura residencial amb serveis\, intergeneracional\, inclusiva i integradora\, per abordar la problemàtica a què s’enfronten i aprendre de la seva pràctica. Esperem que les jornades serveixin per enriquir el debat al respecte. \nEn aquest context\, ens sorgeixen algunes preguntes que poden estar en el debat: \n\nQuin ha de ser el paper de l’arquitectura en l’actual context de canvi de paradigma social i habitacional? Quin paper ha de jugar l’arquitectura davant del repte demogràfic i l’envelliment en les societats europees? I davant de les necessitats de col·lectius específics\, com poden ser la gent gran i les persones amb diversitat funcional?\nEl cohabitatge o coliving\, i en particular l’habitatge cooperatiu\, és una resposta a aquests nous paradigmes? En quina mesura i per què?\nQuin és el rol que ha de jugar l’arquitecte en relació amb aquestes necessitats i nous paradigmes? Ha de ser un agent més\, un catalitzador d’informació\, un director\, un acompanyant\, potser un impulsor…?\nQuins són els reptes econòmics\, en termes d’arquitectura i construcció\, que han i hauran d’afrontar els projectes de residencial amb serveis? Es pot parlar merament en termes monetaris? Quin és el cost/benefici d’aquests projectes?\nQuin és el rol que ha de jugar l’administració en aquest tipus de projectes? Des d’on s’estan donant respostes a aquestes necessitats\, des de l’administració local? En la col·laboració publico-privada (o publico-cooperativa?….\n\nI moltes qüestions més que esperem que neixin durant la jornada! \nPonents\n\nLinda Björn. Arquitecta\, sòcia fundadora de l’equip Marge Arkitekter. Suècia. Ens parlarà de la visió del seu equip centrada en l’atenció a les persones en diversos projectes per a gent gran a Suècia.\nMaider Azurmendi. Treballadora social\, responsable de cooperació comunitària del Matia instituto. Euskadi. Ens explicarà  la iniciativa “Viviendas para toda la vida” projecte finalista per a persones grans i persones amb discapacitat a Donostia.\nTxatxo Sabater\, Dr. Arquitecte\, professor i investigador de l’Escola d’Arquitectura del Vallès (UPC). Catalunya. Ens parlarà de les perspectives de l’habitatge amb serveis en base a un exhaustiu estudi sobre “gerohabitació\, cohabitació i emancipació” elaborat per la Diputació de Barcelona.\n\n\nQuan? A on?\nEl dijous 2 de desembre\, de 18:00 a 20:30 hores. \nA l’Aula Ronda\, al c. Sant Pere més Alt\, 59 BIS (Barcelona). També es facilitarà retransmissió en directe per a les persones que no puguin assistir-hi presencialment. \nInscripcions\nPer formalitzar la teva inscripció gratuïta\, has d’omplir aquest formulari abans del 29 de novembre. \nI si vols assistir-hi\, però no ho pots fer presencialment\, indica en la caixa de comentaris que ho vols fer per streaming i t’enviarem l’enllaç de l’acte. \n  \nFORMULARI TANCAT\nSi vols assistir-hi escriu a info@sostrecivic.cat\n\n\n\n\n\n\n\n 
URL:https://sostrecivic.jamgo.org/agenda/cures-arquitectura-residencial/
LOCATION:Aula Ronda\, Sant Pere més alt\, 59.\, Barcelona\, 08003
ATTACH;FMTTYPE=image/png:https://sostrecivic.jamgo.org/wp-content/uploads/2021/11/1121-Debat-Arquitectura_H_cat-e1637839765362.png
END:VEVENT
BEGIN:VEVENT
DTSTART;TZID=Europe/Madrid:20211214T090000
DTEND;TZID=Europe/Madrid:20211214T130000
DTSTAMP:20260424T080713
CREATED:20211201T165810Z
LAST-MODIFIED:20211201T165810Z
UID:8280-1639472400-1639486800@sostrecivic.jamgo.org
SUMMARY:Jornada “Cooperativisme d’habitatge en cessió d’ús: el paper de les administracions per crear un entorn favorable”
DESCRIPTION:El 14 de desembre de 10h a 12h tindrà lloc la Jornada “Cooperativisme d’habitatge encessió d´ús: el paper de les administracions per crear un entorn favorable” a la Lleialtat Santsenca. \nOrganitzat per la Direcció General de l’Economia Social i Solidària\, el Tercer Sector i les Cooperatives i la Federació de Cooperatives d’Habitatge de Catalunya\, amb l’objectiu de visibilitzar experiències de cooperatives d’habitatge en sessió d’ús i identificar iniciatives de l’administració pública per promoure aquest model. \nConsulta el programa i link per inscriure’s aquí.
URL:https://sostrecivic.jamgo.org/agenda/jornada-cooperativisme-dhabitatge-en-cessio-dus-el-paper-de-les-administracions-per-crear-un-entorn-favorable/
LOCATION:Lleialtat Santsenca\, carrer Olzinelles\, 31\, Barcelona\, 08014
ATTACH;FMTTYPE=image/png:https://sostrecivic.jamgo.org/wp-content/uploads/2021/12/Habitatge_Capcalera-2.png
END:VEVENT
BEGIN:VEVENT
DTSTART;TZID=Europe/Madrid:20211214T180000
DTEND;TZID=Europe/Madrid:20211214T200000
DTSTAMP:20260424T080713
CREATED:20211125T233414Z
LAST-MODIFIED:20211125T233506Z
UID:8218-1639504800-1639512000@sostrecivic.jamgo.org
SUMMARY:Presentació del documental”FINANCES QUE TRANSFORMEN”
DESCRIPTION:FETS-Finançament Ètic i Solidari ens conviden a la preestrena del documental “Finances que transformen. Finances ètiques i cooperatives a Barcelona”\, el proper dimarts 14 de desembre a les 19h\, als Cinemes Girona.\nCol•loqui posterior amb la participació dels projectes participants. Entre d’ells\, La Balma\, el projecte d’habitatge cooperatiu al Poblenou de Sostre Cívic. \nUs hi esperem! \nAmb inscripció prèvia: https://forms.gle/quZfAdcJSa7D7zkt8  
URL:https://sostrecivic.jamgo.org/agenda/presentacio-del-documentalfinances-que-transformen/
ATTACH;FMTTYPE=image/jpeg:https://sostrecivic.jamgo.org/wp-content/uploads/2021/11/Copia-Pau-de-finances-que-transformen-3-e1637879695676.jpg
END:VEVENT
BEGIN:VEVENT
DTSTART;TZID=Europe/Madrid:20211215T083000
DTEND;TZID=Europe/Madrid:20211215T133000
DTSTAMP:20260424T080713
CREATED:20211201T164927Z
LAST-MODIFIED:20211201T165017Z
UID:8273-1639557000-1639575000@sostrecivic.jamgo.org
SUMMARY:COOPUBLIC: Jornada de colaboración público cooperativa para el impulso de la vivienda en cesión de uso
DESCRIPTION:Desde el Grupo de Vivienda en REAS Red de Redes queremos visibilizar la vivienda cooperativa en cesión de uso sin ánimo de lucro como eje central y articulador para alcanzar un desarrollo sostenible. En este marco\, organizamos COOPUBLIC: “Jornada de colaboración público cooperativa para el impulso de la vivienda en cesión de uso”\, que tendrá lugar de manera online el próximo miércoles 15 de diciembre por la mañana de 9:30-14:30h \n¡Os esperamos! \nGratuita por videoconferencia con inscripción previa www.coopublic.org \nContaremos con destacadas experiencias de colaboración y avances de diferentes proyectos\, entidades y administraciones públicas del Estado.
URL:https://sostrecivic.jamgo.org/agenda/coopublic-jornada-de-colaboracion-publico-cooperativa-para-el-impulso-de-la-vivienda-en-cesion-de-uso/
LOCATION:En linia
ATTACH;FMTTYPE=image/jpeg:https://sostrecivic.jamgo.org/wp-content/uploads/2021/12/WhatsApp-Image-2021-12-01-at-15.09.09-e1638373661868.jpeg
END:VEVENT
BEGIN:VEVENT
DTSTART;TZID=Europe/Madrid:20211216T160000
DTEND;TZID=Europe/Madrid:20211216T173000
DTSTAMP:20260424T080713
CREATED:20211102T093703Z
LAST-MODIFIED:20211215T142417Z
UID:8011-1639670400-1639675800@sostrecivic.jamgo.org
SUMMARY:Sessió informativa mensual
DESCRIPTION:T’interessa formar part d’un projecte d’habitatge cooperatiu però no saps per on començar? Vols saber què fem a Sostre Cívic i els projectes que tenim actius? T’agradaria conèixer més a fons el model d’habitatge en cessió d’ús? \nVine a aquesta xerrada informativa i oberta per a les persones interessades\, futurs nous socis i també per aquelles persones sòcies que vulguin aprofundir sobre el model de cessió d’ús i conèixer com s’organitza la nostra activitat. \nT’hi esperem  \n\nQuan?\nEl dijous 16 de desembre\, de 17:00 a 18:30 hores. \nA on?\nXerrada en línia. Passarem l’enllaç de l’acte per correu electrònic a les persones inscrites el dia anterior. \n  \n\nINSCRIU-TE AL FORMULARI\n \n\n\n\n\n\n\n\n﻿﻿﻿﻿
URL:https://sostrecivic.jamgo.org/agenda/sessio-informativa-mensual-desembre-21/
LOCATION:En linia
CATEGORIES:Xerrades
ORGANIZER;CN="Sostre C%C3%ADvic":MAILTO:info@sostrecivic.cat
END:VEVENT
BEGIN:VEVENT
DTSTART;TZID=Europe/Madrid:20211218T090000
DTEND;TZID=Europe/Madrid:20211218T170000
DTSTAMP:20260424T080713
CREATED:20211126T111226Z
LAST-MODIFIED:20211217T105114Z
UID:8257-1639818000-1639846800@sostrecivic.jamgo.org
SUMMARY:Jornada: Construïm col·lectivament El Turrós!
DESCRIPTION:Vine a conèixer el grup i la masia i participar de la construcció col·lectiva d’aquest projecte! \nTornem a obrir portes a qui tingui ganes de donar un cop de mà 💪🌱 amb algunes de les tasques que tenim engegades: netejant feixes\, fent 🚽 vàters secs\, tractament d’aigües grises\, fer llenya🪓 …tot un Festival d’✊🏿 autosuficiència que volem i necessitem compartir!! \n📌Si t’animes a venir a donar un cop de mà: \n1️⃣ Avisa que vens a algú del Turrós o escriu a casacomu@riseup.net\n2️⃣ Porta les eines que tinguis\, guants i roba còmoda\n3️⃣ Nosaltres posem el dinar i el bon rotllo \nSi ens dius que vens\, t’enviarem més detalls. \n🤷🏻‍♀️I si no pots venir aquest cop\, apunta’t a les properes!! \nAnirem informant! \n  \n📣 I si vols saber el que passa i anem fent al Turrós ☑️\napunta’t al nou canal de Telegram 🔔 https://t.me/elturros 🌳🌳🐿Difusió El Turrós🐓🌳🌳 \n  \n😝Salut i alegria😘 \n 
URL:https://sostrecivic.jamgo.org/agenda/jornada-construim-collectivament-el-turros/
LOCATION:El Turrós\, Zona Santa Magdalena\, 7. Mas El Turrós.\, Arguelaguer\, La Garrotxa
CATEGORIES:Trobades
END:VEVENT
END:VCALENDAR