BEGIN:VCALENDAR
VERSION:2.0
PRODID:-//Sostre Cívic - ECPv6.10.1.1//NONSGML v1.0//EN
CALSCALE:GREGORIAN
METHOD:PUBLISH
X-ORIGINAL-URL:https://sostrecivic.jamgo.org
X-WR-CALDESC:Events for Sostre Cívic
REFRESH-INTERVAL;VALUE=DURATION:PT1H
X-Robots-Tag:noindex
X-PUBLISHED-TTL:PT1H
BEGIN:VTIMEZONE
TZID:Europe/Madrid
BEGIN:DAYLIGHT
TZOFFSETFROM:+0100
TZOFFSETTO:+0200
TZNAME:CEST
DTSTART:20210328T010000
END:DAYLIGHT
BEGIN:STANDARD
TZOFFSETFROM:+0200
TZOFFSETTO:+0100
TZNAME:CET
DTSTART:20211031T010000
END:STANDARD
END:VTIMEZONE
BEGIN:VEVENT
DTSTART;TZID=Europe/Madrid:20211009T110000
DTEND;TZID=Europe/Madrid:20211009T130000
DTSTAMP:20260424T101855
CREATED:20210929T145650Z
LAST-MODIFIED:20210930T083954Z
UID:7714-1633777200-1633784400@sostrecivic.jamgo.org
SUMMARY:Girona: Suma't a Walden XXI
DESCRIPTION:Coneix el projecte Walden XXI!\nFa 3 anys vam començar el projecte del primer habitatge cooperatiu sènior a Catalunya… i esperem fer-ho possible el 2023\, que és la data prevista per entrar-hi a viure! Rehabilitarem un antic hotel a Sant Feliu de Guíxols per reconvertir-lo en 31 apartaments privats i diferents espais comunitaris (un 20% de la superfície del projecte) com sales polivalents\, cuina\, menjador\, biblioteca-ordinadors\, bugaderia\, trasters\, terrasses\, jardí interior\, terrasses\, tallers bricolatge\, magatzem\, etc. \nEn aquesta pàgina pots consultar més informació de Walden XXI i\, si vols conèixer més del nostre projecte\, et convidem a aquesta sessió informativa presencial. \nQuan?\nEl dissabte 9 d’octubre\, de 11:00 a 13:00 hores. \nA on?\n\nCentre Cívic Sta.Eugènia ‘Can Ninetes’\nCarrer Santa Eugènia\, 146 GIRONA\n\n\nPlaces limitades pel COVID19. INSCRIU-TE AL FORMULARI ABANS DEL DIVENDRES 8 D’OCTUBRE\n \n\n\n\n\n\n\n\n﻿﻿﻿﻿﻿
URL:https://sostrecivic.jamgo.org/agenda/girona-sumat-a-walden-xxi/
LOCATION:Centre Cívic Sta.Eugènia ‘Can Ninetes’\, Carrer Santa Eugènia\, 146\, Girona
CATEGORIES:Xerrades
ATTACH;FMTTYPE=image/jpeg:https://sostrecivic.jamgo.org/wp-content/uploads/2021/09/2021-Campanya-Walden21.jpg
END:VEVENT
BEGIN:VEVENT
DTSTART;TZID=Europe/Madrid:20211016T100000
DTEND;TZID=Europe/Madrid:20211016T200000
DTSTAMP:20260424T101855
CREATED:20211001T122959Z
LAST-MODIFIED:20211001T122959Z
UID:7737-1634378400-1634414400@sostrecivic.jamgo.org
SUMMARY:Jornada sobre Cooperatives d'habitatge en cessió d'ús al Baix Montseny
DESCRIPTION:El pròxim dissabte 16 d’octubre tindrà lloc a Sant Antoni de Vilamajor una jornada organitzada per la cooperativa d’habitatge Can Tomàs Toni –una masia a Sant Antoni de Vilamajor–\, conjuntament amb la cooperativa Colab i l’Ateneu Popular de Vilamajor\, amb la col·laboració de la Federació de Cooperatives d’Habitatge de Catalunya i l’Ajuntament de Sant Antoni de Vilamajor. \nSota el lema “Què fer des de l’àmbit municipal per donar suport a aquest model? es farà al Parc de Can Sauleda\, de 10 a 20 h. \nPer participar caldrà inscripció prèvia en aquest formulari. \nSi voleu tenir més informació\, podeu escriure aquí: contacte@cantomastoni.cat \nEl programa de la jornada és el següent: \n10 a 14 h – Ponències amb debat: \n\nBenvinguda i presentacions\nSostre Cívic – David Guàrdia: marc legal i context general\, reptes a nivell Català\nLa Dinamo – Glòria Rubio: marc legal municipal i camp d’acció per als Ajuntaments\nExperiències municipals al territori: regidors i regidores\nExperiència de projecte al territori\nPreguntes i debat\n\n\nTemps lliure per dinar: portar carmanyola per dinar i paradetes al voltant)\n\n15.30 a 18.30 h – Espai d’intercanvi i xarxa de projectes (espai participatiu): \n\nRoda de presentació de projectes/persones (projectes urbans i rurals de cohabitatge)\nObstacles i propostes dels projectes\nFem xarxa per ser més fortes: què volem fer juntes?\n\n19 h – Concert Km0: AYDE Quatuor folk world d’autor
URL:https://sostrecivic.jamgo.org/agenda/jornada-sobre-cooperatives-dhabitatge-en-cessio-dus-al-baix-montseny/
LOCATION:Parc de Can Sauleda\, Parc de Can Sauleda\, Sant Antoni de Vilamajor\, Espanya
CATEGORIES:Xerrades
ATTACH;FMTTYPE=image/png:https://sostrecivic.jamgo.org/wp-content/uploads/2021/10/FAnQflpWQAErXqA.png
END:VEVENT
BEGIN:VEVENT
DTSTART;TZID=Europe/Madrid:20211016T110000
DTEND;TZID=Europe/Madrid:20211016T130000
DTSTAMP:20260424T101855
CREATED:20210930T072442Z
LAST-MODIFIED:20210930T083930Z
UID:7721-1634382000-1634389200@sostrecivic.jamgo.org
SUMMARY:Sant Feliu de Guíxols: Suma't a Walden XXI
DESCRIPTION:Coneix el projecte Walden XXI!\nFa 3 anys vam començar el projecte del primer habitatge cooperatiu sènior a Catalunya… i esperem fer-ho possible el 2023\, que és la data prevista per entrar-hi a viure! Rehabilitarem un antic hotel a Sant Feliu de Guíxols per reconvertir-lo en 31 apartaments privats i diferents espais comunitaris (un 20% de la superfície del projecte) com sales polivalents\, cuina\, menjador\, biblioteca-ordinadors\, bugaderia\, trasters\, terrasses\, jardí interior\, terrasses\, tallers bricolatge\, magatzem\, etc. \nEn aquesta pàgina pots consultar més informació de Walden XXI i\, si vols conèixer més del nostre projecte\, et convidem a aquesta sessió informativa presencial. \nQuan?\nEl dissabte 16 d’octubre\, de 11:00 a 13:00 hores. \nA on?\n\nBiblioteca Pública Octavi Viader i Margarit\nCarrer de Joan Suris\, 28\, 34\, 17220 Sant Feliu de Guíxols\n\nPlaces limitades pel COVID19. INSCRIU-TE AL FORMULARI ABANS DEL DIVENDRES 15 D’OCTUBRE\n \n\n\n\n\n\n\n\n﻿﻿﻿﻿﻿﻿
URL:https://sostrecivic.jamgo.org/agenda/sant-feliu-de-guixols-sumat-a-walden-xxi/
LOCATION:Biblioteca Pública Octavi Viader i Margarit\, Carrer de Joan Suris\, 28-34\, Sant Feliu de Guíxols\, 17220
CATEGORIES:Xerrades
ATTACH;FMTTYPE=image/jpeg:https://sostrecivic.jamgo.org/wp-content/uploads/2021/09/2021-Campanya-Walden21_SFG-e1632986763423.jpg
END:VEVENT
BEGIN:VEVENT
DTSTART;TZID=Europe/Madrid:20211022T163000
DTEND;TZID=Europe/Madrid:20211022T173000
DTSTAMP:20260424T101855
CREATED:20210930T171901Z
LAST-MODIFIED:20210930T171901Z
UID:7735-1634920200-1634923800@sostrecivic.jamgo.org
SUMMARY:Open House: Visita Princesa49
DESCRIPTION:Visita a la primera iniciativa d’habitatge cooperatiu de Barcelona\, un projecte comunitari i sostenible. \nPrincesa49 és la primera iniciativa d’habitatge cooperatiu a Barcelona que es va pensar en comú per viure en comú. \nAl ser un projecte d’habitatge col·lectiu descobrirem no només la seva arquitectura\, sinó també el valor que li han donat a les cures i a les emocions de les persones que hi viuen. \nEn aquesta visita guiada ens presentaran com es va gestar el projecte i visitarem els diversos espais que conformen l’edifici\, des dels habitatge particulars fins als serveis comunitaris. També veurem les diferents actuacions que s‘han dut a terme per a reduir i optimitzar el consum\, com són l’aïllament de totes les parets exteriors amb suro i fang\, la millora i recuperació de les fusteries\, la incorporació de sistemes radiants i la centralització de totes les instal·lacions (caldera de pèl·lets\, plaques solars\, dipòsit d’aigües pluvials i dipòsit de reciclatge d’aigües grises). \nA càrrec de la cooperativa Sostre Cívic. \nOrganitzat per l’Aula Ambiental de Ciutat Vella. \nEn el marc de l’Open House. \nCal inscripció prèvia.
URL:https://sostrecivic.jamgo.org/agenda/open-house-visita-princesa49-2/
LOCATION:Princesa49\, c. Princesa\, 49\, Barcelona\, 08003
END:VEVENT
BEGIN:VEVENT
DTSTART;TZID=Europe/Madrid:20211022T180000
DTEND;TZID=Europe/Madrid:20211022T190000
DTSTAMP:20260424T101855
CREATED:20210930T171743Z
LAST-MODIFIED:20210930T171743Z
UID:7732-1634925600-1634929200@sostrecivic.jamgo.org
SUMMARY:Open House: Visita Princesa49
DESCRIPTION:Visita a la primera iniciativa d’habitatge cooperatiu de Barcelona\, un projecte comunitari i sostenible. \nPrincesa49 és la primera iniciativa d’habitatge cooperatiu a Barcelona que es va pensar en comú per viure en comú. \nAl ser un projecte d’habitatge col·lectiu descobrirem no només la seva arquitectura\, sinó també el valor que li han donat a les cures i a les emocions de les persones que hi viuen. \nEn aquesta visita guiada ens presentaran com es va gestar el projecte i visitarem els diversos espais que conformen l’edifici\, des dels habitatge particulars fins als serveis comunitaris. També veurem les diferents actuacions que s‘han dut a terme per a reduir i optimitzar el consum\, com són l’aïllament de totes les parets exteriors amb suro i fang\, la millora i recuperació de les fusteries\, la incorporació de sistemes radiants i la centralització de totes les instal·lacions (caldera de pèl·lets\, plaques solars\, dipòsit d’aigües pluvials i dipòsit de reciclatge d’aigües grises). \nA càrrec de la cooperativa Sostre Cívic. \nOrganitzat per l’Aula Ambiental de Ciutat Vella. \nEn el marc de l’Open House. \nCal inscripció prèvia.
URL:https://sostrecivic.jamgo.org/agenda/open-house-visita-princesa49/
LOCATION:Princesa49\, c. Princesa\, 49\, Barcelona\, 08003
END:VEVENT
BEGIN:VEVENT
DTSTART;TZID=Europe/Madrid:20211023T183000
DTEND;TZID=Europe/Madrid:20211023T203000
DTSTAMP:20260424T101855
CREATED:20211020T175540Z
LAST-MODIFIED:20211020T175540Z
UID:7980-1635013800-1635021000@sostrecivic.jamgo.org
SUMMARY:FESC2021: Habitatge Cooperatiu\, presents i futurs
DESCRIPTION:Aquest dissabte ens retrobem (presencialment\, per fi!) a la FESC! La Fira de l’Economia Solidària de Catalunya.  \n⛺ Durant el cap de setmana tindrem un expositor al recinte de la Fabra&Coats de Sant Andreu (Barcelona). \nA més\, aprofitant que la FESC fa 10 anys\, farem una activitat conjunta de tot el moviment per l’habitatge cooperatiu en cessió d’ús de Catalunya: \n🗓️ Dissabte 23 octubre\n🕡 18.30h\n📍Fabra&Coats\, sala Elisa Garcia.\n⏳ No cal inscripció prèvia\, però vine 15 minuts abans per guardar plaça! \nDurant l’activitat hi haurà dinàmiques per tal que tothom pugui participar per tal de fer balanç i projectar el futur del sector\, ara que quasi fem 20 anys des del 2004. \nL’activitat està oberta a tothom qui vingui aquell dia. Principalment persones implicades amb el sector\, però també i especialment al moviment pel dret a l’habitatge\, institucions i altres sectors claus (energia\, telecomunicacions\, aigua\, consum\, etc). \nEns veiem dissabte?  \n🗓 Pots consultar la resta d’activitats de la FESC aquí. \n🐤 Ajuda’ns a fer difusió de l’activitat amb un RT a Twitter.
URL:https://sostrecivic.jamgo.org/agenda/fesc2021-habitatge-cooperatiu-presents-i-futurs/
LOCATION:Fabra i Coats: Fàbrica de Creació\, Carrer de Sant Adrià\, 20\, Barcelona\, 08030
CATEGORIES:Fires
ATTACH;FMTTYPE=image/png:https://sostrecivic.jamgo.org/wp-content/uploads/2021/10/1021-XesHabitatge_FESC21.png
ORGANIZER;CN="Sectorial d'Habitatge de la XES":MAILTO:habitatge@xes.cat
END:VEVENT
BEGIN:VEVENT
DTSTART;TZID=Europe/Madrid:20211028T193000
DTEND;TZID=Europe/Madrid:20211028T210000
DTSTAMP:20260424T101855
CREATED:20211006T164005Z
LAST-MODIFIED:20211006T164032Z
UID:7780-1635449400-1635454800@sostrecivic.jamgo.org
SUMMARY:Conversa “Suport mutu i autoocupació per a l’emancipació”
DESCRIPTION:Arriba la tardor i el projecte Lliures no s’atura! Us convidem a participar en el cicle de converses “Suport mutu i autoocupació per a l’emancipació”\, que s’estendrà arreu del territori durant els mesos d’octubre i novembre.  \nDiversos municipis catalans acolliran projectes de la família Lliures i altres iniciatives amb les quals fem xarxa\, per desplegar exemples d’èxit en el terreny de l’emancipació de la pobresa\, l’exclusió i les desigualtats. \nAlternatives al mercat immobiliari\, cooperatives que posen les persones al centre\, xarxes comunitàries que vinculen col·lectius i veïnes al territori… En cadascuna de les trobades podreu conèixer de primera mà els projectes\, parlar amb les persones que els impulsen i veure en quines accions i resultats concrets s’ha traduït el suport rebut per part de Lliures. \nL’assistència s’ha de confirmar amb la reserva prèvia: \n\nSants (Barcelona). Dijous 28 d’octubre\, a les 19.30 h\, a la Lleialtat Santsenca. \n\nConversa “El suport mutu”\, de la mà de Iolanda Fresnillo\, sociòloga especialitzada en deute. Amb Sostre Cívic\, Punt de Referència\, La Troca i Enginyeria Sense Fronteres. Inscriu-te aquí!
URL:https://sostrecivic.jamgo.org/agenda/conversa-suport-mutu-i-autoocupacio-per-a-lemancipacio/
LOCATION:Lleialtat Santsenca\, carrer Olzinelles\, 31\, Barcelona\, 08014
CATEGORIES:Xerrades
ATTACH;FMTTYPE=image/jpeg:https://sostrecivic.jamgo.org/wp-content/uploads/2021/10/FBAxxR1VcAQBn8F.jpg
END:VEVENT
BEGIN:VEVENT
DTSTART;TZID=Europe/Madrid:20211029T170000
DTEND;TZID=Europe/Madrid:20211029T183000
DTSTAMP:20260424T101855
CREATED:20210929T094514Z
LAST-MODIFIED:20210929T094600Z
UID:7703-1635526800-1635532200@sostrecivic.jamgo.org
SUMMARY:Sessió informativa mensual octubre 21
DESCRIPTION:T’interessa formar part d’un projecte d’habitatge cooperatiu però no saps per on començar? Vols saber què fem a Sostre Cívic i els projectes que tenim actius? T’agradaria conèixer més a fons el model d’habitatge en cessió d’ús? \nVine a aquesta xerrada informativa i oberta per a les persones interessades\, futurs nous socis i també per aquelles persones sòcies que vulguin aprofundir sobre el model de cessió d’ús i conèixer com s’organitza la nostra activitat. \nT’hi esperem  \n\nQuan?\nEl divendres 29 d’octubre\, de 17:00 a 18:30 hores. \nA on?\nXerrada en línia. Passarem l’enllaç de l’acte per correu electrònic a les persones inscrites el dia anterior. \n  \n\nINSCRIU-TE AL FORMULARI ABANS DEL DIJOUS 28 D’OCTUBRE\n \n\n\n\n\n\n\n\n﻿﻿﻿﻿
URL:https://sostrecivic.jamgo.org/agenda/sessio-informativa-mensual-octubre-21/
LOCATION:En linia
CATEGORIES:Xerrades
ATTACH;FMTTYPE=image/jpeg:https://sostrecivic.jamgo.org/wp-content/uploads/2021/10/SessioInfoMensual_1021-e1632908752935.jpg
ORGANIZER;CN="Sostre C%C3%ADvic":MAILTO:info@sostrecivic.cat
END:VEVENT
END:VCALENDAR