BEGIN:VCALENDAR
VERSION:2.0
PRODID:-//Sostre Cívic - ECPv6.10.1.1//NONSGML v1.0//EN
CALSCALE:GREGORIAN
METHOD:PUBLISH
X-WR-CALNAME:Sostre Cívic
X-ORIGINAL-URL:https://sostrecivic.jamgo.org
X-WR-CALDESC:Events for Sostre Cívic
REFRESH-INTERVAL;VALUE=DURATION:PT1H
X-Robots-Tag:noindex
X-PUBLISHED-TTL:PT1H
BEGIN:VTIMEZONE
TZID:Europe/Madrid
BEGIN:DAYLIGHT
TZOFFSETFROM:+0100
TZOFFSETTO:+0200
TZNAME:CEST
DTSTART:20210328T010000
END:DAYLIGHT
BEGIN:STANDARD
TZOFFSETFROM:+0200
TZOFFSETTO:+0100
TZNAME:CET
DTSTART:20211031T010000
END:STANDARD
END:VTIMEZONE
BEGIN:VEVENT
DTSTART;TZID=Europe/Madrid:20210612T100000
DTEND;TZID=Europe/Madrid:20210612T140000
DTSTAMP:20260424T145354
CREATED:20210607T200336Z
LAST-MODIFIED:20210607T200336Z
UID:7083-1623492000-1623506400@sostrecivic.jamgo.org
SUMMARY:Aprenentatges comunitaris en l'habitatges cooperatiu
DESCRIPTION:Des de la sectorial d’habitatge cooperatiu en cesisó d’ús de la Xarxa d’Economia Solidària organitzem la 1ra trobada per compartir aprenentatges entre comunitats d’habitatge cooperatiu. L’objectiu es centrar-nos en les nostres necessitats\, en les bones pràctiques que anem aprenent i en compartir-ho des d’una vessant pràctica i aplicada\, eines\, recursos\, etc. \nAquest espai pretent ser el tret de sortida tant de les pròpies dinàmiques de trobades anuals per compartir aprenentatges\, com d’un espai més estable a la sectorial per compartir i apoderar-nos entre les comunitats. \nLa primera trobada serà com ja us hem comentat el 12 de Juny de 10h a 14h a Coopolis\, a Can Batlló\, c/Constitució 19-25. BLOC 8. \nPer questions de limitacions d’espai (30 persones)\, es demanen que només dues persones de la comunitat assiteixin. Si superem la capacitat\, obrirem una finestra virtual per participar a distància. És prioritzarà les comunitats que estiguin associades a la sectorial de la XES i l’estat de maduració del projecte. \nPer les que ho vulguin farem un dinar de traje (cadascú portant alguna cosa) \nInscriu-te aquí\n 
URL:https://sostrecivic.jamgo.org/agenda/aprenentatges-comunitaris-en-lhabitatges-cooperatiu/
LOCATION:Coòpolis\, C/Constitució 19-25\, Bloc 8\, Barcelona
CATEGORIES:Trobades
ATTACH;FMTTYPE=image/jpeg:https://sostrecivic.jamgo.org/wp-content/uploads/2021/06/0621_SC_CartellCoopolis_AprenentatgeComunitari-01.jpg
END:VEVENT
BEGIN:VEVENT
DTSTART;TZID=Europe/Madrid:20210617T170000
DTEND;TZID=Europe/Madrid:20210617T190000
DTSTAMP:20260424T145354
CREATED:20210608T101938Z
LAST-MODIFIED:20210608T102207Z
UID:7095-1623949200-1623956400@sostrecivic.jamgo.org
SUMMARY:El dret a l'habitatge a Catalunya i al món
DESCRIPTION:Bombolla immobiliària\, desnonaments\, lloguers impossibles\, parc d’habitatge assequible insuficient\, formes alternatives i no especulatives per accedir a l’habitatge\, polítiques públiques… L’habitatge és un dels grans temes que ha estat a l’agenda els darrers 10 anys a Catalunya. Protegir i garantir el dret a l’habitatge digne i adequat és un dels grans reptes que del nostre temps i no només a casa nostra\, sinó arreu. En aquesta formació parlarem i debatrem sobre l’estat del dret a l’habitatge a casa nostra i al món\, i sobre com transformar l’injust i ineficient model d’habitatge actual per un que garanteixi l’habitatge com un dret fonamental per a totes.  \nA càrrec de Guillem Domingo\, Tècnic d’habitatge i ciutat de l’Observatori DESC. Responsable de l’àrea d’habitatge. Formació i experiència: Llicenciat en Ciències Ambientals (UAB\, 2008) i Màster de Gestió de la Ciutat (UOC\, 2011). Experiència en dret a l’habitatge\, emergència habitacional\, urbanisme\, territori i dret a la ciutat. Participant de moviments socials en defensa de l’habitatge i del Grup Promotor de la Llei 24/2015. \nActivitat per a sòcies – Activitat en línia amb inscripció a través de La Interna.
URL:https://sostrecivic.jamgo.org/agenda/el-dret-a-lhabitatge-a-catalunya-i-al-mon/
LOCATION:En linia
CATEGORIES:Formació sòcies
END:VEVENT
BEGIN:VEVENT
DTSTART;TZID=Europe/Madrid:20210617T190000
DTEND;TZID=Europe/Madrid:20210617T210000
DTSTAMP:20260424T145354
CREATED:20210607T194028Z
LAST-MODIFIED:20210607T194028Z
UID:7078-1623956400-1623963600@sostrecivic.jamgo.org
SUMMARY:ESTRATÈGIES PER PROMOURE L’ACCÉS A L’HABITATGE AL MÓN RURAL: Habitatge social\, masoveria rural i cooperativisme d’habitatge en cessió d’ús.
DESCRIPTION:Habitatge social: Experiències pilot del programa de promoció de l’habitatge al món rural. Ajuntament de Pinós (Solsonès)\, Pinós (Solsonès) i de Vallcebre (Berguedà).\nMés enllà de la compra i el lloguer\, models alternatius d’accés i tinença d’habitatge: la masoveria i el cooperativisme d’habitatge en cessió d’ús. Mandi Domingo (Sostre Cívic)\nCooperativisme en cessió d’ús i accés al finançament. Guillem Fernández (Coop57)\nExperiències al Solsonès i al Berguedà: Construïm la Llançadora (Berguedà)\, El Konvent puntzero (Berguedà).\n\nInscripcions: https://serveis.coopcatcentral.cat/program/lacces-a-lhabitatge-al-mon-rural-solsones-bergueda
URL:https://sostrecivic.jamgo.org/agenda/estrategies-per-promoure-lacces-a-lhabitatge-al-mon-rural-habitatge-social-masoveria-rural-i-cooperativisme-dhabitatge-en-cessio-dus/
LOCATION:En linia
ATTACH;FMTTYPE=image/jpeg:https://sostrecivic.jamgo.org/wp-content/uploads/2021/06/acces_habitatge_proposta_2-021-e1623094736454.jpeg
END:VEVENT
BEGIN:VEVENT
DTSTART;TZID=Europe/Madrid:20210621T180000
DTEND;TZID=Europe/Madrid:20210621T200000
DTSTAMP:20260424T145354
CREATED:20210527T182707Z
LAST-MODIFIED:20210527T182707Z
UID:6981-1624298400-1624305600@sostrecivic.jamgo.org
SUMMARY:Present i futur del model d’Habitatge cooperatiu en cessió d’ús per a persones grans a Barcelona
DESCRIPTION:Organitzat per Coòpolis\, Ateneu Cooperatiu de Barcelona\, en aquesta sessió donarem a conèixer el cohabitatge sènior\, una tipologia específica dins el model de l’habitatge cooperatiu en cessió d’ús\, i coneixerem el grup Can70\, que promou un projecte d’aquestes característiques a la ciutat de Barcelona. \nEn línia i amb inscripció prèvia.\nInscriu-te aquí abans del 20 de juny de 2021.
URL:https://sostrecivic.jamgo.org/agenda/present-i-futur-del-model-dhabitatge-cooperatiu-en-cessio-dus-per-a-persones-grans-a-barcelona/
LOCATION:En linia
ATTACH;FMTTYPE=image/png:https://sostrecivic.jamgo.org/wp-content/uploads/2021/05/0521_SC_CartellCoopolis_gentgran-01.png
END:VEVENT
BEGIN:VEVENT
DTSTART;TZID=Europe/Madrid:20210629T170000
DTEND;TZID=Europe/Madrid:20210629T183000
DTSTAMP:20260424T145354
CREATED:20210318T105338Z
LAST-MODIFIED:20210318T105338Z
UID:6551-1624986000-1624991400@sostrecivic.jamgo.org
SUMMARY:Sessió informativa mensual juny21
DESCRIPTION:T’interessa formar part d’un projecte d’habitatge cooperatiu però no saps per on començar? Vols saber què fem a Sostre Cívic i els projectes que tenim actius? T’agradaria conèixer més a fons el model d’habitatge en cessió d’ús? \nVine a aquesta xerrada informativa i oberta per a les persones interessades\, futurs nous socis i també per aquelles persones sòcies que vulguin aprofundir sobre el model de cessió d’ús i conèixer com s’organitza la nostra activitat. \nT’hi esperem  \n\nQuan?\nEl dimarts 29 de juny\, de 17:00 a 18:30 hores. \nA on?\nXerrada en línia. Passarem l’enllaç de l’acte per correu electrònic a les persones inscrites el dia anterior. \n  \n\nINSCRIU-TE AL FORMULARI ABANS DEL DIVENDRES 25 DE JUNY\n \n\n\n\n\n\n\n\n﻿﻿﻿﻿
URL:https://sostrecivic.jamgo.org/agenda/sessio-informativa-mensual-juny21/
CATEGORIES:Xerrades
ORGANIZER;CN="Sostre C%C3%ADvic":MAILTO:info@sostrecivic.cat
END:VEVENT
END:VCALENDAR