BEGIN:VCALENDAR
VERSION:2.0
PRODID:-//Sostre Cívic - ECPv6.10.1.1//NONSGML v1.0//EN
CALSCALE:GREGORIAN
METHOD:PUBLISH
X-ORIGINAL-URL:https://sostrecivic.jamgo.org
X-WR-CALDESC:Events for Sostre Cívic
REFRESH-INTERVAL;VALUE=DURATION:PT1H
X-Robots-Tag:noindex
X-PUBLISHED-TTL:PT1H
BEGIN:VTIMEZONE
TZID:Europe/Madrid
BEGIN:DAYLIGHT
TZOFFSETFROM:+0100
TZOFFSETTO:+0200
TZNAME:CEST
DTSTART:20210328T010000
END:DAYLIGHT
BEGIN:STANDARD
TZOFFSETFROM:+0200
TZOFFSETTO:+0100
TZNAME:CET
DTSTART:20211031T010000
END:STANDARD
END:VTIMEZONE
BEGIN:VEVENT
DTSTART;TZID=Europe/Madrid:20210505T190000
DTEND;TZID=Europe/Madrid:20210505T203000
DTSTAMP:20260424T161114
CREATED:20210430T153546Z
LAST-MODIFIED:20210430T153614Z
UID:6817-1620241200-1620246600@sostrecivic.jamgo.org
SUMMARY:Impuls d'habitatge cooperatiu en cessió d'ús a Igualada
DESCRIPTION:Saps què és l’habitatge cooperatiu? Coneixes els seus avantatges i els valors en que es basa? T’agradaria viure en un projecte d’aquestes característiques a Igualada? \nConjuntament amb l’Ateneu Cooperatiu de la Catalunya Central\, presentem aquesta xerrada sobre habitatge cooperatiu en cessió d’ús\, un model alternatiu de tinença d’habitatge amb gran potencial de transformació social. \n\nT’hi esperem  \n\nQuan?\nEl dimecres 5 de maig\, de 19:00 a 20:30 hores. \nA on?\nXerrada en línia. Passarem l’enllaç de l’acte per correu electrònic a les persones inscrites el dia anterior. \n  \n\nINSCRIU-TE AL FORMULARI ABANS DEL DIMARTS 4 DE MAIG\n \n\n\n\n\n\n\n\n﻿﻿﻿﻿﻿
URL:https://sostrecivic.jamgo.org/agenda/impuls-dhabitatge-cooperatiu-en-cessio-dus-a-igualada/
ATTACH;FMTTYPE=image/png:https://sostrecivic.jamgo.org/wp-content/uploads/2021/04/0521-xerrada-igualada-e1619796918866.png
END:VEVENT
BEGIN:VEVENT
DTSTART;TZID=Europe/Madrid:20210513T163000
DTEND;TZID=Europe/Madrid:20210513T180000
DTSTAMP:20260424T161114
CREATED:20210510T165846Z
LAST-MODIFIED:20210513T113630Z
UID:6836-1620923400-1620928800@sostrecivic.jamgo.org
SUMMARY:Visita les obres de l'edifici de Cirerers!
DESCRIPTION:Les obres del projecte d’habitatge cooperatiu de Cirerers avancen a bon ritme! \nObrim les visites organitzades a l’edifici de Cirerers\, per compartir les obres del projecte i que puguis viure de primera mà les diferents fases de la construcció d’aquest edifici cooperatiu a Roquetes (Nou Barris). \nPer la visita\, has de tenir en compte les següents indicacions: \n\nPorta sabata tancada: està prohibit entrar amb sandàlies.\nPorta la teva mascareta durant tota la visita.\nSi tens casc d’obra\, porta’l (Si no en tens\, no passa res\, allà en tenim).\nEls nens i les nenes tenen prohibida l’entrada a l’obra.\n\nLa visita serà el dijous 13 de maig a les 16h30\, i dura de 60 a 90 minuts en total. \nPots confirmar la teva assistència abans del dimecres 12 de maig omplint el formulari que tens a baix. Per seguretat\, el grup de persones serà limitat: reserva la teva plaça amb responsabilitat i compromís\, i assegura’t de la teva disponibilitat per venir a l’activitat. \nT’hi esperem! \n \n\n\n\n[FORMULARI TANCAT]
URL:https://sostrecivic.jamgo.org/agenda/visita-les-obres-de-ledifici-de-cirerers/
LOCATION:Cirerers\, Carrer del Pla dels Cirerers\, 2-4\, Barcelona\, 08042
ATTACH;FMTTYPE=image/jpeg:https://sostrecivic.jamgo.org/wp-content/uploads/2021/01/Cirerers-2021-01-28-14.16.52-scaled-e1620740019333.jpg
ORGANIZER;CN="Sostre C%C3%ADvic":MAILTO:info@sostrecivic.cat
END:VEVENT
BEGIN:VEVENT
DTSTART;TZID=Europe/Madrid:20210515T123000
DTEND;TZID=Europe/Madrid:20210515T140000
DTSTAMP:20260424T161114
CREATED:20210427T163451Z
LAST-MODIFIED:20210427T163902Z
UID:6802-1621081800-1621087200@sostrecivic.jamgo.org
SUMMARY:Concentració reivindicativa: Per una via cooperativa al dret a l'habitatge
DESCRIPTION:Un model d’habitatge comunitari\, estable i no especulatiu s’està obrint pas a Catalunya amb els primers projectes d’habitatge cooperatiu en cessió d’ús. Però després d’unes primeres passes de gegant\, el sector es troba amb dificultats d’accés a finançament i de cost econòmic dels projectes. \nLa Sectorial d’habitatge cooperatiu en cessió d’ús de la Xarxa d’Economia Solidària (XES) engega la campanya FEM ASSEQUIBLE L’HABITATGE COOPERATIU! adreçada a diferents administracions públiques a nivell local\, nacional i estatal\, per reclamar mesures que afavoreixin l’assequibilitat de l’habitatge cooperatiu i que aquest tingui un paper clau en la fase de reconstrucció social dels propers mesos i anys. \nDintre de la campanya\, conjuntament amb les diferents entitats de la XES que conformem la sectorial d’habitatge\, ens auto-convoquem el dissabte 15 de maig a les 12.30h a Barcelona\, a Plaça Sant Jaume. Volem fer el 1r acte de força al carrer del moviment català per l’habitatge cooperatiu en cessió d’ús\, com a cloenda de la campanya ‘Fem assequible l’habitatge cooperatiu!‘
URL:https://sostrecivic.jamgo.org/agenda/concentracio-reivindicativa-per-una-via-cooperativa-al-dret-a-lhabitatge/
LOCATION:Plaça sant Jaume\, Barcelona\, plaça Sant Jaume\, Barcelona\, Espanya
ATTACH;FMTTYPE=image/png:https://sostrecivic.jamgo.org/wp-content/uploads/2021/04/0421-XesHabitatge_cartell_-e1619541531325.png
ORGANIZER;CN="Sectorial d'Habitatge de la XES":MAILTO:habitatge@xes.cat
END:VEVENT
BEGIN:VEVENT
DTSTART;TZID=Europe/Madrid:20210521T180000
DTEND;TZID=Europe/Madrid:20210521T200000
DTSTAMP:20260424T161114
CREATED:20210426T202432Z
LAST-MODIFIED:20210520T164250Z
UID:6784-1621620000-1621627200@sostrecivic.jamgo.org
SUMMARY:L'economia del bé comú i les cooperatives
DESCRIPTION:Us convidem a la xerrada virtual oberta organitzada pel grup impulsor del nostre projecte WALDEN XXI i oberta a tothom interessat en el model del cooperativisme i de l’Economia Social. Per Josep Maria Carbò: filòsof\, professor jubilat\, fundador de l’escola de filosofia “El pou” a Girona\, president de l’Associació EBC-Girona que treballa per a la difusió i la implementació de l’Economia del Bé Comú a les comarques gironines.\nT’hi esperem  \n\nQuan?\nEl divendres 21 de maig\, de 18:00 a 20:00 hores. \nA on?\nXerrada en línia. Passarem l’enllaç de l’acte per correu electrònic a les persones inscrites fins al dia anterior. \n  \n\nFORMULARI TANCAT
URL:https://sostrecivic.jamgo.org/agenda/leconomia-del-be-comu-i-les-cooperatives/
CATEGORIES:Xerrades
ATTACH;FMTTYPE=image/png:https://sostrecivic.jamgo.org/wp-content/uploads/2021/04/0421-xerrada-walden-xxi-1-e1619631776210.png
ORGANIZER;CN="Sostre C%C3%ADvic":MAILTO:info@sostrecivic.cat
END:VEVENT
BEGIN:VEVENT
DTSTART;TZID=Europe/Madrid:20210524T110000
DTEND;TZID=Europe/Madrid:20210524T123000
DTSTAMP:20260424T161114
CREATED:20210505T143928Z
LAST-MODIFIED:20210505T144139Z
UID:6828-1621854000-1621859400@sostrecivic.jamgo.org
SUMMARY:Xerrada: L'administració local\, agent clau en la mobilització d'habitatge cooperatiu
DESCRIPTION:L’accés a l’habitatge és una qüestió clau avui en dia. La problemàtica habitacional és quelcom molt present en la societat actual i un gran repte per les administracions. En aquesta xerrada explicarem què és l’habitatge cooperatiu en cessió d’ús\, un nou alternatiu de tinença\, més just i accessible\, sense ànim de lucre\, no especulatiu i transformador. A més a més\, nombrarem de quines maneres des de l’administració local es poden potenciar aquest tipus de projectes i la importància de que siguin un agent clau en el desenvolupament de models que conceben l’habitatge com un bé d’ús i no com un bé d’especulació. \nXerrada en línia amb inscripció prèvia. Inscriu-te aquí. \n[Xerrada co-organitzada amb l’Ateneu Cooperatiu de Terres Gironines.]
URL:https://sostrecivic.jamgo.org/agenda/xerrada-ladministracio-local-agent-clau-en-la-mobilitzacio-dhabitatge-cooperatiu/
LOCATION:En linia
CATEGORIES:Xerrades
ATTACH;FMTTYPE=image/jpeg:https://sostrecivic.jamgo.org/wp-content/uploads/2021/05/cartellinstagram_Habitatge_Cooperatiu-e1620225616407.jpg
ORGANIZER;CN="Ateneu Cooperatiu Terres Gironines":MAILTO:ateneu@ateneucoopgi.org
END:VEVENT
BEGIN:VEVENT
DTSTART;TZID=Europe/Madrid:20210526T180000
DTEND;TZID=Europe/Madrid:20210526T200000
DTSTAMP:20260424T161114
CREATED:20210507T084511Z
LAST-MODIFIED:20210519T152726Z
UID:6843-1622052000-1622059200@sostrecivic.jamgo.org
SUMMARY:Xerrada: L'encaix de l'habitatge cooperatiu en la vida i economia rural
DESCRIPTION:L’habitatge cooperatiu en cessió d’ús creix els darrers anys. Des de la seva primera iniciativa a Catalunya\, fa tretze anys\, és un model que intenta donar resposta a les necessitats d’habitatge assequible\, digne i inclusiu. Però pot respondre a la necessitat social de revitalitzar i repoblar el món rural? Que vol dir quan parlem de repoblament rural? És l’habitatge cooperatiu una fórmula vàlida pels entorns més despoblats? En aquesta xerrada\, a càrrec del grup llavor e l T u r r ó s – C a s a C o m ú\, donarem l’espai per a debatre sobre un repoblament adient\, recuperant els mitjans de producció i la reactivació social i econòmica de l’entorn. Per un entorn rural conscient i respectuós amb l’entorn i els seus habitants\, impulsem junts la reactivació social i el retorn de la vida al camp! \n  \n\nQuan?\nEl dimecres 26 de maig\, de 18:00 a 20:00 hores. \nA on?\nXerrada en línia. Passarem l’enllaç de l’acte per correu electrònic a les persones inscrites fins al dia anterior. \n  \n\nINSCRIU-TE AL FORMULARI ABANS DEL DIMARS 25 DE MAIG\n \n\n\n\n\n\n\n\n﻿﻿﻿﻿﻿
URL:https://sostrecivic.jamgo.org/agenda/xerrada-lencaix-de-lhabitatge-cooperatiu-en-la-vida-i-economia-rural/
LOCATION:En linia
CATEGORIES:Xerrades
ATTACH;FMTTYPE=image/png:https://sostrecivic.jamgo.org/wp-content/uploads/2021/05/0521-xerrada-rurals_1.png
ORGANIZER;CN="Sostre C%C3%ADvic":MAILTO:info@sostrecivic.cat
END:VEVENT
BEGIN:VEVENT
DTSTART;TZID=Europe/Madrid:20210527T163000
DTEND;TZID=Europe/Madrid:20210527T180000
DTSTAMP:20260424T161114
CREATED:20210510T165858Z
LAST-MODIFIED:20210510T165858Z
UID:6845-1622133000-1622138400@sostrecivic.jamgo.org
SUMMARY:Visita les obres de l'edifici de Cirerers!
DESCRIPTION:Les obres del projecte d’habitatge cooperatiu de Cirerers avancen a bon ritme! \nObrim les visites organitzades a l’edifici de Cirerers\, per compartir les obres del projecte i que puguis viure de primera mà les diferents fases de la construcció d’aquest edifici cooperatiu a Roquetes (Nou Barris). \nPer la visita\, has de tenir en compte les següents indicacions: \n\nPorta sabata tancada: està prohibit entrar amb sandàlies.\nPorta la teva mascareta durant tota la visita.\nSi tens casc d’obra\, porta’l (Si no en tens\, no passa res\, allà en tenim).\nEls nens i les nenes tenen prohibida l’entrada a l’obra.\n\nLa visita serà el dijous 27 de maig a les 16h30\, i dura de 60 a 90 minuts en total. \nPots confirmar la teva assistència abans del dimarts 25 de maig omplint el formulari que tens a baix. Per seguretat\, el grup de persones serà limitat: reserva la teva plaça amb responsabilitat i compromís\, i assegura’t de la teva disponibilitat per venir a l’activitat. \nT’hi esperem! \n \n\n\n\n\n\n\n\n﻿﻿﻿﻿﻿
URL:https://sostrecivic.jamgo.org/agenda/visita-les-obres-de-ledifici-de-cirerers-2/
LOCATION:Cirerers\, Carrer del Pla dels Cirerers\, 2-4\, Barcelona\, 08042
ORGANIZER;CN="Sostre C%C3%ADvic":MAILTO:info@sostrecivic.cat
END:VEVENT
BEGIN:VEVENT
DTSTART;TZID=Europe/Madrid:20210527T170000
DTEND;TZID=Europe/Madrid:20210527T183000
DTSTAMP:20260424T161114
CREATED:20210318T104121Z
LAST-MODIFIED:20210506T170029Z
UID:6549-1622134800-1622140200@sostrecivic.jamgo.org
SUMMARY:Sessió de divulgació de l’habitatge cooperatiu en cessió d’ús
DESCRIPTION:T’interessa formar part d’un projecte d’habitatge cooperatiu però no saps per on començar? Vols saber què fem a Sostre Cívic i els projectes que tenim actius? T’agradaria conèixer més a fons el model d’habitatge en cessió d’ús? Vine a aquesta sessió de divulgació del model d’habitatge cooperatiu en cessió d’ús adreçada a la ciutadania i grups interessats\, que organitzem amb Coòpolis. \n\nEn aquesta sessió plantejarem la problemàtica d’accés a l’habitatge i com models alternatius poden esdevenir una realitat\, detallant les claus del model de cessió d’ús i els seus valors. Explicarem també diferents experiències de la ciutat\, i les diferents fases per portar a terme un projecte d’aquestes característiques. \n\nCal inscripció prèvia. T’hi esperem  \n\nQuan?\nEl dijous 27 de maig\, de 17:00 a 18:30 hores. \nA on?\nXerrada en línia. L’organització passarà l’enllaç de l’acte per correu electrònic a les persones inscrites el dia anterior.\nCal inscripció prèvia aquí. \n  \n\n 
URL:https://sostrecivic.jamgo.org/agenda/sessio-informativa-mensual-maig21/
CATEGORIES:Xerrades
ORGANIZER;CN="Sostre C%C3%ADvic":MAILTO:info@sostrecivic.cat
END:VEVENT
BEGIN:VEVENT
DTSTART;TZID=Europe/Madrid:20210531T170000
DTEND;TZID=Europe/Madrid:20210531T190000
DTSTAMP:20260424T161114
CREATED:20210527T182959Z
LAST-MODIFIED:20210527T183335Z
UID:6986-1622480400-1622487600@sostrecivic.jamgo.org
SUMMARY:Sessió de debat intern per l'elaboració del Pla Estratègic de Sostre Cívic
DESCRIPTION:Actualment Sostre Cívic es troba en un procés de reflexió estratègica\, que té per objectiu definir la seva acció pels pròxims 5 anys. \nPer tal d’explicar-vos quin ha estat el procés fins ara i conèixer la vostra visió en vers el model de Sostre Cívic a futur\, us volem convidar el pròxim dia 31 de maig\, de 17:30 a 20:00 on farem la trobada amb les persones sòcies. Amb l’objectiu d’organitzar el funcionament de la sessió necessitarem que les persones que hi vulguin participar s’inscriguin a la sessió\, que es farà en format on line. \nActivitat exclussiva per persones sòcies en línia i amb inscripció prèvia. \nConfirma l’assistència aquí.\nEnviarem l’enllaç per connectar-se el mateix dia de la sessió al matí.
URL:https://sostrecivic.jamgo.org/agenda/sessio-de-debat-intern-per-lelaboracio-del-pla-estrategic-de-sostre-civic/
ATTACH;FMTTYPE=image/png:https://sostrecivic.jamgo.org/wp-content/uploads/2021/05/formacions-sostrecivic-plaestrategic-e1622140272454.png
END:VEVENT
END:VCALENDAR