BEGIN:VCALENDAR
VERSION:2.0
PRODID:-//Sostre Cívic - ECPv6.10.1.1//NONSGML v1.0//EN
CALSCALE:GREGORIAN
METHOD:PUBLISH
X-WR-CALNAME:Sostre Cívic
X-ORIGINAL-URL:https://sostrecivic.jamgo.org
X-WR-CALDESC:Events for Sostre Cívic
REFRESH-INTERVAL;VALUE=DURATION:PT1H
X-Robots-Tag:noindex
X-PUBLISHED-TTL:PT1H
BEGIN:VTIMEZONE
TZID:Europe/Madrid
BEGIN:DAYLIGHT
TZOFFSETFROM:+0100
TZOFFSETTO:+0200
TZNAME:CEST
DTSTART:20200329T010000
END:DAYLIGHT
BEGIN:STANDARD
TZOFFSETFROM:+0200
TZOFFSETTO:+0100
TZNAME:CET
DTSTART:20201025T010000
END:STANDARD
END:VTIMEZONE
BEGIN:VEVENT
DTSTART;TZID=Europe/Madrid:20201111T163000
DTEND;TZID=Europe/Madrid:20201111T170000
DTSTAMP:20260424T233339
CREATED:20201106T185656Z
LAST-MODIFIED:20210517T214621Z
UID:5136-1605112200-1605114000@sostrecivic.jamgo.org
SUMMARY:Presentació "Fem assequible l'habitatge cooperatiu!"
DESCRIPTION:  \nCom a membres de la sectorial d’habitatge cooperatiu en cessió d’ús de la XES\, participem en aquesta activitat que es fa en el marc de la FESC 2020\, enguany adaptada a les circumstàncies i feta en format virtual íntegrament. \nEn aquesta presentació explicarem la campanya pública de sensibilització i incidència política per a la generació de polítiques públiques en l’àmbit econòmic que fomentin l’habitatge cooperatiu en cessió d’ús i en garanteixin l’assequibilitat que s’està preparant des de la sectorial. \nMés informació a:\nhttps://fesc.xes.cat/activitats?activity=mecanismes-per-enfortir-lhabitatge-cooperatiu-en-cessio-dus
URL:https://sostrecivic.jamgo.org/agenda/presentacio-fem-assequible-lhabitatge-cooperatiu/
CATEGORIES:Actes
ATTACH;FMTTYPE=image/png:https://sostrecivic.jamgo.org/wp-content/uploads/2020/11/1120_FESC19_PresentacioCampanya.png
END:VEVENT
BEGIN:VEVENT
DTSTART;TZID=Europe/Madrid:20201113T160000
DTEND;TZID=Europe/Madrid:20201113T173000
DTSTAMP:20260424T233339
CREATED:20201021T080006Z
LAST-MODIFIED:20201112T092200Z
UID:5038-1605283200-1605288600@sostrecivic.jamgo.org
SUMMARY:Sessió informativa mensual
DESCRIPTION:T’interessa formar part d’un projecte d’habitatge cooperatiu però no saps per on començar? Vols saber què fem a Sostre Cívic i els projectes que tenim actius? T’agradaria conèixer més a fons el model d’habitatge en cessió d’ús? \nVine a aquesta xerrada informativa i oberta per a les persones interessades\, futurs nous socis i també per aquelles persones sòcies que vulguin aprofundir sobre el model de cessió d’ús i conèixer com s’organitza la nostra activitat. \nA més\, en aquesta ocasió ens acompanyarà un dels membres del projecte d’habitatge cooperatiu sènior Walden XXI\, obert actualment a noves inscripcions\, per explicar-nos de primera mà tots els seus detalls! \nT’hi esperem  \n\nQuan?\nEl divendres 13 de novembre\, de 17:00 a 18:30 hores. \nA on?\nXerrada online. Passarem el link de l’acte per correu electrònic a les persones inscrites el dia anterior. \n  \n[FORMULARI TANCAT]\nAviat publicarem la data de la propera xerrada informativa
URL:https://sostrecivic.jamgo.org/agenda/sessio-informativa-mensual-novembre2020/
CATEGORIES:Xerrades
END:VEVENT
BEGIN:VEVENT
DTSTART;TZID=Europe/Madrid:20201114T100000
DTEND;TZID=Europe/Madrid:20201114T120000
DTSTAMP:20260424T233339
CREATED:20201103T090129Z
LAST-MODIFIED:20210517T211435Z
UID:5076-1605348000-1605355200@sostrecivic.jamgo.org
SUMMARY:Coneix el projecte Walden XXI!
DESCRIPTION:  \nFa 3 anys vam començar el projecte del primer habitatge cooperatiu sènior a Catalunya… i esperem fer-ho possible el 2023\, que és la data prevista per entrar-hi a viure! Rehabilitarem un antic hotel a Sant Feliu de Guíxols per reconvertir-lo en 31 apartaments privats i diferents espais comunitaris (un 20% de la superfície del projecte) com sales polivalents\, cuina\, menjador\, biblioteca-ordinadors\, bugaderia\, trasters\, terrasses\, jardí interior\, terrasses\, tallers bricolatge\, magatzem\, etc. \nEn aquesta pàgina pots consultar més informació de Walden XXI i\, si vols conèixer més del nostre projecte\, et convidem a la sessió informativa virtual que farem el dissabte 14 de novembre a les 11 hores. \n  \n[FORMULARI TANCAT]\nPer a més informació\, ens pots escriure a info@walden21.sostrecivic.cat
URL:https://sostrecivic.jamgo.org/agenda/coneix-el-projecte-walden-xxi-nov2020/
CATEGORIES:Xerrades
ATTACH;FMTTYPE=image/png:https://sostrecivic.jamgo.org/wp-content/uploads/2020/11/1120_xerradaWalden_EnLinia.png
END:VEVENT
BEGIN:VEVENT
DTSTART;TZID=Europe/Madrid:20201118T180000
DTEND;TZID=Europe/Madrid:20201118T193000
DTSTAMP:20260424T233339
CREATED:20201106T193409Z
LAST-MODIFIED:20201106T193521Z
UID:5143-1605722400-1605727800@sostrecivic.jamgo.org
SUMMARY:Taula rodona "Habitatge sostenible i energia"
DESCRIPTION:Juntament amb Celobert\, Becquel i Som Energia (grups locals de Barcelona i Badalona)\, participem en aquesta activitat que es fa en el marc de la FESC 2020\, enguany adaptada a les circumstàncies i feta en format virtual íntegrament. \nAquesta presentació agrupa diverses ponències i un debat posterior sobre: \n\nIntroducció i contextualització sobre el problema ambiental de l’edificació i el model cooperatiu d’habitatge.\nIdees principals per construir un edifici sostenible des de l’ESS; el cas de l’edifici CIRERERS de 9barris\nCom podem gaudir de l’autoconsum?: Nocions bàsiques sobre com aconseguir l’autoconsum energètic en un habitatge.\nImpuls solar barcelonès: Campanya de compra col·lectiva d’instal·lacions fotovoltaiques per autoconsum a la comarca del Barcelonès\n\nMés informació a:\nhttps://fesc.xes.cat/activitats?activity=habitatge-sostenible-i-energia-exemples-reals-de-cohabitatge-i-de-fotovoltaica
URL:https://sostrecivic.jamgo.org/agenda/taula-rodona-habitatge-sostenible-energia/
CATEGORIES:Actes
END:VEVENT
BEGIN:VEVENT
DTSTART;TZID=Europe/Madrid:20201125T163000
DTEND;TZID=Europe/Madrid:20201125T183000
DTSTAMP:20260424T233339
CREATED:20201106T124925Z
LAST-MODIFIED:20201124T091815Z
UID:5108-1606321800-1606329000@sostrecivic.jamgo.org
SUMMARY:Presentació "Construcció prefabricada vs. Construcció convencional"
DESCRIPTION:Es pot construir habitatge assequible i de baix impacte amb sistemes prefabricats? \nQuins sistemes constructius tenen menor impacte ambiental? Quins es poden implementar en promocions d’habitatge assequible i cooperatiu? \nPresentem els resultats d’una anàlisi quantitativa i qualitativa de l’impacte ambiental i el cost de diverses alternatives de sistemes prefabricats o convencionals\, proposats per a la construcció de l’edifici d’habitatges Cal Paler Nou. L’objectiu és donar eines i dades objectives per valorar l’adopció de majors nivells de prefabricació o industrialització versus els sistemes tradicionals en la construcció d’edificis d’habitatge cooperatiu.   \nL’estudi ha estat desenvolupat per Societat Orgànica (assessors ambientals) amb la col·laboració de labaula Arquitectes – STEM Arquitectes (projectistes)\,  La Constructiva (constructora) i Sostre Cívic (promotora i qui va encarregar l’estudi).  \n\nA la presentació\, hi participaran: \n\n\n\n\n\nÀngel Estévez. Coordinador de projectes i sostenibilitat (Sostre Cívic SCCL).\nInés de Rivera. Equip redactor del projecte Cal Paler Nou (STEM arquitectes +labaula arquitectes SCCLP)\nEugenia Ruiz Guillamón. Tècnica de contractació i compres (La Constructiva SCCL).\nGerardo Wadel. Soci fundador de Societat Orgànica +10 SCCL\n\n\n\n\n\n\n\nLa sessió està dirigida a personal tècnic de l’àmbit de l’arquitectura i la promoció d’habitatge privat\, públic o cooperatiu\, així com a professionals de l’àmbit mediambiental lligat a la construcció i a membres d’entitats compromeses amb la transició energètica\, especialment aquelles que estan implicades en l’àmbit cooperatiu i de l’ESS. \nQuan?\nEl dimecres 25 de novembre\, de 17:30 a 19:00 hores. \nA on?\nXerrada online. Passarem el link de l’acte per correu electrònic a les persones inscrites. \n  \n[FORMULARI TANCAT]\n\nProperament publicarem el vídeo de la sessió i el resultat de l’estudi\n\n 
URL:https://sostrecivic.jamgo.org/agenda/presentacio-prefabricada-vs-convencional/
CATEGORIES:Actes
END:VEVENT
END:VCALENDAR