BEGIN:VCALENDAR
VERSION:2.0
PRODID:-//Sostre Cívic - ECPv6.10.1.1//NONSGML v1.0//EN
CALSCALE:GREGORIAN
METHOD:PUBLISH
X-ORIGINAL-URL:https://sostrecivic.jamgo.org
X-WR-CALDESC:Events for Sostre Cívic
REFRESH-INTERVAL;VALUE=DURATION:PT1H
X-Robots-Tag:noindex
X-PUBLISHED-TTL:PT1H
BEGIN:VTIMEZONE
TZID:Europe/Madrid
BEGIN:DAYLIGHT
TZOFFSETFROM:+0100
TZOFFSETTO:+0200
TZNAME:CEST
DTSTART:20200329T010000
END:DAYLIGHT
BEGIN:STANDARD
TZOFFSETFROM:+0200
TZOFFSETTO:+0100
TZNAME:CET
DTSTART:20201025T010000
END:STANDARD
END:VTIMEZONE
BEGIN:VEVENT
DTSTART;TZID=Europe/Madrid:20201017T110000
DTEND;TZID=Europe/Madrid:20201017T130000
DTSTAMP:20260425T004859
CREATED:20201009T123036Z
LAST-MODIFIED:20210517T211226Z
UID:4867-1602932400-1602939600@sostrecivic.jamgo.org
SUMMARY:Coneix el projecte Walden XXI!
DESCRIPTION:  \nFa 3 anys vam començar el projecte del primer habitatge cooperatiu sènior a Catalunya… i esperem fer-ho possible el 2023\, que és la data prevista per entrar-hi a viure! Rehabilitarem un antic hotel a Sant Feliu de Guíxols per reconvertir-lo en 31 apartaments privats i diferents espais comunitaris (un 20% de la superfície del projecte) com sales polivalents\, cuina\, menjador\, biblioteca-ordinadors\, bugaderia\, trasters\, terrasses\, jardí interior\, terrasses\, tallers bricolatge\, magatzem\, etc. \nEn aquesta pàgina pots consultar més informació de Walden XXI i\, si vols conèixer més del nostre projecte\, et convidem a la sessió informativa virtual que farem el dissabte 17 d’octubre a les 11 hores. \n  \nInscriu-t’hi escrivint-nos a comunicació@walden21.sostrecivic.cat\nEnviarem l’enllaç de la sessió i més informació a totes les persones inscrites. 
URL:https://sostrecivic.jamgo.org/agenda/coneix-waldenxxi-octubre2020/
CATEGORIES:Xerrades
ATTACH;FMTTYPE=image/png:https://sostrecivic.jamgo.org/wp-content/uploads/2020/10/1020_xerradaWalden_EnLinia.png
END:VEVENT
BEGIN:VEVENT
DTSTART;TZID=Europe/Madrid:20201022T170000
DTEND;TZID=Europe/Madrid:20201022T183000
DTSTAMP:20260425T004859
CREATED:20200916T074708Z
LAST-MODIFIED:20201021T080612Z
UID:4661-1603386000-1603391400@sostrecivic.jamgo.org
SUMMARY:Sessió informativa mensual
DESCRIPTION:T’interessa formar part d’un projecte d’habitatge cooperatiu però no saps per on començar? Vols saber què fem a Sostre Cívic i els projectes que tenim actius? T’agradaria conèixer més a fons el model d’habitatge en cessió d’ús? \nVine a aquesta xerrada informativa i oberta per a les persones interessades\, futurs nous socis i també per aquelles persones sòcies que vulguin aprofundir sobre el model de cessió d’ús i conèixer com s’organitza la nostra activitat. \nT’hi esperem  \n\nQuan?\nEl dijous 22 d’octubre\, de 17:00 a 18:30 hores. \nA on?\nXerrada online. Passarem el link de l’acte per correu electrònic a les persones inscrites el dia anterior. \n  \n[FORMULARI TANCAT]\nPots inscriure’t a la sessió informativa de novembre en aquesta pàgina
URL:https://sostrecivic.jamgo.org/agenda/sessio-informativa-mensual-octubre2020/
CATEGORIES:Xerrades
END:VEVENT
BEGIN:VEVENT
DTSTART;TZID=Europe/Madrid:20201025T090000
DTEND;TZID=Europe/Madrid:20201025T170000
DTSTAMP:20260425T004859
CREATED:20201016T105309Z
LAST-MODIFIED:20201019T160847Z
UID:5009-1603616400-1603645200@sostrecivic.jamgo.org
SUMMARY:48H Open House BCN 2020
DESCRIPTION:Ja està aquí l’Open House BCN 2020! \n\nTorna el festival d’arquitectura 48h Open House BCN\, que enguany s’organitza al voltant de la temàtica La ciutat saludable. Dins del marc del festival podràs visitar els nostres projectes de Princesa49\, La Balma i Cirerers. \nPots trobar més informació i els formularis d’inscripcions a les següents pàgines: \n\nPrincesa49: https://48hopenhousebarcelona.org/els-edificis/habitatge-cooperatiu-princesa49/… \nLa Balma: https://48hopenhousebarcelona.org/els-edificis/habitatge-cooperatiu-la-balma/… \n[FORMULARIS TANCATS] Places no disponibles\nLes inscripcions per a la visita a Cirerers s’obriran properament.
URL:https://sostrecivic.jamgo.org/agenda/48h-openhousebcn-2020/
CATEGORIES:Fires
END:VEVENT
BEGIN:VEVENT
DTSTART;TZID=Europe/Madrid:20201030T180000
DTEND;TZID=Europe/Madrid:20201030T200000
DTSTAMP:20260425T004859
CREATED:20201013T083942Z
LAST-MODIFIED:20201030T094011Z
UID:4882-1604080800-1604088000@sostrecivic.jamgo.org
SUMMARY:Xerrada "L'habitatge cooperatiu en cessió d'ús com alternativa d'accés a l'habitatge"
DESCRIPTION:Sostre Cívic és una entitat nascuda l’any 2004 que actualment està formada per més de 900 persones sòcies arreu del territori. El nostre objectiu és promoure un model alternatiu d’accés a l’habitatge\, més just i accesible\, sense ànim de lucre\, no especulatiu i transformador. En aquest model\, la titularitat de la propietat és col·lectiva i recau en l’entitat\, i les persones sòcies tenen la cessió d’ús dels habitatges cooperatius. \n  \nVine a aquesta xerrada informativa que organitza el Casal de Joves del Clot-Camp de l’Arpa per aprofundir sobre el model de cessió d’ús i conèixer com s’organitza l’activitat de la nostra cooperativa! \n  \n¡! [Responent a les mesures sanitàries per la COVID19\, aquesta sessió queda ANUL·LADA]
URL:https://sostrecivic.jamgo.org/agenda/xerrada-lhabitatge-cooperatiu-en-cessio-dus-com-alternativa-dacces-a-lhabitatge/
LOCATION:Casal de Joves del Clot\, Gran Via de les Corts Catalanes\, 837\, Barcelona\, 08018
CATEGORIES:Xerrades
END:VEVENT
END:VCALENDAR