BEGIN:VCALENDAR
VERSION:2.0
PRODID:-//Sostre Cívic - ECPv6.10.1.1//NONSGML v1.0//EN
CALSCALE:GREGORIAN
METHOD:PUBLISH
X-ORIGINAL-URL:https://sostrecivic.jamgo.org
X-WR-CALDESC:Events for Sostre Cívic
REFRESH-INTERVAL;VALUE=DURATION:PT1H
X-Robots-Tag:noindex
X-PUBLISHED-TTL:PT1H
BEGIN:VTIMEZONE
TZID:Europe/Madrid
BEGIN:DAYLIGHT
TZOFFSETFROM:+0100
TZOFFSETTO:+0200
TZNAME:CEST
DTSTART:20200329T010000
END:DAYLIGHT
BEGIN:STANDARD
TZOFFSETFROM:+0200
TZOFFSETTO:+0100
TZNAME:CET
DTSTART:20201025T010000
END:STANDARD
END:VTIMEZONE
BEGIN:VEVENT
DTSTART;TZID=Europe/Madrid:20200911T100000
DTEND;TZID=Europe/Madrid:20200911T120000
DTSTAMP:20260425T020718
CREATED:20200908T115109Z
LAST-MODIFIED:20200908T115109Z
UID:4562-1599818400-1599825600@sostrecivic.jamgo.org
SUMMARY:Seminari "Economia social y vivienda colaborativa"
DESCRIPTION:Per què són els principis cooperatius importants davant la necessitat d’un nou model de convivència? Com l’habitatge cooperatiu en cessió d’ús permet avançar en el dret d’habitatge? Quin és el paper de la universitat en la promoció d’aquest nou model? \nDavid Guàrdia\, coordinador de l’Àrea de model i incidència política de la nostra cooperativa\, participa en aquest seminari gratuït organitzat per la Universidad de la  Laguna. \nEl seminari es desenvoluparà mitjançant una videoconferència en la qual els assistents podran realitzar preguntes tant durant el seu desenvolupament com durant el torn de preguntes. Posteriorment es posarà a la disposició dels assistents els materials utilitzats i s’enviarà un qüestionari d’avaluació de satisfacció. \n  \nPots consultar el programa i inscriure-t’hi en aquest enllaç.
URL:https://sostrecivic.jamgo.org/agenda/seminari-economia-social-vivienda-colaborativa/
CATEGORIES:Actes
END:VEVENT
BEGIN:VEVENT
DTSTART;TZID=Europe/Madrid:20200917T170000
DTEND;TZID=Europe/Madrid:20200917T183000
DTSTAMP:20260425T020718
CREATED:20200722T094247Z
LAST-MODIFIED:20200916T074837Z
UID:4422-1600362000-1600367400@sostrecivic.jamgo.org
SUMMARY:Sessió informativa mensual
DESCRIPTION:T’interessa formar part d’un projecte d’habitatge cooperatiu però no saps per on començar? Vols saber què fem a Sostre Cívic i els projectes que tenim actius? T’agradaria conèixer més a fons el model d’habitatge en cessió d’ús? \nVine a aquesta xerrada informativa i oberta per a les persones interessades\, futurs nous socis i també per aquelles persones sòcies que vulguin aprofundir sobre el model de cessió d’ús i conèixer com s’organitza la nostra activitat. \nA més\, en aquesta ocasió ens acompanyarà un dels membres del projecte d’habitatge cooperatiu sènior Walden XXI\, obert actualment a noves inscripcions\, per explicar-nos de primera mà tots els seus detalls! \nT’hi esperem  \n\nQuan?\nEl dijous 17 de setembre\, de 17:00 a 18:30 hores. \nA on?\nXerrada online. Passarem el link de l’acte per correu electrònic a les persones inscrites. \n  \nFormulari d’inscripcions tancat!\nSi vols\, et pots inscriure a la sessió d’octubre en aquest enllaç \n  \n 
URL:https://sostrecivic.jamgo.org/agenda/sessio-informativa-mensual-setembre2020/
CATEGORIES:Actes,Xerrades
END:VEVENT
BEGIN:VEVENT
DTSTART;TZID=Europe/Madrid:20200929T091500
DTEND;TZID=Europe/Madrid:20200929T134500
DTSTAMP:20260425T020718
CREATED:20200914T114311Z
LAST-MODIFIED:20200914T115052Z
UID:4602-1601370900-1601387100@sostrecivic.jamgo.org
SUMMARY:Jornada: Polítiques públiques per a l’impuls de l’habitatge cooperatiu en cessió d’ús
DESCRIPTION:Com podem enfortir la relació entre el sector públic i el sector cooperatiu per a impulsar un parc d’habitatge assequible\, no especulatiu i de base comunitària a Catalunya? \nEl proper dia 29 de setembre\, de 9:15 a 13:45h\, la sectorial d’habitatge de la XES\, Coòpolis\, Sostre Cívic i La Dinamo organitzen una trobada entre persones representants de les administracions públiques i del sector cooperatiu i l’ESS per a parlar i debatre sobre el model d’habitatge cooperatiu en cessió d’ús i com podem construir aquestes aliances i ampliar i sistematitzar els mecanismes de col·laboració pública comunitària que permetin avançar en aquest camí. \nDimarts 29 de setembre\nDe 09h15 a 13h45\nEspai Francesca Bonnemaison\n(c. Sant Pere Més Baix\, 7. Barcelona) \nConsulta el programa complet i inscriu-t’hi aquí:\nhttps://xes.cat/2020/09/10/jornada-politiques-publiques-habitatge-cooperatiu-en-cessiu-dus
URL:https://sostrecivic.jamgo.org/agenda/jornada-politiques-publiques/
LOCATION:Espai Francesca Bonnemaison\, Carrer de Sant Pere Més Baix\, 7\, Barcelona\, 08003
CATEGORIES:Actes
END:VEVENT
END:VCALENDAR