BEGIN:VCALENDAR
VERSION:2.0
PRODID:-//Sostre Cívic - ECPv6.10.1.1//NONSGML v1.0//EN
CALSCALE:GREGORIAN
METHOD:PUBLISH
X-ORIGINAL-URL:https://sostrecivic.jamgo.org
X-WR-CALDESC:Events for Sostre Cívic
REFRESH-INTERVAL;VALUE=DURATION:PT1H
X-Robots-Tag:noindex
X-PUBLISHED-TTL:PT1H
BEGIN:VTIMEZONE
TZID:Europe/Madrid
BEGIN:DAYLIGHT
TZOFFSETFROM:+0100
TZOFFSETTO:+0200
TZNAME:CEST
DTSTART:20200329T010000
END:DAYLIGHT
BEGIN:STANDARD
TZOFFSETFROM:+0200
TZOFFSETTO:+0100
TZNAME:CET
DTSTART:20201025T010000
END:STANDARD
END:VTIMEZONE
BEGIN:VEVENT
DTSTART;TZID=Europe/Madrid:20200602T170000
DTEND;TZID=Europe/Madrid:20200602T190000
DTSTAMP:20260425T060015
CREATED:20200520T113136Z
LAST-MODIFIED:20210517T213948Z
UID:4099-1591117200-1591124400@sostrecivic.jamgo.org
SUMMARY:Presentació "Eines de l'habitatge cooperatiu"
DESCRIPTION:A Sostre Cívic seguim treballant en la creació de materials i recursos útils per les persones i col·lectius interessats en portar a terme iniciatives d’habitatge cooperatiu. \nLes eines que hem definit recentment són la col·lecció de guies “Construïm habitatge cooperatiu” i l’observatori Llargavista\, amb l’edició del I informe anual del 2019. Ambdós són projectes d’intercooperació amb altres entitats de l’economia social\, com El Risell\, Matriu\, iLabSo i l’Observatori DESC. \nEl dimarts 2 de juny presentarem online aquestes eines\, explicant com va ser el seu procés de creació i desenvolupament\, juntament amb les diferents persones que han participat en la seva definició\, obrint també un espai de debat i preguntes amb totes les assistents. \nA l’acte\, que fem amb la col·laboració de Coòpolis\, ens acompanyaran: \n\n\n\n\n\nJoan Manel Sànchez\, de iLabSo.\nMireia Sierra\, de El Risell.\nGuillem Domingo\, de l’Observatori DESC.\nAndreu Camprubí\, de El Risell.\nEugènia Boada\, de Matriu.\nLorenzo Vidal\, investigador de l’IGOP (Institut de Govern i Polítiques Públiques).\n\n\n\n\n\nInaugura l’acte Josep Vidal\, director general d’Economia Social\, el Tercer Sector i les Cooperatives; i Álvaro Porro\, comissionat d’Economia Social\, Desenvolupament Local i Consum de l’Ajuntament de Barcelona. \nQuan?\nEl dimarts 2 de juny\, de 17:00 a 19:00 hores. \nA on?\nXerrada online. Passarem el link de l’acte per correu electrònic a les persones inscrites. \n  \nInscriu-t’hi abans de l’1 de juny! FORMULARI D’INSCRIPCIONS TANCAT \n 
URL:https://sostrecivic.jamgo.org/agenda/eines/
CATEGORIES:Actes
END:VEVENT
BEGIN:VEVENT
DTSTART;TZID=Europe/Madrid:20200611T170000
DTEND;TZID=Europe/Madrid:20200611T183000
DTSTAMP:20260425T060015
CREATED:20200522T072547Z
LAST-MODIFIED:20200610T182020Z
UID:4183-1591894800-1591900200@sostrecivic.jamgo.org
SUMMARY:Sessió informativa mensual
DESCRIPTION:T’interessa formar part d’un projecte d’habitatge cooperatiu però no saps per on començar? Vols saber què fem a Sostre Cívic i els projectes que tenim actius? T’agradaria conèixer més a fons el model d’habitatge en cessió d’ús? \nVine a aquesta xerrada informativa i oberta per a les persones interessades\, futurs nous socis i també per aquelles persones sòcies que vulguin aprofundir sobre el model de cessió d’ús i conèixer com s’organitza la nostra activitat. \nT’hi esperem!  \nQuan?\nEl dijous 11 de juny\, de 17:00 a 18:30 hores. \nA on?\nXerrada online. Passarem el link de l’acte per correu electrònic a les persones inscrites. \n  \nFormulari d’inscripcions tancat!\nSi vols\, et pots inscriure a la sessió de juliol en aquest enllaç \n 
URL:https://sostrecivic.jamgo.org/agenda/sessio-informativa-mensual-juny2020/
CATEGORIES:Actes
END:VEVENT
END:VCALENDAR