BEGIN:VCALENDAR
VERSION:2.0
PRODID:-//Sostre Cívic - ECPv6.10.1.1//NONSGML v1.0//EN
CALSCALE:GREGORIAN
METHOD:PUBLISH
X-WR-CALNAME:Sostre Cívic
X-ORIGINAL-URL:https://sostrecivic.jamgo.org
X-WR-CALDESC:Events for Sostre Cívic
REFRESH-INTERVAL;VALUE=DURATION:PT1H
X-Robots-Tag:noindex
X-PUBLISHED-TTL:PT1H
BEGIN:VTIMEZONE
TZID:Europe/Madrid
BEGIN:DAYLIGHT
TZOFFSETFROM:+0100
TZOFFSETTO:+0200
TZNAME:CEST
DTSTART:20190331T010000
END:DAYLIGHT
BEGIN:STANDARD
TZOFFSETFROM:+0200
TZOFFSETTO:+0100
TZNAME:CET
DTSTART:20191027T010000
END:STANDARD
END:VTIMEZONE
BEGIN:VEVENT
DTSTART;TZID=Europe/Madrid:20191105T163000
DTEND;TZID=Europe/Madrid:20191105T183000
DTSTAMP:20260425T153318
CREATED:20191007T091928Z
LAST-MODIFIED:20210517T203555Z
UID:3174-1572971400-1572978600@sostrecivic.jamgo.org
SUMMARY:Tertúlia "Gent gran parlem"
DESCRIPTION:TresG (Grup Gent Gran)\, la renovada Àrea sènior de Sostre Cívic\, organitza aquesta tertúlia per parlar i resoldre els dubtes del model de cohabitatge sènior i els projectes d’habitatge cooperatiu específics per la gent gran. \nUna proposta que neix amb la idea de compartir històries\, preguntes i experiències; de crear grups sènior nous o conèixer els que ja hi existeixen. Però\, sobre tot\, per generar un espai d’acollida i de referència per totes les persones grans que formen part de Sostre Cívic. \nPlaçes limitades! Aquesta activitat es farà bimensualment: la següent sessió es farà el proper 14 de gener a la mateixa hora per la gent interessada que no hi pugui venir en aquesta ocasió. \nRecorda confirmar la teva assistència en aquest formulari. \nT’hi esperem!
URL:https://sostrecivic.jamgo.org/agenda/tertulia-gent-gran-parlem/
LOCATION:ECOS Grup Cooperatiu\, Casp\, 43\, baixos.\, Barcelona\, 08010
CATEGORIES:Trobades
ATTACH;FMTTYPE=image/png:https://sostrecivic.jamgo.org/wp-content/uploads/2019/10/1119_tertuliaSenior_Bcn.png
END:VEVENT
BEGIN:VEVENT
DTSTART;TZID=Europe/Madrid:20191107T153000
DTEND;TZID=Europe/Madrid:20191107T170000
DTSTAMP:20260425T153318
CREATED:20191029T162829Z
LAST-MODIFIED:20191029T162829Z
UID:3299-1573140600-1573146000@sostrecivic.jamgo.org
SUMMARY:Taula rodona "La vellesa que vé: noves necessitats\, maneres de conviure i de donar resposta a la dependència"
DESCRIPTION:En el marc del XXV Congrés de la Societat Catalana de Geriatria i Gerontologia\, participem en aquesta taula rodona per parlar de l’habitatge cooperatiu sènior com a alternativa autogestionada per a la gent gran. \nEn representació de Sostre Cívic\, hi seran Josep Maria Ricart\, del projecte Walden XXI\, i la Rosalia Ribes\, del grup llavor Can70\, ambdós membres del Consell Rector de la nostra entitat. \nTambé hi participen la Verónica Ramilo\, de Perviure; el Marc Trepat\, de B\TA Arquitectes; y la Cristina Cuesta\, de Cohousing Spain. \n \nPer a més informació\, consulta aquí el fulletó de l’activitat. \nL’aforament és limitat\, i la inscripció és imprescindible\, i la pots fer mitjançant aquest enllaç abans del 4 de novembre: https://bit.ly/2lEC9L1 \nPreu: 10€
URL:https://sostrecivic.jamgo.org/agenda/taula-rodona-la-vellesa-que-ve-noves-necessitats-maneres-de-conviure-i-de-donar-resposta-a-la-dependencia/
LOCATION:L’Acadèmia. Departament d’Activitats i Congressos\, C/ Major de Can Caralleu\, 1-7\, Barcelona\, 08017
CATEGORIES:Xerrades
END:VEVENT
BEGIN:VEVENT
DTSTART;TZID=Europe/Madrid:20191109T100000
DTEND;TZID=Europe/Madrid:20191109T113000
DTSTAMP:20260425T153318
CREATED:20191030T172905Z
LAST-MODIFIED:20191030T172905Z
UID:3316-1573293600-1573299000@sostrecivic.jamgo.org
SUMMARY:Presentació del grup llavor "Lleida urbà"
DESCRIPTION:El grup llavor Lleida urbà és un col·lectiu intergeneracional al voltant de 40 persones pertanyents a 13 unitats familiars que viuen a la ciutat de Lleida i que volen impulsar un projecte d’habitatge cooperatiu a la ciutat. Els vols conèixer? \nVine a la xerrada de presentació que farem el dissabte 9 de novembre a l’Ateneu La Baula\, on també explicarem com funciona el model d’habitatge cooperatiu en cessió d’ús que impulsem a Sostre Cívic i et presentarem els diferents projectes i iniciatives que portem a terme. \nT’hi esperem!
URL:https://sostrecivic.jamgo.org/agenda/presentacio-del-grup-llavor-lleida-urba/
LOCATION:Ateneu Cooperatiu La Baula\, Carrer del Nord\, 4\, Lleida\, 25007
CATEGORIES:Xerrades
END:VEVENT
BEGIN:VEVENT
DTSTART;TZID=Europe/Madrid:20191113T170000
DTEND;TZID=Europe/Madrid:20191113T190000
DTSTAMP:20260425T153318
CREATED:20191030T170006Z
LAST-MODIFIED:20191030T170006Z
UID:3305-1573664400-1573671600@sostrecivic.jamgo.org
SUMMARY:Xerrada "Parlem per decidir fins al final"
DESCRIPTION:El grup llavor Can 70 organitza l’activitat “Parlem per decidir fins al final” sobre el document de voluntats anticipades\, és a dir\, el testament vital. \nLa ponent encarregada de fer la conferència és la Isabel Alonso\, presidenta de DMD-CAT\, l’associació pel Dret a Morir Dignament a Catalunya. \nUs convidem a reflexionar plegades sobre la importància de redactar aquest document per deixar constància del què volem i què no volem sobre tractaments mèdics quan per algun motiu ja no puguem dir-ho\, i a participar en aquest espai per resoldre tot els dubtes relatius a aquest procediment i els elements que hauríem de tenir en compte si volem fer-ho. \nUna activitat dirigida a persones de totes les edats! Qualsevol persona a partir dels 18 anys pot redactar el seu document de voluntats anticipades si vol decidir i contribuir a què el procés de mort sigui més serè i adequat als seus valors.
URL:https://sostrecivic.jamgo.org/agenda/xerrada-parlem-per-decidir-fins-al-final/
LOCATION:Aula Ronda\, Sant Pere més alt\, 59.\, Barcelona\, 08003
CATEGORIES:Xerrades
END:VEVENT
BEGIN:VEVENT
DTSTART;TZID=Europe/Madrid:20191115T173000
DTEND;TZID=Europe/Madrid:20191115T193000
DTSTAMP:20260425T153318
CREATED:20191022T135910Z
LAST-MODIFIED:20191022T135953Z
UID:3250-1573839000-1573846200@sostrecivic.jamgo.org
SUMMARY:Sessió informativa mensual
DESCRIPTION:T’interessa formar part d’un projecte d’habitatge cooperatiu però no saps per on començar? Vols saber què fem a Sostre Cívic i els projectes que tenim actius? T’agradaria conèixer més a fons el model d’habitatge en cessió d’ús? \n \nVine a aquesta xerrada informativa i oberta per a les persones interessades\, futurs nous socis i també per aquelles persones sòcies que vulguin aprofundir sobre el model de cessió d’ús i conèixer com s’organitza la nostra activitat. \nT’hi esperem! 🙂
URL:https://sostrecivic.jamgo.org/agenda/sessio-informativa-mensual-novembre19/
LOCATION:ECOS Grup Cooperatiu\, Casp\, 43\, baixos.\, Barcelona\, 08010
CATEGORIES:Xerrades
END:VEVENT
BEGIN:VEVENT
DTSTART;TZID=Europe/Madrid:20191120T180000
DTEND;TZID=Europe/Madrid:20191120T200000
DTSTAMP:20260425T153318
CREATED:20191112T150741Z
LAST-MODIFIED:20191112T152110Z
UID:3409-1574272800-1574280000@sostrecivic.jamgo.org
SUMMARY:Birres crítiques amb la regidora d'habitatge Lucía Martín
DESCRIPTION:Conjuntament amb el diari Crític organitzem aquesta trobada amb la regidora d’habitatge de Barcelona\, Lucía Martín\, per compartir un espai informal on parlar de la situació de l’habitatge a la ciutat i del paper que hi pot tenir el model d’habitatge cooperatiu en cessió d’ús. \n \nUn periodista de CRÍTIC i un membre de Sostre Cívic conversaran amb Lucía Martín i després donaran pas a un diàleg obert amb el públic assistent. L’objectiu és saber de primera mà les prioritats de l’equip de govern de l’Ajuntament de Barcelona en matèria d’habitatge en aquest mandat que tot just comença. \nAquesta activitat és oberta al públic\, però reservem algunes butaques per a persones sòcies i acompanyants. Haureu d’arribar amb antelació a la sala per confirmar que hi sereu\, si 10 minuts abans de començar l’activitat no hi sou\, alliberarem els seients. \nSi ets persona sòcia\, t’hi pots apuntar aquí
URL:https://sostrecivic.jamgo.org/agenda/birres-critiques-amb-la-regidora-dhabitatge-lucia-martin/
LOCATION:Calàbria 66\, Calàbria\, 66\, Barcelona\, 08015
END:VEVENT
BEGIN:VEVENT
DTSTART;TZID=Europe/Madrid:20191121T170000
DTEND;TZID=Europe/Madrid:20191121T190000
DTSTAMP:20260425T153318
CREATED:20191119T151902Z
LAST-MODIFIED:20210517T204047Z
UID:3454-1574355600-1574362800@sostrecivic.jamgo.org
SUMMARY:Tertúlia: "Cohabitatge sènior: un model alternatiu d'habitatge per a gent gran"
DESCRIPTION:Josep Maria Ricart\, membre del Consell Rector de Sostre Cívic i del projecte d’habitatge cooperatiu sènior Walden XXI\, participa en aquesta tertúlia sobre cohabitatge que tindrà lloc al centre cívic de Platja d’Aro. \nParlarem de l’habitatge cooperatiu sènior\, i de com resulta un model alternatiu a les residències mercantils que fan negoci amb la nostra vellesa. \nT’hi apuntes? \n 
URL:https://sostrecivic.jamgo.org/agenda/tertulia-cohabitatge-senior-un-model-alternatiu-dhabitatge-per-a-gent-gran/
LOCATION:Centre Cívic Vicenç Bou\, carrer Escoles\, 2\, Platja d'Aro\, 17250
CATEGORIES:Xerrades
ATTACH;FMTTYPE=image/png:https://sostrecivic.jamgo.org/wp-content/uploads/2019/11/1119_xerradaSenior_PlatjadAro.png
END:VEVENT
BEGIN:VEVENT
DTSTART;TZID=Europe/Madrid:20191125T090000
DTEND;TZID=Europe/Madrid:20191125T110000
DTSTAMP:20260425T153318
CREATED:20191112T143509Z
LAST-MODIFIED:20191114T120859Z
UID:3402-1574672400-1574679600@sostrecivic.jamgo.org
SUMMARY:Jornada "Habitatge cooperatiu: una eina d'accés a l'habitatge"
DESCRIPTION:Vols aprendre més sobre el model d’habitatge cooperatiu en cessió d’ús? \nT’esperem el dilluns 25 de novembre a aquesta jornada a Palafrugell sobre l’habitatge cooperatiu com a eina d’accés a l’habitatge i per garantir aquest dret fonamental\, organitzada per l’ajuntament de la localitat. \nCompartirem taula amb la Fundació La Dinamo\, i la Xarxa de municipis per l’Economia Social i Solidària. \nInscripcions aquí
URL:https://sostrecivic.jamgo.org/agenda/jornada-habitatge-cooperatiu-una-eina-acces-habitatge/
LOCATION:Can Genís\, Progrés\, 17\, Palafrugell\, 17200
CATEGORIES:Xerrades
END:VEVENT
BEGIN:VEVENT
DTSTART;TZID=Europe/Madrid:20191126T090000
DTEND;TZID=Europe/Madrid:20191126T160000
DTSTAMP:20260425T153318
CREATED:20191106T172241Z
LAST-MODIFIED:20191106T172452Z
UID:3359-1574758800-1574784000@sostrecivic.jamgo.org
SUMMARY:Punt d'informació en habitatge cooperatiu a Manresa
DESCRIPTION:L’Ateneu Cooperatiu de la Catalunya Central i la cooperativa Sostre Cívic impulsem conjuntament un punt d’informació en habitatge cooperatiu a la Catalunya Central.  \nAl punt podrà acudir-hi qualsevol persona que tingui interès en l’habitatge cooperatiu\, ja siguin persones individuals\, grups\, tècnics o entitats interessades. El punt\, que compta amb el suport del CEDEM Manresa\, estarà en funcionament cada 15 dies i oferirà els seus serveis a Manresa a partir del dimarts 29 d’octubre. \nEl servei estarà disponible a partir del dimarts 29 d’octubre i a partir d’aleshores\, cada 15 dies estarà operatiu. L’horari serà de 10h a 14h i de 15h a 17h i per poder-hi assistir cal concertar una cita prèvia a través d’aquest formulari.  \nPer més informació\, pots consultar la web de l’Ateneu Cooperatiu de la Catalunya Central.
URL:https://sostrecivic.jamgo.org/agenda/punt-dinformacio-en-habitatge-cooperatiu-a-manresa/
LOCATION:CEDEM\, c. Castelladral 5-7.\, Manresa\, 08243
CATEGORIES:Punt informatiu
END:VEVENT
BEGIN:VEVENT
DTSTART;TZID=Europe/Madrid:20191126T173000
DTEND;TZID=Europe/Madrid:20191126T193000
DTSTAMP:20260425T153318
CREATED:20191114T101555Z
LAST-MODIFIED:20191114T101555Z
UID:3420-1574789400-1574796600@sostrecivic.jamgo.org
SUMMARY:IV Jornades sobre Desigualtats Socials
DESCRIPTION:En el marc de les IV Jornades sobre desigualtats socials organitzades per l’Universitat de Lleida\,  participem en la taula rodona “Iniciatives en favor de l’accés a l’habitatge”. \nSerà el dimarts 26 de novembre a les 18h30\, i compartirem taula amb el Sergio Talamonte\, regidor d’habitatge i transició ecològica de l’Ajuntament de Lleida; i el Roger\, que participa en un projecte de masoveria urbana a la ciutat. \nAquesta jornada és oberta a tot el públic interessat i és reconeguda amb un crèdit de matèria\ntransversal per la Universitat de Lleida. \nInscripcions aquí
URL:https://sostrecivic.jamgo.org/agenda/iv-jornades-sobre-desigualtats-socials/
LOCATION:Facultat de Dret\, Economia i Turisme – UdL\, Carrer de Jaume II\, 73\, Lleida\, 25001
CATEGORIES:Actes
END:VEVENT
BEGIN:VEVENT
DTSTART;TZID=Europe/Madrid:20191127T160000
DTEND;TZID=Europe/Madrid:20191127T170000
DTSTAMP:20260425T153318
CREATED:20191030T172055Z
LAST-MODIFIED:20191030T172055Z
UID:3311-1574870400-1574874000@sostrecivic.jamgo.org
SUMMARY:Taula rodona: “Instruments i experiències d’habitatge per a gent gran: la perspectiva socioeconòmica”
DESCRIPTION:En el marc de la jornada “Envelliment\, habitatge i entorn”\, organitzada per l’Observatori Metropolità de l’Habitatge de Barcelona\, participarem a la taula rodona “Instruments i experiències d’habitatge per a gent gran: la perspectiva socioeconòmica”. \nLa jornada va destinada a un públic vinculat amb la planificació\, la gestió i l’execució d’instruments i experiències en la matèria\, tant provinents del món acadèmic\, de les institucions públiques\, del tercer sector\, d’associacions i del sector privat. \n \nEn Josep Maria Ricart\, membre del Consell Rector de Sostre Cívic i membre del projecte Walden XXI\, comparteix taula amb l’Héctor Simón (Productes financers per a l’habitatge i la vellesa) i la Mercè Giner (Cessió d’habitatges per a la gent gran). \nUs hi esperem el dimecres 27 de novembre a l’Aula 1 del CCCB. \nL’accés és gratuït i obert. \nMés informació de les jornades i inscripcions aquí
URL:https://sostrecivic.jamgo.org/agenda/taula-rodona-instruments-i-experiencies-dhabitatge-per-a-gent-gran-la-perspectiva-socioeconomica/
LOCATION:CCCB\, Montalegre\, 5\, Barcelona\, 08001
CATEGORIES:Xerrades
END:VEVENT
BEGIN:VEVENT
DTSTART;TZID=Europe/Madrid:20191127T180000
DTEND;TZID=Europe/Madrid:20191127T210000
DTSTAMP:20260425T153318
CREATED:20191112T151313Z
LAST-MODIFIED:20191125T133245Z
UID:3414-1574877600-1574888400@sostrecivic.jamgo.org
SUMMARY:Cinefòrum del documental "Push"
DESCRIPTION:Et convidem al cinefòrum que organitzem en el marc del 15é aniversari de Sostre Cívic! \n \nProjectarem el guardonat documental “Push”\, sobre l’especulació immobiliària i urbanística a escala mundial\, i farem després un petit debat per compartir conclusions i reflexions sobre el tema. Per acabar\, compartirem un pica-pica a l’Espai Bistrot del mateix Zumzeig. \nPush és el nou documental del guardonat director Fredrik Gertten\, que investiga el perquè ja no podem permetre’ns el luxe de viure a les nostres pròpies ciutats. L’habitatge és un dret fonamental\, una condició sine qua non per a una vida segura i saludable\, però a les ciutats de tot el món tenir un lloc on viure és cada cop més difícil. Qui en són els responsables? Quins són els factors que fan de l’accés a l’habitatge un dels problemes més urgents a escala mundial? \nA través de la Leilani Farha\, relatora especial en habitatge de l’ONU\, viatgem per diferents països tractant d’entendre qui i per què està sent expulsat de les ciutats\, conversant amb personalitats de l’àmbit polític com Ada Colau\, la reputada sociòloga Saskia Sassen\, l’economista Joseph Stiglitz o el periodista italià autor de Gomorra Roberto Saviano. \nAl debat ens acompanyem el Javier Sánchez (Sindicat de Llogateres)\, l’Eduard Sala (PAH) i l’Aura Ruano (Observatori de l’Habitatge i Turisme del Clot). \nAquesta activitat és oberta al públic\, però reservem algunes butaques per a persones sòcies i acompanyants. \nSi ets persona sòcia\, t’hi pots apuntar aquí!
URL:https://sostrecivic.jamgo.org/agenda/cineforum-del-documental-push/
LOCATION:Zumzeig cinema\, Carrer de Béjar\, 53\, Barcelona\, 08014
CATEGORIES:Actes
END:VEVENT
BEGIN:VEVENT
DTSTART;TZID=Europe/Madrid:20191128T103000
DTEND;TZID=Europe/Madrid:20191128T130000
DTSTAMP:20260425T153318
CREATED:20191031T090902Z
LAST-MODIFIED:20191031T092301Z
UID:3319-1574937000-1574946000@sostrecivic.jamgo.org
SUMMARY:Taula rodona "Experiències de salut comunitària vinculades a les persones grans"
DESCRIPTION:T’interesa la salut comunitària i el seu impacte en la qualitat de vida i benestar individual i col·lectiu? Llavors no pots faltar a aquesta activitat organitzada per la Comissió de treball de la Taula de Salut Comunitària de Vic! \nEn el marc d’aquesta jornada\, membres del projecte d’habitatge cooperatiu sènior Walden XXI participen a la taula rodona “Experiències de salut comunitària vinculades a les persones grans” conjuntament amb: \nMarta Rofin\, arquitecta de l’equip redactor del POUM.\nAnna Bonafont\, professora de la UVIC – UCC.\nProjecte Avancem\, a càrrec de Càritas Arxiprestal de Vic. \nSi vols més informació sobre l’activitat\, et pots descarregar aquí el programa sencer. \nQuan? Dijous\, 28 de novembre de 2019\nOn? A l’Aula Magna de la UVIC-UCC. \nINSCRIPCIONS AQUÍ
URL:https://sostrecivic.jamgo.org/agenda/taula-rodona-experiencies-de-salut-comunitaria-vinculades-a-les-persones-grans/
LOCATION:Universitat de Vic\, Carrer de la Sagrada Família\, 7\, Vic\, 08500
CATEGORIES:Actes
END:VEVENT
END:VCALENDAR