BEGIN:VCALENDAR
VERSION:2.0
PRODID:-//Sostre Cívic - ECPv6.10.1.1//NONSGML v1.0//EN
CALSCALE:GREGORIAN
METHOD:PUBLISH
X-ORIGINAL-URL:https://sostrecivic.jamgo.org
X-WR-CALDESC:Events for Sostre Cívic
REFRESH-INTERVAL;VALUE=DURATION:PT1H
X-Robots-Tag:noindex
X-PUBLISHED-TTL:PT1H
BEGIN:VTIMEZONE
TZID:Europe/Madrid
BEGIN:DAYLIGHT
TZOFFSETFROM:+0100
TZOFFSETTO:+0200
TZNAME:CEST
DTSTART:20190331T010000
END:DAYLIGHT
BEGIN:STANDARD
TZOFFSETFROM:+0200
TZOFFSETTO:+0100
TZNAME:CET
DTSTART:20191027T010000
END:STANDARD
END:VTIMEZONE
BEGIN:VEVENT
DTSTART;TZID=Europe/Madrid:20191011T100000
DTEND;TZID=Europe/Madrid:20191011T120000
DTSTAMP:20260425T165826
CREATED:20190925T105141Z
LAST-MODIFIED:20210517T202357Z
UID:2854-1570788000-1570795200@sostrecivic.jamgo.org
SUMMARY:Cohabitatge cooperatiu: cap a una vellesa activa i autogestionada
DESCRIPTION:El divendres 11 d’octubre parlem a les 10 hores sobre habitatge cooperatiu sènior com a alternativa per una vellesa activa i autogestionada. \nL’activitat s’inclou al programa “Actíva’t” de l’Ajuntament de Barberà del Vallés\, dincs del Programa Municipal per a la gent gran. \nINSCRIPCIONS a la OAC (Pg. Doctor Moragas\, 224). Per a més informació\, truca al 696403764. \nConsulta el programa  aquí. T’hi esperem!
URL:https://sostrecivic.jamgo.org/agenda/cohabitatge-cooperatiu-cap-a-una-vellesa-activa-i-autogestionada/
LOCATION:Biblioteca Esteve Paluzie\, Plaça Constitució\, s/n\, Barberà del Vallés\, Barcelona\, 08210
CATEGORIES:Xerrades
ATTACH;FMTTYPE=image/png:https://sostrecivic.jamgo.org/wp-content/uploads/2019/09/1019_xerradaSenior_Barbera.png
END:VEVENT
BEGIN:VEVENT
DTSTART;TZID=Europe/Madrid:20191015T180000
DTEND;TZID=Europe/Madrid:20191015T193000
DTSTAMP:20260425T165826
CREATED:20191001T143517Z
LAST-MODIFIED:20191001T143517Z
UID:3015-1571162400-1571167800@sostrecivic.jamgo.org
SUMMARY:Xerrada informativa: títols participatius Tornassol de La Balma i Cirerers
DESCRIPTION:#ConstruïmHabitatgeCooperatiu \nVolem aconseguir\, gràcies al finançament col·lectiu\, un nou impuls per fer front\, de manera autoorganitzada\, a la bombolla immobiliària i a l’especulació! Comencem les obres de La Balma i Cirerers\, dos nous projectes d’habitatge cooperatiu en cessió d’ús a Barcelona en sòl municipal\, i pots contribuir a fer-ho possible. \nAdquirint aquests títols\, col·labores a garantir el dret a un habitatge digne amb un model transformador\, alhora que fas una inversió responsable i reps almenys un 2% d’interessos anualment. \n \nSi tens dubtes sobre la nova campanya Tornassol de títols participatius o vols més informació sobre La Balma i Cirerers\, o les condicions dels títols\, t’esperem a la sessió informativa que hem preparat a Barcelona.
URL:https://sostrecivic.jamgo.org/agenda/xerrada-informativa-titols-participatius-tornassol-de-la-balma-i-cirerers/
LOCATION:ECOS Grup Cooperatiu\, Casp\, 43\, baixos.\, Barcelona\, 08010
CATEGORIES:Xerrades
END:VEVENT
BEGIN:VEVENT
DTSTART;TZID=Europe/Madrid:20191019T160000
DTEND;TZID=Europe/Madrid:20191019T180000
DTSTAMP:20260425T165826
CREATED:20191007T083837Z
LAST-MODIFIED:20191007T083837Z
UID:3164-1571500800-1571508000@sostrecivic.jamgo.org
SUMMARY:Taula rodona "Altres maneres d'habitar"
DESCRIPTION:Estan sorgint cada cop amb més força alternatives compromeses amb l’habitatge\, basat en la cura i el compromís. Alternatives reals a la compra o al lloguer tradicionals\, iniciatives que fomenten la reutilització activa i la presa de decisions col·lectives. \n \nVolem donar a conèixer aquestes alternatives i saber quines implicacions tenen avui dia. Parlem de casos aïllats o estem davant d’un canvi de paradigma? Com es poden estendre i difondre aquestes pràctiques? Com es poden coordinar entre elles? Ens plantejarem aquestes i altres preguntes a la taula rodona organitzada per l’espai cultural La Volta\, una activitat moderada per Itziar González (arquitecta i activista) i on compartirem taula amb Cal Cases i La Borda. \nT’hi esperem! 🙂
URL:https://sostrecivic.jamgo.org/agenda/taula-rodona-altres-maneres-dhabitar/
LOCATION:La Volta\, Plaça Assumpció\, 22\, Girona\, 17005
CATEGORIES:Xerrades
ORGANIZER;CN="La Volta":MAILTO:info@femlavolta.cat
END:VEVENT
BEGIN:VEVENT
DTSTART;TZID=Europe/Madrid:20191021T180000
DTEND;TZID=Europe/Madrid:20191021T193000
DTSTAMP:20260425T165826
CREATED:20191007T085244Z
LAST-MODIFIED:20210517T202925Z
UID:3170-1571680800-1571686200@sostrecivic.jamgo.org
SUMMARY:Xerrada sobre l'habitatge cooperatiu sènior
DESCRIPTION:L’habitatge cooperatiu sènior o cohabitatge sènior és un model d’habitatge cooperatiu en cessió d’ús i una alternativa per una vellesa activa i autogestionada per a la gent gran. \nSi t’interessen iniciatives d’aquest tipus\, vine a la xerrada informativa que organitzem a Mollet del Vallès\, on explicarem en què consisteix aquest model i parlarem dels diferents projectes que tenim a la nostra entitat. \nAquesta activitat l’organitza El Lledoner\, centre de serveis per a la gent gran del municipi que aposta per un envelliment actiu innovador\, programant tallers i activitats per a majors de 55 anys (serveis de gimnàs i sala d’informàtica i lectura\, projecte de voluntariat i participació social\, projectes intergeneracionals\, etc.).
URL:https://sostrecivic.jamgo.org/agenda/xerrada-sobre-lhabitatge-cooperatiu-senior/
LOCATION:El Lledoner\, Avinguda de Caldes de Montbui\, 36.\, Mollet del Vallès\, 08100
CATEGORIES:Xerrades
ATTACH;FMTTYPE=image/png:https://sostrecivic.jamgo.org/wp-content/uploads/2019/10/1019_xerradaSenior_Mollet.png
END:VEVENT
BEGIN:VEVENT
DTSTART;TZID=Europe/Madrid:20191022T180000
DTEND;TZID=Europe/Madrid:20191022T200000
DTSTAMP:20260425T165826
CREATED:20191015T140055Z
LAST-MODIFIED:20191015T140055Z
UID:3217-1571767200-1571774400@sostrecivic.jamgo.org
SUMMARY:Xerrada "Què és l'habitatge cooperatiu en cessió d'ús?"
DESCRIPTION:Busques alternatives a l’accés a l’habitatge que no passin pel lloguer o la compra? Saps què és l’habitatge cooperatiu en sessió d’ús? \nSi ho vols conèixer\, saber-ne més o fer xarxa amb altres persones interessades\, vine a la xerrada que hem organitzat a Sant Carles de la Ràpita\, juntament amb l’Ateneu Cooperatiu de Terres de l’Ebre.
URL:https://sostrecivic.jamgo.org/agenda/xerrada-que-es-lhabitatge-cooperatiu-en-cessio-dus/
LOCATION:Biblioteca Municipal Sebastià Juan Arbó\, c. del Montsià\, 54\, Sant Carles de la Ràpita\, Tarragona\, 43540
CATEGORIES:Xerrades
END:VEVENT
BEGIN:VEVENT
DTSTART;TZID=Europe/Madrid:20191024T190000
DTEND;TZID=Europe/Madrid:20191024T210000
DTSTAMP:20260425T165826
CREATED:20191002T112834Z
LAST-MODIFIED:20191002T112921Z
UID:3039-1571943600-1571950800@sostrecivic.jamgo.org
SUMMARY:Xerrada: Cooperativisme d'habitatge en cessió d'ús
DESCRIPTION:Coneix com funciona el model d’habitatge cooperatiu en cessió d’ús! Quines són les seves característiques i quines experiències existeixen a Catalunya? D’on sorgeix i com es duu a terme? Parlarem de tot això i molt més a la xerrada informativa que farem a la biblioteca pública de Tarragona. \nT’hi esperem! \nAquesta xerrada ha estat programada en el context de Projectes Singulars dels Ateneus Cooperatius promogut pel Departament de Treball\, Afers Socials i Famílies i la Direcció General d’Economia Social\, el tercer sector\, les Cooperatives i l’Autoempresa amb el finançament del Ministeri d’Ocupació i Seguretat Social. 
URL:https://sostrecivic.jamgo.org/agenda/xerrada-cooperativisme-dhabitatge-en-cessio-dus/
LOCATION:Biblioteca Pública de Tarragona\, Carrer de Fortuny\, 30.\, Tarragona\, 43001
CATEGORIES:Xerrades
END:VEVENT
BEGIN:VEVENT
DTSTART;TZID=Europe/Madrid:20191026T100000
DTEND;TZID=Europe/Madrid:20191027T133000
DTSTAMP:20260425T165826
CREATED:20191001T140712Z
LAST-MODIFIED:20191023T150633Z
UID:3004-1572084000-1572183000@sostrecivic.jamgo.org
SUMMARY:Fira d'Economia Solidària de Catalunya 2019
DESCRIPTION:Vine a visitar-nos a la nostra taula informativa a la FESC\, la  Fira de l’Economia Solidària de Catalunya de 2019! Et podrem explicar tot el que necessitis sobre els nostres projectes i sobre el model d’habitatge cooperatiu en cessió d’ús. \n \nA més\, et convidem a acompanyar-nos en les activitats que organitzem en el marc d’aquesta fira: \n  \nDissabte 26\, de 10h30 a 12h\nPresentació de l’observatori de l’habitatge en cessió d’ús i dels mecanismes d’impuls i reptes per fer créixer el model. \nQuants grups i projectes d’habitatge cooperatiu en cessió d’ús hi ha actualment al país? On es troben? Presentem l’Observatori d’habitatge en cessió d’ús\, una nova eina oberta per recollir les dades dels diferents projectes existents i facilitar l’anàlisi de l’estat del model i del seu creixement a Catalunya. També volem explicar diversos mecanismes de col·laboració pública-cooperativa per fer créixer aquest nou model\, a través de la generació d’un marc legal específic\, i de la definició i desenvolupament de polítiques públiques de mobilització de sòl i de foment de mecanismes de finançament.\n\n\nAmb Mireia Sierra (El Risell)\, David Guàrdia (Sostre Cívic)\, Arnau Andrés (La Dinamo i Lacol) i Lali Daví (La Dinamo) \nA l’espai Micaela Chalmeta. \n  \n\nDiumenge 27\, de 11h a 12h30\nTaula rodona “Com fem créixer els projectes de cohabitatge per a gent gran?”\n\nEl cohabitatge sènior planteja un model de cures per a la gent gran des d’una vessant més autogestionada i democràtica\, i es presenta com una alternativa a les propostes que capitalitzen la vellesa i es lucren amb ella. Actualment hi ha molts grups i projectes interessats en aquest model\, però també moltes dificultats pel seu desenvolupament que fan que avui sigui complicat que es porti a la pràctica. En aquesta taula rodona enfocarem els reptes actuals des de diferents perspectives i ens plantejarem les possibles solucions per fer créixer el model i que sigui escalable.\nAmb Aina Plaza\, del Departament de Treball\, Afers Socials i Famílies; Suara (ponent per confirmar); Anna Corrons\, del grup llavor Can70 (Sostre Cívic); Rosa Cols\, de Walden XXI (Sostre Cívic); Verónica Ramilo (Perviure) i Daniel López (Projecte Movicoma – UOC). \nA l’espai Micaela Chalmeta.
URL:https://sostrecivic.jamgo.org/agenda/fira-deconomia-solidaria-de-catalunya-2019/
LOCATION:Fabra i Coats\, Carrer de Sant Adrià\, 20.\, Barcelona\, 08030
END:VEVENT
BEGIN:VEVENT
DTSTART;TZID=Europe/Madrid:20191030T170000
DTEND;TZID=Europe/Madrid:20191030T190000
DTSTAMP:20260425T165826
CREATED:20191023T070712Z
LAST-MODIFIED:20191023T071611Z
UID:3255-1572454800-1572462000@sostrecivic.jamgo.org
SUMMARY:Taula rodona "Alternatives d'accés a l'habitatge"
DESCRIPTION:Quines són les carències dins del mercat de lloguer actual\, especialment per a la gent més jove? Com ha evolucionat durant els últims anys l’alternativa d’accés a l’habitatge a la ciutat de Barcelona? Hi ha alternatives menys precàries pel jovent? \nDe tot això parlarem en aquesta taula rodona organitzada pel Consell de la Joventut de Barcelona\, on hi participem juntament amb Celobert\, AFEV\, Omplim els buits i Cohousing Barcelona. \nT’hi esperem a l’Espai Jove la Fontana!
URL:https://sostrecivic.jamgo.org/agenda/taula-rodona-alternatives-dacces-a-lhabitatge/
LOCATION:Espai Jove La Fontana\, Gran de Gràcia\, 190.\, Barcelona\, 08012
CATEGORIES:Actes
END:VEVENT
END:VCALENDAR