BEGIN:VCALENDAR
VERSION:2.0
PRODID:-//Sostre Cívic - ECPv6.10.1.1//NONSGML v1.0//EN
CALSCALE:GREGORIAN
METHOD:PUBLISH
X-ORIGINAL-URL:https://sostrecivic.jamgo.org
X-WR-CALDESC:Events for Sostre Cívic
REFRESH-INTERVAL;VALUE=DURATION:PT1H
X-Robots-Tag:noindex
X-PUBLISHED-TTL:PT1H
BEGIN:VTIMEZONE
TZID:Europe/Madrid
BEGIN:DAYLIGHT
TZOFFSETFROM:+0100
TZOFFSETTO:+0200
TZNAME:CEST
DTSTART:20230326T010000
END:DAYLIGHT
BEGIN:STANDARD
TZOFFSETFROM:+0200
TZOFFSETTO:+0100
TZNAME:CET
DTSTART:20231029T010000
END:STANDARD
END:VTIMEZONE
BEGIN:VEVENT
DTSTART;TZID=Europe/Madrid:20230207T173000
DTEND;TZID=Europe/Madrid:20230207T193000
DTSTAMP:20260423T201715
CREATED:20230202T070058Z
LAST-MODIFIED:20230202T075100Z
UID:13436-1675791000-1675798200@sostrecivic.jamgo.org
SUMMARY:La Mola: sessió informativa i visita a l'edifici
DESCRIPTION:Busques habitatge assequible i per a tota la vida a Terrassa? Vols viure en el primer projecte d’habitatge cooperatiu en cessió d’ús del municipi? \nImpulsem La Mola en un edifici fins ara en desús i propietat d’una entitat financera que hem recuperat per oferir accés a l’habitatge digne i assequible a la localitat des d’una gestió col·lectiva\, de vocació pública i no-especulativa. \nEs tracta d’un edifici construït el 2015 i acabat de reformar\, situat el barri de Ca N’Anglada\, i que consta de 8 habitatges cooperatius d’entre 30 i 57 m2 en règim de cessió d’ús\, un model d’accés a l’habitatge alternatiu a la compra i el lloguer. \nEl 7 de febrer organitzem una sessió informativa oberta a totes les persones que vulguin conèixer més a fons aquest projecte i la nostra entitat. Després farem una visita guiada a l’edifici dels habitatges\, per poder conèixer per dins el projecte i resoldre i situ tots els dubtes que puguin sorgir. \nT’hi esperem! 🙂 \n\nQuan?\nEl dimarts 7 de febrer\, de 17h30 a 19h30. \nA on?\nCentre cívic Montserrat Roig (Av. de Barcelona\, 180.)\nA les 18h30 farem la visita a l’edifici (c. Mare de Déu dels Socors\, 77.)
URL:https://sostrecivic.jamgo.org/agenda/la-mola-visita070223/
LOCATION:Centre Cívic Montserrat Roig\, Av. de Barcelona\, 180.\, Terrassa\, 08222
CATEGORIES:Xerrades
ATTACH;FMTTYPE=image/png:https://sostrecivic.jamgo.org/wp-content/uploads/2023/02/La-Mola_sessio1-TW.png
ORGANIZER;CN="Sostre C%C3%ADvic":MAILTO:info@sostrecivic.cat
END:VEVENT
END:VCALENDAR