BEGIN:VCALENDAR
VERSION:2.0
PRODID:-//Sostre Cívic - ECPv6.10.1.1//NONSGML v1.0//EN
CALSCALE:GREGORIAN
METHOD:PUBLISH
X-WR-CALNAME:Sostre Cívic
X-ORIGINAL-URL:https://sostrecivic.jamgo.org
X-WR-CALDESC:Events for Sostre Cívic
REFRESH-INTERVAL;VALUE=DURATION:PT1H
X-Robots-Tag:noindex
X-PUBLISHED-TTL:PT1H
BEGIN:VTIMEZONE
TZID:Europe/Madrid
BEGIN:DAYLIGHT
TZOFFSETFROM:+0100
TZOFFSETTO:+0200
TZNAME:CEST
DTSTART:20220327T010000
END:DAYLIGHT
BEGIN:STANDARD
TZOFFSETFROM:+0200
TZOFFSETTO:+0100
TZNAME:CET
DTSTART:20221030T010000
END:STANDARD
END:VTIMEZONE
BEGIN:VEVENT
DTSTART;TZID=Europe/Madrid:20221129T170000
DTEND;TZID=Europe/Madrid:20221129T190000
DTSTAMP:20260423T223301
CREATED:20221122T134956Z
LAST-MODIFIED:20221128T090724Z
UID:12836-1669741200-1669748400@sostrecivic.jamgo.org
SUMMARY:Habitatge cooperatiu a Valls: sessió informativa i visita a l'edifici
DESCRIPTION:Tenim 13 habitatges disponibles per a persones que creguin que una altra manera de viure és possible! \nConjuntament amb l’ajuntament de Valls impulsem la primera promoció d’habitatges cooperatius qualificats de protecció oficial del municipi. Un edifici fins ara en desús i propietat d’una entitat financera que hem recuperat per oferir accés a l’habitatge digne i assequible a la localitat des d’una gestió col·lectiva\, de vocació pública i no-especulativa. \nEn aquesta xerrada informativa t’explicarem el projecte amb tot detall\, i parlarem també de com funciona el model de cessió d’ús i què significa formar part de la nostra cooperativa.  Després anirem a visitar l’edifici d’habitatges\, per conèixer per dins el projecte i els diferents pisos que tens al teu abast. \nT’hi esperem! 🙂 \n\nQuan?\nEl dimarts 29 de novembre\, de 17h a 19h. \nA on?\n17h: Xerrada informativa a la sala d’actes de l’Institut d’Estudis Vallencs (c. Jaume Huguet\, 1.) \n18h: Visita a l’edifici d’habitatges cooperatius (carrer Paborde\, 4.). \n  \n\nFORMULARI D’INSCRIPCIONS\nEns serveix per tenir un control de l’aforament i poder organitzar-nos. Si pots venir només a una de les activitats (xerrada informativa o visita)\, omple igualment les teves dades i indica’ns el que necessitis al camp d’observacions.
URL:https://sostrecivic.jamgo.org/agenda/habitatge-cooperatiu-valls-nov22/
LOCATION:Institut d’Estudis Vallencs\, c. Jaume Huguet\, 1.\, Valls\, 43800
CATEGORIES:Xerrades
END:VEVENT
END:VCALENDAR