BEGIN:VCALENDAR
VERSION:2.0
PRODID:-//Sostre Cívic - ECPv6.10.1.1//NONSGML v1.0//EN
CALSCALE:GREGORIAN
METHOD:PUBLISH
X-WR-CALNAME:Sostre Cívic
X-ORIGINAL-URL:https://sostrecivic.jamgo.org
X-WR-CALDESC:Events for Sostre Cívic
REFRESH-INTERVAL;VALUE=DURATION:PT1H
X-Robots-Tag:noindex
X-PUBLISHED-TTL:PT1H
BEGIN:VTIMEZONE
TZID:Europe/Madrid
BEGIN:DAYLIGHT
TZOFFSETFROM:+0100
TZOFFSETTO:+0200
TZNAME:CEST
DTSTART:20220327T010000
END:DAYLIGHT
BEGIN:STANDARD
TZOFFSETFROM:+0200
TZOFFSETTO:+0100
TZNAME:CET
DTSTART:20221030T010000
END:STANDARD
END:VTIMEZONE
BEGIN:VEVENT
DTSTART;TZID=Europe/Madrid:20221107T180000
DTEND;TZID=Europe/Madrid:20221107T193000
DTSTAMP:20260423T234600
CREATED:20221028T090129Z
LAST-MODIFIED:20221028T090129Z
UID:12707-1667844000-1667849400@sostrecivic.jamgo.org
SUMMARY:Habitatge cooperatiu per gent gran
DESCRIPTION:Has sentit parlar del cohabitatge sènior? T’interessa explorar un model alternatiu per envellir en comunitat amb esperit de col·laboració i cures? \nL’Ateneu Cooperatiu del Vallès Occidental organitza el dilluns 7 de novembre a les 18h aquesta xerrada online amb les sòcies dels projectes Can 70 de Barcelona i de Walden XXI de Sant Feliu de Guíxols. \nConeixerem el model de l’habitatge cooperatiu sènior mitjançant les experiències i les veus de: \n\nMaria Rosa Vinyalonga\, de Can 70.\nJosep Maria Ricart\, de Walden XXI.\n\nINCRIU-T’HI AQUÍ
URL:https://sostrecivic.jamgo.org/agenda/habitatge-cooperatiu-per-gent-gran-acvocc/
LOCATION:En linia
CATEGORIES:Xerrades
END:VEVENT
END:VCALENDAR