BEGIN:VCALENDAR
VERSION:2.0
PRODID:-//Sostre Cívic - ECPv6.10.1.1//NONSGML v1.0//EN
CALSCALE:GREGORIAN
METHOD:PUBLISH
X-WR-CALNAME:Sostre Cívic
X-ORIGINAL-URL:https://sostrecivic.jamgo.org
X-WR-CALDESC:Events for Sostre Cívic
REFRESH-INTERVAL;VALUE=DURATION:PT1H
X-Robots-Tag:noindex
X-PUBLISHED-TTL:PT1H
BEGIN:VTIMEZONE
TZID:Europe/Madrid
BEGIN:DAYLIGHT
TZOFFSETFROM:+0100
TZOFFSETTO:+0200
TZNAME:CEST
DTSTART:20220327T010000
END:DAYLIGHT
BEGIN:STANDARD
TZOFFSETFROM:+0200
TZOFFSETTO:+0100
TZNAME:CET
DTSTART:20221030T010000
END:STANDARD
END:VTIMEZONE
BEGIN:VEVENT
DTSTART;TZID=Europe/Madrid:20221005T173000
DTEND;TZID=Europe/Madrid:20221005T190000
DTSTAMP:20260424T004105
CREATED:20220929T152358Z
LAST-MODIFIED:20220929T153259Z
UID:12236-1664991000-1664996400@sostrecivic.jamgo.org
SUMMARY:Habitatge Cooperatiu: Urbanisme i cerca de patrimoni
DESCRIPTION:Sessió d’introducció al marc legal de la gestió del territori i els principis bàsics de l’urbanisme com la classificació i qualificació del sòl i els diferents sistemes de planejament. \nTambé es donaran eines per la cerca de patrimoni per a la detecció d’una oportunitat\, la cerca d’informació als registres urbanístics\, cadastre i la valoració de l’aprofitament. \nOrganitzada per Coòpolis. \n\nMÉS INFORMACIÓ I INSCRIPCIONS
URL:https://sostrecivic.jamgo.org/agenda/habitatge-cooperatiu-urbanisme-i-cerca-de-patrimoni/
LOCATION:En linia
CATEGORIES:Xerrades
END:VEVENT
END:VCALENDAR