BEGIN:VCALENDAR
VERSION:2.0
PRODID:-//Sostre Cívic - ECPv6.10.1.1//NONSGML v1.0//EN
CALSCALE:GREGORIAN
METHOD:PUBLISH
X-ORIGINAL-URL:https://sostrecivic.jamgo.org
X-WR-CALDESC:Events for Sostre Cívic
REFRESH-INTERVAL;VALUE=DURATION:PT1H
X-Robots-Tag:noindex
X-PUBLISHED-TTL:PT1H
BEGIN:VTIMEZONE
TZID:Europe/Madrid
BEGIN:DAYLIGHT
TZOFFSETFROM:+0100
TZOFFSETTO:+0200
TZNAME:CEST
DTSTART:20210328T010000
END:DAYLIGHT
BEGIN:STANDARD
TZOFFSETFROM:+0200
TZOFFSETTO:+0100
TZNAME:CET
DTSTART:20211031T010000
END:STANDARD
END:VTIMEZONE
BEGIN:VEVENT
DTSTART;TZID=Europe/Madrid:20210716T173000
DTEND;TZID=Europe/Madrid:20210716T190000
DTSTAMP:20260424T154420
CREATED:20210706T123131Z
LAST-MODIFIED:20210712T100750Z
UID:7386-1626456600-1626462000@sostrecivic.jamgo.org
SUMMARY:Sessió informativa del nou projecte d'Olesa de Montserrat (en línia)
DESCRIPTION:Vols viure a Olesa de Montserrat? Impulsem el primer projecte d’habitatge cooperatiu en cessió d’ús al municipi\, en una finca privada a mig construir on preveiem 25 habitatges complerts amb espais comunitaris. Obrim un període d’inscripcions\, del 12 al 21 de juliol\, per incorporar noves persones al grup impulsor. A la nostra pàgina web trobaràs tota la informació per inscriure’t i el dossier del projecte.  \nInscriu-te a la sessió informativa en línia per a resoldre dubtes i rebre més informació. \n  \n\nQuan?\nEl divendres 16 de juliol\, de 17:30 a 19:00 hores. \nA on?\nXerrada en línia. Passarem l’enllaç de l’acte per correu electrònic a les persones inscrites el dia anterior. \n  \n\nINSCRIU-TE AL FORMULARI ABANS DEL DIJOUS 15 DE JULIOL\n \n\n\n\n\n\n\n\n﻿﻿﻿﻿
URL:https://sostrecivic.jamgo.org/agenda/sessio-informativa-del-nou-projecte-dolesa-de-montserrat-en-linia/
LOCATION:En linia
CATEGORIES:Xerrades
ATTACH;FMTTYPE=image/png:https://sostrecivic.jamgo.org/wp-content/uploads/2021/07/Mesa-de-trabajo-1.png
END:VEVENT
END:VCALENDAR