BEGIN:VCALENDAR
VERSION:2.0
PRODID:-//Sostre Cívic - ECPv6.10.1.1//NONSGML v1.0//EN
CALSCALE:GREGORIAN
METHOD:PUBLISH
X-WR-CALNAME:Sostre Cívic
X-ORIGINAL-URL:https://sostrecivic.jamgo.org
X-WR-CALDESC:Events for Sostre Cívic
REFRESH-INTERVAL;VALUE=DURATION:PT1H
X-Robots-Tag:noindex
X-PUBLISHED-TTL:PT1H
BEGIN:VTIMEZONE
TZID:Europe/Madrid
BEGIN:DAYLIGHT
TZOFFSETFROM:+0100
TZOFFSETTO:+0200
TZNAME:CEST
DTSTART:20210328T010000
END:DAYLIGHT
BEGIN:STANDARD
TZOFFSETFROM:+0200
TZOFFSETTO:+0100
TZNAME:CET
DTSTART:20211031T010000
END:STANDARD
END:VTIMEZONE
BEGIN:VEVENT
DTSTART;TZID=Europe/Madrid:20210526T180000
DTEND;TZID=Europe/Madrid:20210526T200000
DTSTAMP:20260424T182402
CREATED:20210507T084511Z
LAST-MODIFIED:20210519T152726Z
UID:6843-1622052000-1622059200@sostrecivic.jamgo.org
SUMMARY:Xerrada: L'encaix de l'habitatge cooperatiu en la vida i economia rural
DESCRIPTION:L’habitatge cooperatiu en cessió d’ús creix els darrers anys. Des de la seva primera iniciativa a Catalunya\, fa tretze anys\, és un model que intenta donar resposta a les necessitats d’habitatge assequible\, digne i inclusiu. Però pot respondre a la necessitat social de revitalitzar i repoblar el món rural? Que vol dir quan parlem de repoblament rural? És l’habitatge cooperatiu una fórmula vàlida pels entorns més despoblats? En aquesta xerrada\, a càrrec del grup llavor e l T u r r ó s – C a s a C o m ú\, donarem l’espai per a debatre sobre un repoblament adient\, recuperant els mitjans de producció i la reactivació social i econòmica de l’entorn. Per un entorn rural conscient i respectuós amb l’entorn i els seus habitants\, impulsem junts la reactivació social i el retorn de la vida al camp! \n  \n\nQuan?\nEl dimecres 26 de maig\, de 18:00 a 20:00 hores. \nA on?\nXerrada en línia. Passarem l’enllaç de l’acte per correu electrònic a les persones inscrites fins al dia anterior. \n  \n\nINSCRIU-TE AL FORMULARI ABANS DEL DIMARS 25 DE MAIG\n \n\n\n\n\n\n\n\n﻿﻿﻿﻿﻿
URL:https://sostrecivic.jamgo.org/agenda/xerrada-lencaix-de-lhabitatge-cooperatiu-en-la-vida-i-economia-rural/
LOCATION:En linia
CATEGORIES:Xerrades
ATTACH;FMTTYPE=image/png:https://sostrecivic.jamgo.org/wp-content/uploads/2021/05/0521-xerrada-rurals_1.png
ORGANIZER;CN="Sostre C%C3%ADvic":MAILTO:info@sostrecivic.cat
END:VEVENT
END:VCALENDAR