BEGIN:VCALENDAR
VERSION:2.0
PRODID:-//Sostre Cívic - ECPv6.10.1.1//NONSGML v1.0//EN
CALSCALE:GREGORIAN
METHOD:PUBLISH
X-ORIGINAL-URL:https://sostrecivic.jamgo.org
X-WR-CALDESC:Events for Sostre Cívic
REFRESH-INTERVAL;VALUE=DURATION:PT1H
X-Robots-Tag:noindex
X-PUBLISHED-TTL:PT1H
BEGIN:VTIMEZONE
TZID:Europe/Madrid
BEGIN:DAYLIGHT
TZOFFSETFROM:+0100
TZOFFSETTO:+0200
TZNAME:CEST
DTSTART:20210328T010000
END:DAYLIGHT
BEGIN:STANDARD
TZOFFSETFROM:+0200
TZOFFSETTO:+0100
TZNAME:CET
DTSTART:20211031T010000
END:STANDARD
END:VTIMEZONE
BEGIN:VEVENT
DTSTART;TZID=Europe/Madrid:20210521T180000
DTEND;TZID=Europe/Madrid:20210521T200000
DTSTAMP:20260424T181937
CREATED:20210426T202432Z
LAST-MODIFIED:20210520T164250Z
UID:6784-1621620000-1621627200@sostrecivic.jamgo.org
SUMMARY:L'economia del bé comú i les cooperatives
DESCRIPTION:Us convidem a la xerrada virtual oberta organitzada pel grup impulsor del nostre projecte WALDEN XXI i oberta a tothom interessat en el model del cooperativisme i de l’Economia Social. Per Josep Maria Carbò: filòsof\, professor jubilat\, fundador de l’escola de filosofia “El pou” a Girona\, president de l’Associació EBC-Girona que treballa per a la difusió i la implementació de l’Economia del Bé Comú a les comarques gironines.\nT’hi esperem  \n\nQuan?\nEl divendres 21 de maig\, de 18:00 a 20:00 hores. \nA on?\nXerrada en línia. Passarem l’enllaç de l’acte per correu electrònic a les persones inscrites fins al dia anterior. \n  \n\nFORMULARI TANCAT
URL:https://sostrecivic.jamgo.org/agenda/leconomia-del-be-comu-i-les-cooperatives/
CATEGORIES:Xerrades
ATTACH;FMTTYPE=image/png:https://sostrecivic.jamgo.org/wp-content/uploads/2021/04/0421-xerrada-walden-xxi-1-e1619631776210.png
ORGANIZER;CN="Sostre C%C3%ADvic":MAILTO:info@sostrecivic.cat
END:VEVENT
END:VCALENDAR