BEGIN:VCALENDAR
VERSION:2.0
PRODID:-//Sostre Cívic - ECPv6.10.1.1//NONSGML v1.0//EN
CALSCALE:GREGORIAN
METHOD:PUBLISH
X-WR-CALNAME:Sostre Cívic
X-ORIGINAL-URL:https://sostrecivic.jamgo.org
X-WR-CALDESC:Events for Sostre Cívic
REFRESH-INTERVAL;VALUE=DURATION:PT1H
X-Robots-Tag:noindex
X-PUBLISHED-TTL:PT1H
BEGIN:VTIMEZONE
TZID:Europe/Madrid
BEGIN:DAYLIGHT
TZOFFSETFROM:+0100
TZOFFSETTO:+0200
TZNAME:CEST
DTSTART:20200329T010000
END:DAYLIGHT
BEGIN:STANDARD
TZOFFSETFROM:+0200
TZOFFSETTO:+0100
TZNAME:CET
DTSTART:20201025T010000
END:STANDARD
END:VTIMEZONE
BEGIN:VEVENT
DTSTART;TZID=Europe/Madrid:20200214T183000
DTEND;TZID=Europe/Madrid:20200214T203000
DTSTAMP:20260425T131754
CREATED:20200204T151539Z
LAST-MODIFIED:20200204T152225Z
UID:3689-1581705000-1581712200@sostrecivic.jamgo.org
SUMMARY:Xerrada: "Habitatge cooperatiu en cessió d'ús"
DESCRIPTION:Saps què és l’habitatge cooperatiu? Coneixes els seus avantatges i els valors en que es basa? T’agradaria viure en un projecte d’aquestes característiques a Artés? \nMandi Domingo\, tècnica de Sostre Cívic i habitant de Cal Cases\, presenta aquesta xerrada sobre habitatge cooperatiu en cessió d’ús\, un model alternatiu de tinença d’habitatge amb gran potencial de transformació social. \nT’esperem el divendres 14 de febrer a la sala d’actes de Cal Sitges\, a Artés! L’entrada és lliure i gratuïta.
URL:https://sostrecivic.jamgo.org/agenda/xerrada-habitatge-cooperatiu-en-cessio-dus/
LOCATION:Cal Sitges\, Carrer les Parres\, 44.\, Artés\, 08271
CATEGORIES:Xerrades
END:VEVENT
END:VCALENDAR