BEGIN:VCALENDAR
VERSION:2.0
PRODID:-//Sostre Cívic - ECPv6.10.1.1//NONSGML v1.0//EN
CALSCALE:GREGORIAN
METHOD:PUBLISH
X-WR-CALNAME:Sostre Cívic
X-ORIGINAL-URL:https://sostrecivic.jamgo.org
X-WR-CALDESC:Events for Sostre Cívic
REFRESH-INTERVAL;VALUE=DURATION:PT1H
X-Robots-Tag:noindex
X-PUBLISHED-TTL:PT1H
BEGIN:VTIMEZONE
TZID:Europe/Madrid
BEGIN:DAYLIGHT
TZOFFSETFROM:+0100
TZOFFSETTO:+0200
TZNAME:CEST
DTSTART:20200329T010000
END:DAYLIGHT
BEGIN:STANDARD
TZOFFSETFROM:+0200
TZOFFSETTO:+0100
TZNAME:CET
DTSTART:20201025T010000
END:STANDARD
END:VTIMEZONE
BEGIN:VEVENT
DTSTART;TZID=Europe/Madrid:20200114T163000
DTEND;TZID=Europe/Madrid:20200114T183000
DTSTAMP:20260425T143817
CREATED:20191202T102820Z
LAST-MODIFIED:20191202T103019Z
UID:3486-1579019400-1579026600@sostrecivic.jamgo.org
SUMMARY:Tertúlia "Gent gran parlem"
DESCRIPTION:TresG (Grup Gent Gran)\, la renovada Àrea sènior de Sostre Cívic\, organitza aquesta tertúlia per parlar i resoldre els dubtes del model de cohabitatge sènior i els projectes d’habitatge cooperatiu específics per la gent gran. \nUna proposta que neix amb la idea de compartir històries\, preguntes i experiències; de crear grups sènior nous o conèixer els que ja hi existeixen. Però\, sobre tot\, per generar un espai d’acollida i de referència per totes les persones grans que formen part de Sostre Cívic. \nPlaçes limitades! Recorda confirmar la teva assistència en aquest formulari. \nT’hi esperem 🙂
URL:https://sostrecivic.jamgo.org/agenda/tertulia-gent-gran-parlem-gener2020/
LOCATION:ECOS Grup Cooperatiu\, Casp\, 43\, baixos.\, Barcelona\, 08010
CATEGORIES:Xerrades
END:VEVENT
END:VCALENDAR