BEGIN:VCALENDAR
VERSION:2.0
PRODID:-//Sostre Cívic - ECPv6.10.1.1//NONSGML v1.0//EN
CALSCALE:GREGORIAN
METHOD:PUBLISH
X-WR-CALNAME:Sostre Cívic
X-ORIGINAL-URL:https://sostrecivic.jamgo.org
X-WR-CALDESC:Events for Sostre Cívic
REFRESH-INTERVAL;VALUE=DURATION:PT1H
X-Robots-Tag:noindex
X-PUBLISHED-TTL:PT1H
BEGIN:VTIMEZONE
TZID:Europe/Madrid
BEGIN:DAYLIGHT
TZOFFSETFROM:+0100
TZOFFSETTO:+0200
TZNAME:CEST
DTSTART:20200329T010000
END:DAYLIGHT
BEGIN:STANDARD
TZOFFSETFROM:+0200
TZOFFSETTO:+0100
TZNAME:CET
DTSTART:20201025T010000
END:STANDARD
END:VTIMEZONE
BEGIN:VEVENT
DTSTART;TZID=Europe/Madrid:20200109T170000
DTEND;TZID=Europe/Madrid:20200109T190000
DTSTAMP:20260425T143903
CREATED:20200102T121730Z
LAST-MODIFIED:20200102T122606Z
UID:3593-1578589200-1578596400@sostrecivic.jamgo.org
SUMMARY:Xerrada informativa del projecte Cirerers
DESCRIPTION:Vols entrar a un projecte d’habitatge cooperatiu a Barcelona? Ara tenim oberta la llista d’incorporacions a Cirerers! \nCirerers neix l’any 2016\, quan vam apostar per presentar-nos al concurs impulsat per l’Ajuntament de Barcelona per desenvolupar un projecte d’habitatge cooperatiu al barri de Roquetes de la ciutat. \nEl dia 9 de gener organitzem una xerrada informativa per a totes les persones interessades en conèixer el projecte i la nostra cooperativa. \nMentrestant\, aquí pots llegir els requisits d’incorporació i el dossier informatiu i en el següent enllaç et pots incriure a la llista d’espera del projecte: \nFORMULARI D’INSCRIPCIÓ AL PROJECTE CIRERERS \nUs hi esperem! 
URL:https://sostrecivic.jamgo.org/agenda/xerrada-informativa-del-projecte-cirerers-gener2020/
LOCATION:ECOS Grup Cooperatiu\, Casp\, 43\, baixos.\, Barcelona\, 08010
CATEGORIES:Xerrades
END:VEVENT
END:VCALENDAR