BEGIN:VCALENDAR
VERSION:2.0
PRODID:-//Sostre Cívic - ECPv6.10.1.1//NONSGML v1.0//EN
CALSCALE:GREGORIAN
METHOD:PUBLISH
X-WR-CALNAME:Sostre Cívic
X-ORIGINAL-URL:https://sostrecivic.jamgo.org
X-WR-CALDESC:Events for Sostre Cívic
REFRESH-INTERVAL;VALUE=DURATION:PT1H
X-Robots-Tag:noindex
X-PUBLISHED-TTL:PT1H
BEGIN:VTIMEZONE
TZID:Europe/Madrid
BEGIN:DAYLIGHT
TZOFFSETFROM:+0100
TZOFFSETTO:+0200
TZNAME:CEST
DTSTART:20230326T010000
END:DAYLIGHT
BEGIN:STANDARD
TZOFFSETFROM:+0200
TZOFFSETTO:+0100
TZNAME:CET
DTSTART:20231029T010000
END:STANDARD
END:VTIMEZONE
BEGIN:VEVENT
DTSTART;TZID=Europe/Madrid:20230302T180000
DTEND;TZID=Europe/Madrid:20230302T200000
DTSTAMP:20260423T173710
CREATED:20230130T134143Z
LAST-MODIFIED:20230130T144520Z
UID:13411-1677780000-1677787200@sostrecivic.jamgo.org
SUMMARY:Habitatge cooperatiu a Palamós: reunió informativa
DESCRIPTION:Vols viure en un habitatge cooperatiu a Palamós?\nUn habitatge assequible i per a tota la vida\, sota el model de cessió d’ús?\nImpulsem el primer projecte d’habitatge cooperatiu d’obra nova sobre sòl públic de terres gironines! Serà realitat gràcies a la col·laboració público-cooperativa entre Sostre Cívic i l’ajuntament del municipi. \nL’objecte del projecte és la construcció d’un edifici plurifamiliar en un solar de propietat pública situada a l’Avinguda Catalunya s/n per destinar-lo a habitatge en règim cooperatiu en cessió d’ús. La promoció serà de 34 habitatges\, qualificats de protecció oficial\, distribuïts en planta baixa i cinc plantes\, a més de 34 places d’aparcament soterrani. \n🔎 Consulta aquí la web del projecte i el dossier informatiu. \nOrganitzem aquesta reunió informativa oberta a totes les persones interessades per resoldre els dubtes sobre el projecte i compartir més informació. T’hi esperem! \n  \n\nQuan?\nEl dijous 2 de març\, a les 18:00 hores. \nA on?\nGaleries Carme\, situada al C/Dídac Garrell 10\, 1er pis. \n  \n\nAFORAMENT LIMITAT: NECESSÀRIA INSCRIPCIÓ PRÈVIA\n \n\n\n\n\n\n\n\n﻿﻿﻿﻿﻿﻿
URL:https://sostrecivic.jamgo.org/agenda/habitatge-cooperatiu-palamos-reunio-informativa/
LOCATION:Galeries Carme\, Carrer Dídac Garrell i Tauler\, Palamós\, Girona\, 17230\, Espanya
CATEGORIES:Xerrades
END:VEVENT
BEGIN:VEVENT
DTSTART;TZID=Europe/Madrid:20230330T173000
DTEND;TZID=Europe/Madrid:20230330T190000
DTSTAMP:20260423T173710
CREATED:20230310T092203Z
LAST-MODIFIED:20230316T085625Z
UID:14019-1680197400-1680202800@sostrecivic.jamgo.org
SUMMARY:Habitatge cooperatiu a Valls: sessió informativa i visita a l'edifici
DESCRIPTION:Tenim 10 habitatges disponibles per a persones que creguin que una altra manera de viure és possible! \nConjuntament amb l’ajuntament de Valls impulsem la primera promoció d’habitatges cooperatius qualificats de protecció oficial del municipi. Un edifici fins ara en desús i propietat d’una entitat financera que hem recuperat per oferir accés a l’habitatge digne i assequible a la localitat des d’una gestió col·lectiva\, de vocació pública i no-especulativa. \nEn aquesta xerrada informativa t’explicarem el projecte amb tot detall\, i parlarem també de com funciona el model de cessió d’ús i què significa formar part de la nostra cooperativa.  Després anirem a visitar l’edifici d’habitatges\, per conèixer per dins el projecte i els diferents pisos que tens al teu abast. \nConsulta aquí el web del projecte. \nT’hi esperem! 🙂 \n\nQuan?\nEl dijous 30 de març\, de 17h30 a 19h. \nA on?\n17h30: Xerrada informativa a la sala d’actes del Centre Cívic de Valls (c. Sant Pere\, 2) \n18h30: Visita a l’edifici d’habitatges cooperatius (carrer Paborde\, 4.). \n  \n\nFORMULARI D’INSCRIPCIONS\nEns serveix per tenir un control de l’aforament i poder organitzar-nos. Si pots venir només a una de les activitats (xerrada informativa o visita)\, omple igualment les teves dades i indica’ns el que necessitis al camp d’observacions. \n \n\n\n\n\n\n\n\n﻿﻿﻿﻿﻿﻿﻿﻿
URL:https://sostrecivic.jamgo.org/agenda/valls-sessio-informativa-marc23/
LOCATION:Centre Cívic de Valls\, Carrer Sant Pere\, 2\, Valls\, 43800
CATEGORIES:Xerrades
ATTACH;FMTTYPE=image/png:https://sostrecivic.jamgo.org/wp-content/uploads/2023/03/prueba-after-general-redes-IG_Mesa-de-trabajo-1-copia-14-1.png
END:VEVENT
END:VCALENDAR