BEGIN:VCALENDAR
VERSION:2.0
PRODID:-//Sostre Cívic - ECPv6.10.1.1//NONSGML v1.0//EN
CALSCALE:GREGORIAN
METHOD:PUBLISH
X-WR-CALNAME:Sostre Cívic
X-ORIGINAL-URL:https://sostrecivic.jamgo.org
X-WR-CALDESC:Events for Sostre Cívic
REFRESH-INTERVAL;VALUE=DURATION:PT1H
X-Robots-Tag:noindex
X-PUBLISHED-TTL:PT1H
BEGIN:VTIMEZONE
TZID:Europe/Madrid
BEGIN:DAYLIGHT
TZOFFSETFROM:+0100
TZOFFSETTO:+0200
TZNAME:CEST
DTSTART:20220327T010000
END:DAYLIGHT
BEGIN:STANDARD
TZOFFSETFROM:+0200
TZOFFSETTO:+0100
TZNAME:CET
DTSTART:20221030T010000
END:STANDARD
END:VTIMEZONE
BEGIN:VEVENT
DTSTART;TZID=Europe/Madrid:20220701T170000
DTEND;TZID=Europe/Madrid:20220701T193000
DTSTAMP:20260424T022925
CREATED:20220613T111918Z
LAST-MODIFIED:20220627T083046Z
UID:10383-1656694800-1656703800@sostrecivic.jamgo.org
SUMMARY:Com viure en un habitatge cooperatiu?
DESCRIPTION:T’interessa formar part d’un projecte d’habitatge cooperatiu però no saps per on començar? \nEn aquesta sessió que fem en el marc de Coòpolis plantejarem la problemàtica d’accés a l’habitatge i com models alternatius poden esdevenir una realitat\, detallant les claus del model de cessió d’ús i els seus valors. Explicarem també diferents experiències de la ciutat\, i les diferents fases per portar a terme un projecte d’aquestes característiques. \nVine a aquesta xerrada informativa i oberta per a les persones interessades\, futurs nous socis i també per aquelles persones sòcies que vulguin aprofundir sobre el model de cessió d’ús i conèixer com s’organitza la nostra activitat. \n\n\n\n\n\nT’hi esperem 🙂 \n\n\n\n\n\nQuan?\n\n\n\nEl divendres 1 de juliol\, de 17:00 a 19:30 hores. \n\n\n\nA on?\n\n\n\nActivitat en línia. \n\n\n\nInscripcions aquí
URL:https://sostrecivic.jamgo.org/agenda/sessio-informativa-mensual-juny22/
LOCATION:Coòpolis\, C/Constitució 19-25\, Bloc 8\, Barcelona
CATEGORIES:Xerrades
END:VEVENT
BEGIN:VEVENT
DTSTART;TZID=Europe/Madrid:20220707T180000
DTEND;TZID=Europe/Madrid:20220707T193000
DTSTAMP:20260424T022925
CREATED:20220620T100603Z
LAST-MODIFIED:20220620T100603Z
UID:10436-1657216800-1657222200@sostrecivic.jamgo.org
SUMMARY:Habitatge Cooperatiu a Palamós: sessió informativa en línia
DESCRIPTION:Vols viure en un habitatge cooperatiu al Baix Empordà? Impulsem el primer projecte d’habitatge cooperatiu en cessió d’ús sobre sòl públic de terres gironines. Serà al municipi de Palamós i gràcies a la col·laboració público-cooperativa entre Sostre Cívic i l’Ajuntament del municipi. L’objecte del projecte és la construcció d’un edifici plurifamiliar en un solar de propietat pública situada a l’Avinguda Catalunya s/n per destinar-lo a habitatge en règim cooperatiu en cessió d’ús. La promoció serà de 34 habitatges\, qualificats de protecció oficial\, distribuïts en planta baixa i cinc plantes\, a més de 34 places d’aparcament soterrani. \nInscriu-te a la sessió informativa en línia per a resoldre dubtes i rebre més informació. \n  \n\nQuan?\nEl dijous 7 de juliol\, de 18:00 a 19:30 hores. \nXerrada virtual. S’enviarà un mail amb l’enllaç de la sessió a les persones inscrites. \n  \n\nINSCRIU-TE AL FORMULARI\n \n\n\n\n\n\n\n\n﻿﻿﻿﻿﻿
URL:https://sostrecivic.jamgo.org/agenda/habitatge-cooperatiu-a-palamos-sessio-informativa-en-linia/
LOCATION:En linia
CATEGORIES:Xerrades
ATTACH;FMTTYPE=image/png:https://sostrecivic.jamgo.org/wp-content/uploads/2022/06/0622-Xerrades-Palamós-1.png
END:VEVENT
BEGIN:VEVENT
DTSTART;TZID=Europe/Madrid:20220713T170000
DTEND;TZID=Europe/Madrid:20220713T190000
DTSTAMP:20260424T022925
CREATED:20220628T102622Z
LAST-MODIFIED:20220630T084452Z
UID:10496-1657731600-1657738800@sostrecivic.jamgo.org
SUMMARY:Coneix el projecte sènior Solterra! Xerrada a Vic
DESCRIPTION:El grup sènior Rurals ha detectat un edifici en desús a Sant Hilari Sacalm i volem impulsar un projecte d’habitatge cooperatiu per a persones grans! \nEs tracta de l’antic hotel Solterra\, que es troba actualment en desús i que requereix de reforma per a la seva posada a punt. Aquest edifici és de propietat d’una empresa immobiliària i es disposa d’unes arres per la seva adquisició per part de la cooperativa\, i poder recuperar els habitatges de l’especulació per a usos socials. \nL’edifici permet ubicar-hi 30-35 allotjaments complets (cuina\, sala\, bany\, habitacions…)\, i disposarà d’espais col·lectius complementaris per l’ús de tota la comunitat. Coneix aquí tots els detalls! \nSi vols formar part d’aquest projecte\, vine a aquesta xerrada informativa i oberta per a les persones interessades! \nT’hi esperem 🙂 \n\nQuan?\nEl dimecres 13 de juliol\, a les 17:00 hores. \nA on?\nAl Centre Cívic Can Raba (carrer Raval Cortines\, 24\, Vic.). \n  \n\n \nINSCRIU-TE AL FORMULARI\n\n\n\n\n\n\n\n﻿﻿﻿﻿﻿﻿﻿
URL:https://sostrecivic.jamgo.org/agenda/coneix-solterra-xerrada-vic/
LOCATION:Centre Cívic Can Raba\, carrer Raval Cortines\, 24.\, Vic\, Barcelona\, 08500
CATEGORIES:Xerrades
END:VEVENT
BEGIN:VEVENT
DTSTART;TZID=Europe/Madrid:20220714T180000
DTEND;TZID=Europe/Madrid:20220714T193000
DTSTAMP:20260424T022925
CREATED:20220620T100733Z
LAST-MODIFIED:20220705T152221Z
UID:10438-1657821600-1657827000@sostrecivic.jamgo.org
SUMMARY:Habitatge Cooperatiu a Palamós: sessió informativa en línia
DESCRIPTION:Vols viure en un habitatge cooperatiu al Baix Empordà? Impulsem el primer projecte d’habitatge cooperatiu en cessió d’ús sobre sòl públic de terres gironines. Serà al municipi de Palamós i gràcies a la col·laboració público-cooperativa entre Sostre Cívic i l’Ajuntament del municipi. L’objecte del projecte és la construcció d’un edifici plurifamiliar en un solar de propietat pública situada a l’Avinguda Catalunya s/n per destinar-lo a habitatge en règim cooperatiu en cessió d’ús. La promoció serà de 34 habitatges\, qualificats de protecció oficial\, distribuïts en planta baixa i cinc plantes\, a més de 34 places d’aparcament soterrani. \nInscriu-te a la sessió informativa en línia per a resoldre dubtes i rebre més informació. \n  \n\nQuan?\nEl dijous 14 de juliol\, de 18:00 a 19:30 hores. \nXerrada virtual. S’enviarà un mail amb l’enllaç de la sessió a les persones inscrites. \n  \n\nINSCRIU-TE AL FORMULARI\n \n\n\n\n\n\n\n\n﻿﻿﻿﻿﻿﻿
URL:https://sostrecivic.jamgo.org/agenda/habitatge-cooperatiu-a-palamos-sessio-informativa-en-linia-2/
LOCATION:En linia
CATEGORIES:Xerrades
ATTACH;FMTTYPE=image/jpeg:https://sostrecivic.jamgo.org/wp-content/uploads/2022/06/Mesa-de-trabajo-1-copia-3-100.jpg
END:VEVENT
BEGIN:VEVENT
DTSTART;TZID=Europe/Madrid:20220728T170000
DTEND;TZID=Europe/Madrid:20220728T183000
DTSTAMP:20260424T022925
CREATED:20220712T203118Z
LAST-MODIFIED:20220728T143610Z
UID:10852-1659027600-1659033000@sostrecivic.jamgo.org
SUMMARY:Sessió informativa mensual
DESCRIPTION:T’interessa formar part d’un projecte d’habitatge cooperatiu però no saps per on començar? Vols saber què fem a Sostre Cívic i els projectes que tenim actius? T’agradaria conèixer més a fons el model d’habitatge en cessió d’ús? \nVine a aquesta xerrada informativa i oberta per a les persones interessades\, futurs nous socis i també per aquelles persones sòcies que vulguin aprofundir sobre el model de cessió d’ús i conèixer com s’organitza la nostra activitat. \nT’hi esperem 🙂 \n\nQuan?\nEl dijous 28 de juliol\, de 17:00 a 18:30 hores. \nA on?\nXerrada en línia. Passarem l’enllaç de l’acte per correu electrònic a les persones inscrites. \n  \n\n\n \n\n\n\n\n\n\n\n﻿﻿﻿﻿﻿
URL:https://sostrecivic.jamgo.org/agenda/sessio-informativa-mensual-juliol22/
LOCATION:En linia
CATEGORIES:Xerrades
ATTACH;FMTTYPE=image/png:https://sostrecivic.jamgo.org/wp-content/uploads/2022/07/Sessio_juliol22.png
ORGANIZER;CN="Sostre C%C3%ADvic":MAILTO:info@sostrecivic.cat
END:VEVENT
END:VCALENDAR