BEGIN:VCALENDAR
VERSION:2.0
PRODID:-//Sostre Cívic - ECPv6.10.1.1//NONSGML v1.0//EN
CALSCALE:GREGORIAN
METHOD:PUBLISH
X-WR-CALNAME:Sostre Cívic
X-ORIGINAL-URL:https://sostrecivic.jamgo.org
X-WR-CALDESC:Events for Sostre Cívic
REFRESH-INTERVAL;VALUE=DURATION:PT1H
X-Robots-Tag:noindex
X-PUBLISHED-TTL:PT1H
BEGIN:VTIMEZONE
TZID:Europe/Madrid
BEGIN:DAYLIGHT
TZOFFSETFROM:+0100
TZOFFSETTO:+0200
TZNAME:CEST
DTSTART:20220327T010000
END:DAYLIGHT
BEGIN:STANDARD
TZOFFSETFROM:+0200
TZOFFSETTO:+0100
TZNAME:CET
DTSTART:20221030T010000
END:STANDARD
END:VTIMEZONE
BEGIN:VEVENT
DTSTART;TZID=Europe/Madrid:20220401T180000
DTEND;TZID=Europe/Madrid:20220401T193000
DTSTAMP:20260424T052629
CREATED:20220315T135332Z
LAST-MODIFIED:20220315T141026Z
UID:9509-1648836000-1648841400@sostrecivic.jamgo.org
SUMMARY:Nou projecte d'habitatge cooperatiu a Olesa!
DESCRIPTION:Ja queda menys per fer realitat el primer projecte d’habitatge cooperatiu a Olesa de Montserrat! Els últims mesos hem treballat en millorar el finançament del projecte per optimitzar les condicions econòmiques per accedir-hi\, i ja podem celebrar el resultat positiu d’aquestes gestions. \nRecuperem patrimoni en desús per fer habitatge social \nEl projecte neix quan un grup de sòcies residents a Olesa de Montserrat\, que porten des del 2018 impulsant el model d’habitatge cooperatiu al municipi\, va detectar un edifici que un promotor privat va començar a construir fa anys i que fruit de la crisi immobiliària de 2008 es va quedar aturat. L’edifici\, situat entre els carrers Pau Casals i Colom\, a ple centre de l’Eixample nou del municipi\, compta amb l’estructura\, soterranis\, tancaments exteriors\, teulada\, i gran part de les divisions interiors ja construïdes. Amb aquest projecte\, volem recuperar aquest patrimoni privat en desús que havia estat en mans d’un fons immobiliari\, i complir amb la funció social de l’habitatge des de l’autopromoció amb lògica de bé comú i no-lucre. \nMalgrat que l’obra ja està començada\, es planteja realitzar un procés participatiu amb el grup impulsor per adaptar el projecte en la mesura del possible\, amb l’objectiu d’aconseguir 25 habitatges i espais col·lectius complementaris\, així com espais oberts a la població. Alhora el projecte vol esdevenir un catalitzador de projectes socials a la població i comarca tot incentivant l’economia solidària. \n\nVols saber-ne més? Vine a la sessió informativa!\nT’esperem a la xerrada que farem el divendres 1 d’abril a les 18h. Aquí tots els detalls: \n1 d’abril\, a les 18h\nComunitat Minera Olesana\nc. d’Alfons Sala\, 42. (Olesa de Montserrat) \nA més\, pots consultar aquest complet dossier del projecte amb tota la informació sobre els requisits d’accés\, informació econòmica i calendari previst. \nT’hi esperem  \n 
URL:https://sostrecivic.jamgo.org/agenda/nou-projecte-dhabitatge-cooperatiu-a-olesa/
LOCATION:Comunitat Minera Olesana\, c. d'Alfons Sala\, 42.\, Olesa de Montserrat\, Barcelona\, 08640\, Espanya
CATEGORIES:Xerrades
END:VEVENT
BEGIN:VEVENT
DTSTART;TZID=Europe/Madrid:20220406T180000
DTEND;TZID=Europe/Madrid:20220406T193000
DTSTAMP:20260424T052629
CREATED:20220315T140610Z
LAST-MODIFIED:20220315T141511Z
UID:9517-1649268000-1649273400@sostrecivic.jamgo.org
SUMMARY:Nou projecte d'habitatge cooperatiu a Olesa!
DESCRIPTION:Ja queda menys per fer realitat el primer projecte d’habitatge cooperatiu a Olesa de Montserrat! Els últims mesos hem treballat en millorar el finançament del projecte per optimitzar les condicions econòmiques per accedir-hi\, i ja podem celebrar el resultat positiu d’aquestes gestions. \nRecuperem patrimoni en desús per fer habitatge social \nEl projecte neix quan un grup de sòcies residents a Olesa de Montserrat\, que porten des del 2018 impulsant el model d’habitatge cooperatiu al municipi\, va detectar un edifici que un promotor privat va començar a construir fa anys i que fruit de la crisi immobiliària de 2008 es va quedar aturat. L’edifici\, situat entre els carrers Pau Casals i Colom\, a ple centre de l’Eixample nou del municipi\, compta amb l’estructura\, soterranis\, tancaments exteriors\, teulada\, i gran part de les divisions interiors ja construïdes. Amb aquest projecte\, volem recuperar aquest patrimoni privat en desús que havia estat en mans d’un fons immobiliari\, i complir amb la funció social de l’habitatge des de l’autopromoció amb lògica de bé comú i no-lucre. \nMalgrat que l’obra ja està començada\, es planteja realitzar un procés participatiu amb el grup impulsor per adaptar el projecte en la mesura del possible\, amb l’objectiu d’aconseguir 25 habitatges i espais col·lectius complementaris\, així com espais oberts a la població. Alhora el projecte vol esdevenir un catalitzador de projectes socials a la població i comarca tot incentivant l’economia solidària. \n\nVols saber-ne més? Vine a la sessió informativa virtual!\nT’esperem a la xerrada que farem telemàticament el dimecres 6 d’abril a les 18h\, només has d’omplir el formulari que trobaràs a continuació i t’enviarem l’enllaç de la trobada. A més\, pots consultar aquest complet dossier del projecte amb tota la informació sobre els requisits d’accés\, informació econòmica i calendari previst. \nT’hi esperem 🙂 \n \n\n\n\n\n\n\n\n﻿﻿﻿﻿
URL:https://sostrecivic.jamgo.org/agenda/nou-projecte-habitatge-cooperatiu-olesa-virtual/
LOCATION:En linia
CATEGORIES:Xerrades
END:VEVENT
BEGIN:VEVENT
DTSTART;TZID=Europe/Madrid:20220409T110000
DTEND;TZID=Europe/Madrid:20220409T130000
DTSTAMP:20260424T052629
CREATED:20220329T195631Z
LAST-MODIFIED:20220329T195631Z
UID:9578-1649502000-1649509200@sostrecivic.jamgo.org
SUMMARY:Xerrada "Alternatives d'accés a l'habitatge"
DESCRIPTION:Parlem d’habitatge cooperatiu? \nEl nostre tècnic d’acompanyament a projectes en fase d’impuls\, en Yabel Pérez\, fa aquesta xerrada informativa a la Casa de la Cultura de Móra La Nova. \nUna oportunitat per reflexionar sobre les diferents alternatives d’accés a l’habitatge i com el model en cessió d’ús pot respondre per garantir el dret a l’habitatge a llarg termini fora d’un model especulatiu i la propietat privada. \nUna sessió organitzada per l‘Ateneu Cooperatiu Terres de l’Ebre. Més informació a la seva pàgina.
URL:https://sostrecivic.jamgo.org/agenda/xerrada-alternatives-dacces-a-lhabitatge/
LOCATION:Casa de la Cultura\, Avda. Lluis Companys\, 17.\, Móra la Nova\, 43770
CATEGORIES:Xerrades
END:VEVENT
BEGIN:VEVENT
DTSTART;TZID=Europe/Madrid:20220409T110000
DTEND;TZID=Europe/Madrid:20220409T130000
DTSTAMP:20260424T052629
CREATED:20220330T163936Z
LAST-MODIFIED:20220330T164122Z
UID:9585-1649502000-1649509200@sostrecivic.jamgo.org
SUMMARY:Sessió divulgativa: Projectes d’habitatge cooperatiu en sòl privat
DESCRIPTION:La sessió estarà dedicada a difondre i explicar el model d’habitatge cooperatiu que es desenvolupa en sòl privat i com s’impulsa un projecte d’aquestes característiques. \nTot i que sovint molts projectes d’habitatge cooperatiu s’ubiquen en sòl públic\, n’hi ha un 40% que recuperen patrimoni privat ja sigui a través de la compra d’un edifici o d’un solar. D’aquesta manera es contribueix a augmentar el parc d’habitatges assequibles i de protecció oficial. \nAquesta sessió vol aprofundir en aquesta tipologia d’habitatge cooperatiu\, menys coneguda i encara força incipient a Catalunya. \nLa sessió forma part de la campanya de comunicació “Guanyem terreny a l’especulació” impulsada per Coòpolis i entitats del sector per donar a conèixer la mobilització de sòl privat de projectes d’habitatge cooperatiu. \nInscripcions a https://www.bcn.coop/agenda/habitatge-cooperatiu-sol-privat/
URL:https://sostrecivic.jamgo.org/agenda/sessio-divulgativa-projectes-dhabitatge-cooperatiu-en-sol-privat/
LOCATION:Coòpolis\, C/Constitució 19-25\, Bloc 8\, Barcelona
CATEGORIES:Xerrades
ATTACH;FMTTYPE=image/png:https://sostrecivic.jamgo.org/wp-content/uploads/2022/03/Sessió_Habitatge_Cooepratiu_Sòl_Privat_-_TWITTER_8KVxnEf.png
END:VEVENT
BEGIN:VEVENT
DTSTART;TZID=Europe/Madrid:20220421T170000
DTEND;TZID=Europe/Madrid:20220421T183000
DTSTAMP:20260424T052629
CREATED:20220323T122350Z
LAST-MODIFIED:20230228T100156Z
UID:9537-1650560400-1650565800@sostrecivic.jamgo.org
SUMMARY:Sessió informativa mensual
DESCRIPTION:T’interessa formar part d’un projecte d’habitatge cooperatiu però no saps per on començar? Vols saber què fem a Sostre Cívic i els projectes que tenim actius? T’agradaria conèixer més a fons el model d’habitatge en cessió d’ús? \nVine a aquesta xerrada informativa i oberta per a les persones interessades\, futurs nous socis i també per aquelles persones sòcies que vulguin aprofundir sobre el model de cessió d’ús i conèixer com s’organitza la nostra activitat. \nT’hi esperem 🙂 \n\nQuan?\nEl dijous 21 d’abril\, de 17:00 a 18:30 hores. \nA on?\nXerrada en línia. Passarem l’enllaç de l’acte per correu electrònic a les persones inscrites. \n  \n\nINSCRIU-TE AL FORMULARI ABANS DEL 19 D’ABRIL\n \n\n\n\n\n\n\n\n﻿﻿﻿﻿
URL:https://sostrecivic.jamgo.org/agenda/sessio-informativa-mensual-abril22/
LOCATION:En linia
CATEGORIES:Xerrades
ATTACH;FMTTYPE=image/jpeg:https://sostrecivic.jamgo.org/wp-content/uploads/2022/03/0422_sessions-mensuals-1.jpg
ORGANIZER;CN="Sostre C%C3%ADvic":MAILTO:info@sostrecivic.cat
END:VEVENT
BEGIN:VEVENT
DTSTART;TZID=Europe/Madrid:20220427T160000
DTEND;TZID=Europe/Madrid:20220427T180000
DTSTAMP:20260424T052629
CREATED:20220422T105609Z
LAST-MODIFIED:20220422T105609Z
UID:9779-1651075200-1651082400@sostrecivic.jamgo.org
SUMMARY:L'Altre Fòrum - Habitatge: com vols viure?
DESCRIPTION:Aquesta xerrada forma part del cicle L’Altre Fòrum\, organitzat pels estudiants de l’Escola Tècnica Superior d’Enginyeria Industrial de Barcelona (ETSEIB-UPC) que anualment organitzen un cicle de xerrades\, debats\, tallers i discussions amb la voluntat de plantejar alternatives al model de relacions\, tant laborals com socials\, actual. \nParlarem de l’habitatge cooperatiu en cessió d’ús com a model alternatiu d’accés a l’habitatge\, que canvia el paradigma capitalista d’entendre l’habitatge com una mercaderia i no com un dret bàsic de les persones. \nEn aquesta trobada debatrem sobre com tornar a posar l’habitatge al servei de qui hi viu\, ens acompanyes?
URL:https://sostrecivic.jamgo.org/agenda/laltre-forum/
LOCATION:ETSEIB\, Av. Diagonal\, 247.\, Barcelona
CATEGORIES:Xerrades
END:VEVENT
END:VCALENDAR