BEGIN:VCALENDAR
VERSION:2.0
PRODID:-//Sostre Cívic - ECPv6.10.1.1//NONSGML v1.0//EN
CALSCALE:GREGORIAN
METHOD:PUBLISH
X-WR-CALNAME:Sostre Cívic
X-ORIGINAL-URL:https://sostrecivic.jamgo.org
X-WR-CALDESC:Events for Sostre Cívic
REFRESH-INTERVAL;VALUE=DURATION:PT1H
X-Robots-Tag:noindex
X-PUBLISHED-TTL:PT1H
BEGIN:VTIMEZONE
TZID:Europe/Madrid
BEGIN:DAYLIGHT
TZOFFSETFROM:+0100
TZOFFSETTO:+0200
TZNAME:CEST
DTSTART:20210328T010000
END:DAYLIGHT
BEGIN:STANDARD
TZOFFSETFROM:+0200
TZOFFSETTO:+0100
TZNAME:CET
DTSTART:20211031T010000
END:STANDARD
END:VTIMEZONE
BEGIN:VEVENT
DTSTART;TZID=Europe/Madrid:20211106T100000
DTEND;TZID=Europe/Madrid:20211106T120000
DTSTAMP:20260424T100717
CREATED:20211011T184136Z
LAST-MODIFIED:20211011T184115Z
UID:7824-1636192800-1636200000@sostrecivic.jamgo.org
SUMMARY:Barcelona: Suma't a Walden XXI
DESCRIPTION:Coneix el projecte Walden XXI!\nFa 3 anys vam començar el projecte del primer habitatge cooperatiu sènior a Catalunya… i esperem fer-ho possible el 2023\, que és la data prevista per entrar-hi a viure! Rehabilitarem un antic hotel a Sant Feliu de Guíxols per reconvertir-lo en 31 apartaments privats i diferents espais comunitaris (un 20% de la superfície del projecte) com sales polivalents\, cuina\, menjador\, biblioteca-ordinadors\, bugaderia\, trasters\, terrasses\, jardí interior\, terrasses\, tallers bricolatge\, magatzem\, etc. \nEn aquesta pàgina pots consultar més informació de Walden XXI i\, si vols conèixer més del nostre projecte\, et convidem a aquesta sessió informativa presencial. \nQuan?\nEl dissabte 6 de novembre\, de 11:00 a 13:00 hores. \nA on?\n\nGrup Ecos\nCarrer Casp 43\, Barcelona\n\n\n\n\nPlaces limitades pel COVID19. INSCRIU-TE AL FORMULARI ABANS DEL DIVENDRES 5 DE NOVEMBRE\n \n\n\n\n\n\n\n\n﻿﻿﻿﻿﻿﻿
URL:https://sostrecivic.jamgo.org/agenda/barcelona-sumat-a-walden-xxi/
LOCATION:ECOS Grup Cooperatiu\, Casp\, 43\, baixos.\, Barcelona\, 08010
CATEGORIES:Xerrades
ATTACH;FMTTYPE=image/jpeg:https://sostrecivic.jamgo.org/wp-content/uploads/2021/11/2021-Campanya-Walden21_BCN.jpg
END:VEVENT
BEGIN:VEVENT
DTSTART;TZID=Europe/Madrid:20211125T160000
DTEND;TZID=Europe/Madrid:20211125T173000
DTSTAMP:20260424T100717
CREATED:20211102T093034Z
LAST-MODIFIED:20211124T104330Z
UID:8003-1637856000-1637861400@sostrecivic.jamgo.org
SUMMARY:Sessió informativa mensual
DESCRIPTION:T’interessa formar part d’un projecte d’habitatge cooperatiu però no saps per on començar? Vols saber què fem a Sostre Cívic i els projectes que tenim actius? T’agradaria conèixer més a fons el model d’habitatge en cessió d’ús? \nVine a aquesta xerrada informativa i oberta per a les persones interessades\, futurs nous socis i també per aquelles persones sòcies que vulguin aprofundir sobre el model de cessió d’ús i conèixer com s’organitza la nostra activitat. \nT’hi esperem  \n\nQuan?\nEl dijous 25 d’novembre\, de 17:00 a 18:30 hores. \nA on?\nXerrada en línia. Passarem l’enllaç de l’acte per correu electrònic a les persones inscrites el dia anterior. \n  \n\nFORMULARI D’INSCRIPCIONS TANCAT\nPots inscriure-t a la sessió informativa del mes vinent aquí
URL:https://sostrecivic.jamgo.org/agenda/sessio-informativa-mensual-novembre-21/
LOCATION:En linia
CATEGORIES:Xerrades
ORGANIZER;CN="Sostre C%C3%ADvic":MAILTO:info@sostrecivic.cat
END:VEVENT
BEGIN:VEVENT
DTSTART;TZID=Europe/Madrid:20211125T163000
DTEND;TZID=Europe/Madrid:20211125T180000
DTSTAMP:20260424T100717
CREATED:20211111T194719Z
LAST-MODIFIED:20211111T194719Z
UID:8069-1637857800-1637863200@sostrecivic.jamgo.org
SUMMARY:Habitatge Cooperatiu a Palamós
DESCRIPTION:Vols viure en un habitatge cooperatiu al Baix Empordà? Impulsem el primer projecte d’habitatge cooperatiu en cessió d’ús sobre sòl públic de terres gironines. Serà al municipi de Palamós i gràcies a la col·laboració público-cooperativa entre Sostre Cívic i l’Ajuntament del municipi. L’objecte del projecte és la construcció d’un edifici plurifamiliar en un solar de propietat pública situada a l’Avinguda Catalunya s/n per destinar-lo a habitatge en règim cooperatiu en cessió d’ús. La promoció serà de 34 habitatges\, qualificats de protecció oficial\, distribuïts en planta baixa i cinc plantes\, a més de 34 places d’aparcament soterrani. \nInscriu-te a la sessió informativa en línia per a resoldre dubtes i rebre més informació. \n  \n\nQuan?\nEl dijous 25 de novembre\, de 17:30 a 19:00 hores. \nA on?\nGaleries Carme\, situade al C/Dídac Garrell 10\, 1er pis. \n  \n\nAFORAMENT LIMITAT: NECESSÀRIA INSCRIPCIÓ PRÈVIA\n \n \n\n\n\n\n\n\n\n﻿﻿﻿﻿
URL:https://sostrecivic.jamgo.org/agenda/habitatge-cooperatiu-a-palamos/
LOCATION:Galeries Carme\, Carrer Dídac Garrell i Tauler\, Palamós\, Girona\, 17230\, Espanya
CATEGORIES:Xerrades
ATTACH;FMTTYPE=image/jpeg:https://sostrecivic.jamgo.org/wp-content/uploads/2021/11/1121-Xerrades-Palamós.jpg
END:VEVENT
END:VCALENDAR