BEGIN:VCALENDAR
VERSION:2.0
PRODID:-//Sostre Cívic - ECPv6.10.1.1//NONSGML v1.0//EN
CALSCALE:GREGORIAN
METHOD:PUBLISH
X-WR-CALNAME:Sostre Cívic
X-ORIGINAL-URL:https://sostrecivic.jamgo.org
X-WR-CALDESC:Events for Sostre Cívic
REFRESH-INTERVAL;VALUE=DURATION:PT1H
X-Robots-Tag:noindex
X-PUBLISHED-TTL:PT1H
BEGIN:VTIMEZONE
TZID:Europe/Madrid
BEGIN:DAYLIGHT
TZOFFSETFROM:+0100
TZOFFSETTO:+0200
TZNAME:CEST
DTSTART:20210328T010000
END:DAYLIGHT
BEGIN:STANDARD
TZOFFSETFROM:+0200
TZOFFSETTO:+0100
TZNAME:CET
DTSTART:20211031T010000
END:STANDARD
END:VTIMEZONE
BEGIN:VEVENT
DTSTART;TZID=Europe/Madrid:20210309T160000
DTEND;TZID=Europe/Madrid:20210309T180000
DTSTAMP:20260424T193146
CREATED:20210310T221245Z
LAST-MODIFIED:20210310T221749Z
UID:6479-1615305600-1615312800@sostrecivic.jamgo.org
SUMMARY:Mobilització de l’habitatge buit i accés a l’habitatge
DESCRIPTION:Tais Bastida de CoopCamp\, ens compartirà l’experiència de la cooperativa d’habitatges i locals socials al centre de Valls\, la Titaranya.\nMandi Domingo\, tècnica de Sostre Cívic\, ens parlarà sobre el treball que fa com a tècnica de Sostre Cívic i sobre com impulsar noves formes d’habitatge al món rural\, com és el cas de l’habitatge en cessió d’ús.\nNeus Casals\, regidora d’habitatge de l’ajuntament de Mieres ens compartirà la seva experiència en el desenvolupament i implementació de masoveria urbana a Mieres.\nBuba\, Kumar\, Ebrima i Jordi\, de la Plataforma d’Afectats per l’Hipoteca (PAH) de la Garrotxa ens explicaran els reptes en els quals moltes famílies de la comarca es segueixen trobant al dia a dia a la comarca.
URL:https://sostrecivic.jamgo.org/agenda/mobilitzacio-de-lhabitatge-buit-i-acces-a-lhabitatge/
CATEGORIES:Xerrades
ATTACH;FMTTYPE=image/png:https://sostrecivic.jamgo.org/wp-content/uploads/2021/03/3-1.png
END:VEVENT
BEGIN:VEVENT
DTSTART;TZID=Europe/Madrid:20210320T100000
DTEND;TZID=Europe/Madrid:20210320T120000
DTSTAMP:20260424T193146
CREATED:20210310T203220Z
LAST-MODIFIED:20210319T142810Z
UID:6459-1616234400-1616241600@sostrecivic.jamgo.org
SUMMARY:Coneix el projecte Walden XXI!
DESCRIPTION:Coneix el projecte Walden XXI!\nFa 3 anys vam començar el projecte del primer habitatge cooperatiu sènior a Catalunya… i esperem fer-ho possible el 2023\, que és la data prevista per entrar-hi a viure! Rehabilitarem un antic hotel a Sant Feliu de Guíxols per reconvertir-lo en 31 apartaments privats i diferents espais comunitaris (un 20% de la superfície del projecte) com sales polivalents\, cuina\, menjador\, biblioteca-ordinadors\, bugaderia\, trasters\, terrasses\, jardí interior\, terrasses\, tallers bricolatge\, magatzem\, etc. \nEn aquesta pàgina pots consultar més informació de Walden XXI i\, si vols conèixer més del nostre projecte\, et convidem a aquesta sessió informativa virtual. \n  \nQuan?\nEl dissabte 20 de març\, de 11:00 a 13:00 hores. \nA on?\nXerrada online. Passarem el link de l’acte per correu electrònic a les persones inscrites. \n  \n[FORMULARI TANCAT]\n  \n \n\n\n\n\n\n 
URL:https://sostrecivic.jamgo.org/agenda/coneix-el-projecte-walden-xxi-4/
CATEGORIES:Xerrades
ATTACH;FMTTYPE=image/png:https://sostrecivic.jamgo.org/wp-content/uploads/2021/03/0321-xerrada-walden-xxi_Mesa-de-trabajo-1.png
END:VEVENT
BEGIN:VEVENT
DTSTART;TZID=Europe/Madrid:20210326T160000
DTEND;TZID=Europe/Madrid:20210326T173000
DTSTAMP:20260424T193146
CREATED:20210201T111749Z
LAST-MODIFIED:20210201T111901Z
UID:6220-1616774400-1616779800@sostrecivic.jamgo.org
SUMMARY:Sessió informativa mensual març21
DESCRIPTION:T’interessa formar part d’un projecte d’habitatge cooperatiu però no saps per on començar? Vols saber què fem a Sostre Cívic i els projectes que tenim actius? T’agradaria conèixer més a fons el model d’habitatge en cessió d’ús? \nVine a aquesta xerrada informativa i oberta per a les persones interessades\, futurs nous socis i també per aquelles persones sòcies que vulguin aprofundir sobre el model de cessió d’ús i conèixer com s’organitza la nostra activitat. \nT’hi esperem  \n\nQuan?\nEl divendres 26 de març\, de 17:00 a 18:30 hores. \nA on?\nXerrada en línia. Passarem l’enllaç de l’acte per correu electrònic a les persones inscrites el dia anterior. \n \n\n\n\n\n\n\n\n﻿﻿
URL:https://sostrecivic.jamgo.org/agenda/sessio-informativa-mensual-marcr21/
CATEGORIES:Xerrades
ORGANIZER;CN="Sostre C%C3%ADvic":MAILTO:info@sostrecivic.cat
END:VEVENT
END:VCALENDAR