BEGIN:VCALENDAR
VERSION:2.0
PRODID:-//Sostre Cívic - ECPv6.10.1.1//NONSGML v1.0//EN
CALSCALE:GREGORIAN
METHOD:PUBLISH
X-WR-CALNAME:Sostre Cívic
X-ORIGINAL-URL:https://sostrecivic.jamgo.org
X-WR-CALDESC:Events for Sostre Cívic
REFRESH-INTERVAL;VALUE=DURATION:PT1H
X-Robots-Tag:noindex
X-PUBLISHED-TTL:PT1H
BEGIN:VTIMEZONE
TZID:Europe/Madrid
BEGIN:DAYLIGHT
TZOFFSETFROM:+0100
TZOFFSETTO:+0200
TZNAME:CEST
DTSTART:20210328T010000
END:DAYLIGHT
BEGIN:STANDARD
TZOFFSETFROM:+0200
TZOFFSETTO:+0100
TZNAME:CET
DTSTART:20211031T010000
END:STANDARD
END:VTIMEZONE
BEGIN:VEVENT
DTSTART;TZID=Europe/Madrid:20210116T100000
DTEND;TZID=Europe/Madrid:20210116T120000
DTSTAMP:20260424T215129
CREATED:20210105T123743Z
LAST-MODIFIED:20210517T212111Z
UID:5965-1610791200-1610798400@sostrecivic.jamgo.org
SUMMARY:Coneix el projecte Walden XXI!
DESCRIPTION:Coneix el projecte Walden XXI!\nFa 3 anys vam començar el projecte del primer habitatge cooperatiu sènior a Catalunya… i esperem fer-ho possible el 2023\, que és la data prevista per entrar-hi a viure! Rehabilitarem un antic hotel a Sant Feliu de Guíxols per reconvertir-lo en 31 apartaments privats i diferents espais comunitaris (un 20% de la superfície del projecte) com sales polivalents\, cuina\, menjador\, biblioteca-ordinadors\, bugaderia\, trasters\, terrasses\, jardí interior\, terrasses\, tallers bricolatge\, magatzem\, etc. \nEn aquesta pàgina pots consultar més informació de Walden XXI i\, si vols conèixer més del nostre projecte\, et convidem a aquesta sessió informativa virtual. \n  \nQuan?\nEl dissabte 16 de gener\, de 11:00 a 13:00 hores. \nA on?\nXerrada online. Passarem el link de l’acte per correu electrònic a les persones inscrites. \n  \nAPUNTA’T AL FORMULARI ABANS DEL DIVENDRES 15 DE GENER\n  \n \n\n\n\n\n\n\n\n﻿\nPer a més informació\, ens pots escriure a info@walden21.sostrecivic.cat
URL:https://sostrecivic.jamgo.org/agenda/coneix-el-projecte-walden-xxi-2/
CATEGORIES:Xerrades
ATTACH;FMTTYPE=image/png:https://sostrecivic.jamgo.org/wp-content/uploads/2021/01/0121_xerradaWalden_EnLinia.png
END:VEVENT
BEGIN:VEVENT
DTSTART;TZID=Europe/Madrid:20210129T160000
DTEND;TZID=Europe/Madrid:20210129T173000
DTSTAMP:20260424T215129
CREATED:20201222T110741Z
LAST-MODIFIED:20210128T102516Z
UID:5842-1611936000-1611941400@sostrecivic.jamgo.org
SUMMARY:Sessió informativa mensual
DESCRIPTION:T’interessa formar part d’un projecte d’habitatge cooperatiu però no saps per on començar? Vols saber què fem a Sostre Cívic i els projectes que tenim actius? T’agradaria conèixer més a fons el model d’habitatge en cessió d’ús? \nVine a aquesta xerrada informativa i oberta per a les persones interessades\, futurs nous socis i també per aquelles persones sòcies que vulguin aprofundir sobre el model de cessió d’ús i conèixer com s’organitza la nostra activitat. \nT’hi esperem  \n\nQuan?\nEl divendres 29 de gener\, de 17:00 a 18:30 hores. \nA on?\nXerrada en línia. Passarem l’enllaç de l’acte per correu electrònic a les persones inscrites el dia anterior. \n  \nFORMULARI TANCAT. EL MES DE FEBRER FAREM UNA NOVA SESSIÓ!
URL:https://sostrecivic.jamgo.org/agenda/sessio-informativa-mensual/
CATEGORIES:Xerrades
ORGANIZER;CN="Sostre C%C3%ADvic":MAILTO:info@sostrecivic.cat
END:VEVENT
END:VCALENDAR