BEGIN:VCALENDAR
VERSION:2.0
PRODID:-//Sostre Cívic - ECPv6.10.1.1//NONSGML v1.0//EN
CALSCALE:GREGORIAN
METHOD:PUBLISH
X-WR-CALNAME:Sostre Cívic
X-ORIGINAL-URL:https://sostrecivic.jamgo.org
X-WR-CALDESC:Events for Sostre Cívic
REFRESH-INTERVAL;VALUE=DURATION:PT1H
X-Robots-Tag:noindex
X-PUBLISHED-TTL:PT1H
BEGIN:VTIMEZONE
TZID:Europe/Madrid
BEGIN:DAYLIGHT
TZOFFSETFROM:+0100
TZOFFSETTO:+0200
TZNAME:CEST
DTSTART:20200329T010000
END:DAYLIGHT
BEGIN:STANDARD
TZOFFSETFROM:+0200
TZOFFSETTO:+0100
TZNAME:CET
DTSTART:20201025T010000
END:STANDARD
END:VTIMEZONE
BEGIN:VEVENT
DTSTART;TZID=Europe/Madrid:20201218T160000
DTEND;TZID=Europe/Madrid:20201218T173000
DTSTAMP:20260424T225428
CREATED:20201125T131319Z
LAST-MODIFIED:20201218T123457Z
UID:5368-1608307200-1608312600@sostrecivic.jamgo.org
SUMMARY:Sessió informativa mensual
DESCRIPTION:T’interessa formar part d’un projecte d’habitatge cooperatiu però no saps per on començar? Vols saber què fem a Sostre Cívic i els projectes que tenim actius? T’agradaria conèixer més a fons el model d’habitatge en cessió d’ús? \nVine a aquesta xerrada informativa i oberta per a les persones interessades\, futurs nous socis i també per aquelles persones sòcies que vulguin aprofundir sobre el model de cessió d’ús i conèixer com s’organitza la nostra activitat. \nT’hi esperem  \n\nQuan?\nEl divendres 18 de desembre\, de 17:00 a 18:30 hores. \nA on?\nXerrada en línia. Passarem l’enllaç de l’acte per correu electrònic a les persones inscrites el dia anterior. \n  \n[FORMULARI TANCAT]
URL:https://sostrecivic.jamgo.org/agenda/sessio-informativa-mensual-desembre2020/
CATEGORIES:Xerrades
END:VEVENT
BEGIN:VEVENT
DTSTART;TZID=Europe/Madrid:20201219T100000
DTEND;TZID=Europe/Madrid:20201219T120000
DTSTAMP:20260424T225428
CREATED:20201201T171832Z
LAST-MODIFIED:20210517T211845Z
UID:5423-1608372000-1608379200@sostrecivic.jamgo.org
SUMMARY:Coneix el projecte Walden XXI!
DESCRIPTION:Coneix el projecte Walden XXI!\nFa 3 anys vam començar el projecte del primer habitatge cooperatiu sènior a Catalunya… i esperem fer-ho possible el 2023\, que és la data prevista per entrar-hi a viure! Rehabilitarem un antic hotel a Sant Feliu de Guíxols per reconvertir-lo en 31 apartaments privats i diferents espais comunitaris (un 20% de la superfície del projecte) com sales polivalents\, cuina\, menjador\, biblioteca-ordinadors\, bugaderia\, trasters\, terrasses\, jardí interior\, terrasses\, tallers bricolatge\, magatzem\, etc. \nEn aquesta pàgina pots consultar més informació de Walden XXI i\, si vols conèixer més del nostre projecte\, et convidem a aquesta sessió informativa virtual. \n  \nQuan?\nEl dissabte 19 de desembre\, de 11:00 a 13:00 hores. \nA on?\nXerrada online. Passarem el link de l’acte per correu electrònic a les persones inscrites. \n  \n[FORMULARI TANCAT]\n\n\n\n\n\n\n\nPer a més informació\, ens pots escriure a info@walden21.sostrecivic.cat
URL:https://sostrecivic.jamgo.org/agenda/coneix-el-projecte-walden-xxi/
CATEGORIES:Xerrades
ATTACH;FMTTYPE=image/png:https://sostrecivic.jamgo.org/wp-content/uploads/2020/12/1220-xerrada-walden-xxi.png
END:VEVENT
END:VCALENDAR