BEGIN:VCALENDAR
VERSION:2.0
PRODID:-//Sostre Cívic - ECPv6.10.1.1//NONSGML v1.0//EN
CALSCALE:GREGORIAN
METHOD:PUBLISH
X-WR-CALNAME:Sostre Cívic
X-ORIGINAL-URL:https://sostrecivic.jamgo.org
X-WR-CALDESC:Events for Sostre Cívic
REFRESH-INTERVAL;VALUE=DURATION:PT1H
X-Robots-Tag:noindex
X-PUBLISHED-TTL:PT1H
BEGIN:VTIMEZONE
TZID:Europe/Madrid
BEGIN:DAYLIGHT
TZOFFSETFROM:+0100
TZOFFSETTO:+0200
TZNAME:CEST
DTSTART:20210328T010000
END:DAYLIGHT
BEGIN:STANDARD
TZOFFSETFROM:+0200
TZOFFSETTO:+0100
TZNAME:CET
DTSTART:20211031T010000
END:STANDARD
END:VTIMEZONE
BEGIN:VEVENT
DTSTART;TZID=Europe/Madrid:20210714T170000
DTEND;TZID=Europe/Madrid:20210714T190000
DTSTAMP:20260425T184955
CREATED:20210608T110936Z
LAST-MODIFIED:20210608T142903Z
UID:7105-1626282000-1626289200@sostrecivic.jamgo.org
SUMMARY:[Formació] Monitoratge de consums energètics
DESCRIPTION:Dimecres 14 juliol\, 17h\nFormació oberta a grups i especialment adreçada a projectes d’habitatge cooperatiu en qualsevol de les seves fases.  \nContinuem desplegant la nostra estratègia de sostenibilitat ambiental i eficiència energètica. Aquest 2021 és l’hora d’implementar un sistema de monitoratge de les instal·lacions als nostres edificis. Des de l’Equip Tècnic hem impulsat una proposta per implantar un sistema global de monitoratge amb una plataforma de software únic per a tots els projectes de la cooperativa. D’aquesta manera harmonitzarem els criteris de monitoratge per a totes les promocions\, augmentarem l’eficiència i reduirem el cost de la instal·lació. Us volem explicar el com i el perquè del sistema de monitoratge escollit\, escoltar la vostra opinió i intentar respondre els dubtes que us pugui generar tot plegat. \nAquesta sessió informativa està adreçada a grups llavor i projectes en fase de desenvolupament o en inici de la convivència\, i comptarà amb la presència d’Angelo Zinni de l’enginyeria Arkenova SCCL. \n–Activitat en línia amb inscripció via La Interna–
URL:https://sostrecivic.jamgo.org/agenda/formacio-monitoratge-de-consums-energetics/
LOCATION:En linia
CATEGORIES:Formació sòcies
END:VEVENT
END:VCALENDAR