BEGIN:VCALENDAR
VERSION:2.0
PRODID:-//Sostre Cívic - ECPv6.10.1.1//NONSGML v1.0//EN
CALSCALE:GREGORIAN
METHOD:PUBLISH
X-ORIGINAL-URL:https://sostrecivic.jamgo.org
X-WR-CALDESC:Events for Sostre Cívic
REFRESH-INTERVAL;VALUE=DURATION:PT1H
X-Robots-Tag:noindex
X-PUBLISHED-TTL:PT1H
BEGIN:VTIMEZONE
TZID:Europe/Madrid
BEGIN:DAYLIGHT
TZOFFSETFROM:+0100
TZOFFSETTO:+0200
TZNAME:CEST
DTSTART:20220327T010000
END:DAYLIGHT
BEGIN:STANDARD
TZOFFSETFROM:+0200
TZOFFSETTO:+0100
TZNAME:CET
DTSTART:20221030T010000
END:STANDARD
END:VTIMEZONE
BEGIN:VEVENT
DTSTART;TZID=Europe/Madrid:20221108T170000
DTEND;TZID=Europe/Madrid:20221108T183000
DTSTAMP:20260423T220330
CREATED:20220930T195743Z
LAST-MODIFIED:20220930T200058Z
UID:12313-1667926800-1667932200@sostrecivic.jamgo.org
SUMMARY:Habitatge cooperatiu a Valls: sessió informativa virtual
DESCRIPTION:Tenim 13 habitatges disponibles per a persones que creguin que una altra manera de viure és possible! \nConjuntament amb l’ajuntament de Valls impulsem la primera promoció d’habitatges cooperatius qualificats de protecció oficial del municipi. Un edifici fins ara en desús i propietat d’una entitat financera que hem recuperat per oferir accés a l’habitatge digne i assequible a la localitat des d’una gestió col·lectiva\, de vocació pública i no-especulativa. \nEn aquesta xerrada informativa t’explicarem el projecte amb tot detall\, i parlarem també de com funciona el model de cessió d’ús i què significa formar part de la nostra cooperativa. \nT’hi esperem! 🙂 \n\nQuan?\nEl dimarts 8 de novembre a les 17 hores. \nA on?\nXerrada virtual. S’enviarà un mail amb l’enllaç de la sessió a les persones inscrites. \n  \n\nFORMULARI D’INSCRIPCIONS\n \n\n\n\n\n\n\n\n﻿﻿﻿﻿﻿﻿﻿﻿
URL:https://sostrecivic.jamgo.org/agenda/habitatge-cooperatiu-valls-sessio-virtual-08112022/
LOCATION:En linia
CATEGORIES:Xerrades
END:VEVENT
END:VCALENDAR