BEGIN:VCALENDAR
VERSION:2.0
PRODID:-//Sostre Cívic - ECPv6.10.1.1//NONSGML v1.0//EN
CALSCALE:GREGORIAN
METHOD:PUBLISH
X-WR-CALNAME:Sostre Cívic
X-ORIGINAL-URL:https://sostrecivic.jamgo.org
X-WR-CALDESC:Events for Sostre Cívic
REFRESH-INTERVAL;VALUE=DURATION:PT1H
X-Robots-Tag:noindex
X-PUBLISHED-TTL:PT1H
BEGIN:VTIMEZONE
TZID:Europe/Madrid
BEGIN:DAYLIGHT
TZOFFSETFROM:+0100
TZOFFSETTO:+0200
TZNAME:CEST
DTSTART:20220327T010000
END:DAYLIGHT
BEGIN:STANDARD
TZOFFSETFROM:+0200
TZOFFSETTO:+0100
TZNAME:CET
DTSTART:20221030T010000
END:STANDARD
END:VTIMEZONE
BEGIN:VEVENT
DTSTART;TZID=Europe/Madrid:20221022T100000
DTEND;TZID=Europe/Madrid:20221023T140000
DTSTAMP:20260423T231416
CREATED:20221013T201329Z
LAST-MODIFIED:20221017T122723Z
UID:12598-1666432800-1666533600@sostrecivic.jamgo.org
SUMMARY:FESC 2022
DESCRIPTION:Ja arriba per fi l’esdeveniment de l’any de l’economia social i solidària a Catalunya! Serà del 21 al 23 d’octubre al Recinte Fabra i Coats\, a Barcelona\, amb accés obert i gratuït per a tothom. \nEns trobareu al nostre estand informatiu al pati exterior\, a la zona d’expositores d’Hàbitat i gestió de l’entorn\, amb el següent horari: \nDissabte 22 d’octubre: de 10 a 20 hores. \nDiumenge 23 d’octubre: de 10 a 14 hores. \nVine i t’expliquem com funciona la nostra entitat i quins projectes tenim en marxa actualment! Tot el que sempre has volgut saber sobre l’habitatge cooperatiu en cessió d’ús! \n\nActivitats recomanades\n\nPresentació de la guia “Habitatge cooperatiu als mons rurals”.\nDissabte\, 22 d’octubre\, de 11:00 a 11:30. Espai Dolors Abelló\nAmb aquesta guia volem presentar-vos aquells aspectes que un projecte d’habitatge cooperatiu al món rural creiem que cal tenir en compte i recollir quines poden ser les dificultats o camins a descobrir durant el procés. en col·laboració amb Coop de mà SCCL\, Voltes Cooperativa d’Arquitectura SCCL\, L’Esberla SCCL\, Associació Masies x Viure i Disseny Integral de Projectes\, SCCL. \n\nFinançament a primera vista\nDissabte\, 22 d’octubre\, de 13:00 a 14:30. Sala Flora Tristan.\nOrganitzades en 4 àmbits (social\, ambiental\, cultural\, i d’habitatge cooperatiu) les iniciatives i projectes que participin tindran una trobada amb diferents entitats financeres i asseguradores ( com Arç\, Coop57\, Fiare Banca Etica\, Goteo o OikoCredit) per conèixer les eines que tenen adreçades a cada àmbit i altres experiències similars que han estat finançades per aquestes entitats. \n\nII Jornada d’aprenentatges comunitaris de l’habitatge cooperatiu: és temps de cures\nDiumenge\, 23 d’octubre\, de 10:30 a 12:00. Sala Flora Tristan.\nEspai obert per a persones que estiguin vivint\, en procés de promoció o en fases més inicials d’un projecte d’habitatge cooperatiu. L’objectiu de l’activitat és compartir eines i recursos relacionats amb les cures. \n\nVols ser voluntari/a a la nostra paradeta?\nNecessitem el suport dels socis i les sòcies per donar un cop de mà en la difusió de Sostre Cívic. \nComptem amb vosaltres per organitzar els diferents torns d’atenció al públic al nostre estand el cap de setmana del 22 i 23 d’octubre! \nInscriu-t’hi  i participa! Si tens algun dubte\, ens pots escriure a info@sostrecivic.cat \n  \n  \n\nVine a visitar-nos i emporta’t un obsequi!\n \nPassa’t pel nostre estand i et regalem a tu i a una persona que t’acompanyi una samarreta de Sostre Cívic i la col·lecció de guies “Construïm habitatge cooperatiu”. \nNomés ens has de dir el teu número de soci/a i nom complet\, t’hi esperem!
URL:https://sostrecivic.jamgo.org/agenda/fesc-2022/
LOCATION:Fabra i Coats: Fàbrica de Creació\, Carrer de Sant Adrià\, 20\, Barcelona\, 08030
CATEGORIES:Fires
END:VEVENT
BEGIN:VEVENT
DTSTART;TZID=Europe/Madrid:20221023T110000
DTEND;TZID=Europe/Madrid:20221023T130000
DTSTAMP:20260423T231416
CREATED:20221010T122132Z
LAST-MODIFIED:20221016T112258Z
UID:12564-1666522800-1666530000@sostrecivic.jamgo.org
SUMMARY:48H Open House BCN: Visita Cirerers
DESCRIPTION:Projecte guanyador del concurs públic de solars municipals destinats a habitatge cooperatiu en cessió d’ús. L’edifici té un programa de 32 habitatges amb espais comunitaris i\, amb vuit plantes d’alçada\, serà l’edifici més alt de l’Estat construït amb fusta (estructura de panells de fusta contralaminada CLT). El bloc es desenvolupa al voltant de tres conceptes principals: un model de cohabitatge i cessió d’ús (nou model de convivència i de tinença); una aportació urbanística (la solució del projecte crea un joc d’alçades per adaptar-se a l’entorn\, que s’aprofita com a espai comunitari de l’edifici i evita l’aparició d’una gran mitgera en el paisatge urbà)\, i un compromís mediambiental (es tracta d’un projecte d’edifici passiu\, amb una mínima demanda energètica\, pel que fa a climatització i producció d’aigua calenta\, i un edifici ecològic\, que fa servir materials preferentment orgànics amb la mínima petjada ecològica). A més\, el projecte preveu l’existència d’un hort urbà a la coberta i un economat en planta baixa\, exemple de com els conceptes que giren al voltant de l’alimentació sostenible transformen la ciutat i la seva arquitectura. \n\n\nArquitectes: Celobert \n\nPLACES LIMITADES. IMPRESCINDIBLE INSCRIURE’S PRÈVIAMENT
URL:https://sostrecivic.jamgo.org/agenda/48h-open-house-bcn-visita-cirerers/
LOCATION:Cirerers\, Carrer del Pla dels Cirerers\, 2-4\, Barcelona\, 08042
CATEGORIES:Visites
ATTACH;FMTTYPE=image/jpeg:https://sostrecivic.jamgo.org/wp-content/uploads/2022/10/cirerers-01.jpeg
ORGANIZER;CN="48h Open House Barcelona":MAILTO:consultes@48hopenhousebarcelona.org
END:VEVENT
END:VCALENDAR