BEGIN:VCALENDAR
VERSION:2.0
PRODID:-//Sostre Cívic - ECPv6.10.1.1//NONSGML v1.0//EN
CALSCALE:GREGORIAN
METHOD:PUBLISH
X-WR-CALNAME:Sostre Cívic
X-ORIGINAL-URL:https://sostrecivic.jamgo.org
X-WR-CALDESC:Events for Sostre Cívic
REFRESH-INTERVAL;VALUE=DURATION:PT1H
X-Robots-Tag:noindex
X-PUBLISHED-TTL:PT1H
BEGIN:VTIMEZONE
TZID:Europe/Madrid
BEGIN:DAYLIGHT
TZOFFSETFROM:+0100
TZOFFSETTO:+0200
TZNAME:CEST
DTSTART:20220327T010000
END:DAYLIGHT
BEGIN:STANDARD
TZOFFSETFROM:+0200
TZOFFSETTO:+0100
TZNAME:CET
DTSTART:20221030T010000
END:STANDARD
END:VTIMEZONE
BEGIN:VEVENT
DTSTART;TZID=Europe/Madrid:20220708T190000
DTEND;TZID=Europe/Madrid:20220708T213000
DTSTAMP:20260424T022006
CREATED:20220629T150844Z
LAST-MODIFIED:20220629T150844Z
UID:10532-1657306800-1657315800@sostrecivic.jamgo.org
SUMMARY:Diada Coop
DESCRIPTION:Un any més\, i coincidint amb la celebració de la Diada Internacional de les Cooperatives de l’Aliança Cooperativa Internacional\, arriba la Diada Coop! Una trobada de les cooperatives de casa nostra en la qual celebrarem que cada vegada som més\, que trepitgem fort i que volem continuar contribuint a millorar el món. \nEnguany\, el Grup ECOS s’encarreguen d’organitzar aquest esdeveniment\, juntament amb Coòpolis\, la Fundació Roca Galés\, la Fundació La Bastida i la XES. Agraïm el suport de l’Ajuntament de Barcelona\, Arç Cooperativa\, Col·lectiu Ronda\, Confederació de Cooperatives de Catalunya\, FCTC i L’Apòstrof. \nLa Diada Coop 2022 tindrà lloc el divendres 8 de juliol a partir de les 19h a la plaça del Fort Pienc (Eixample) i comptarà amb diverses activitats\, com el lliurament dels Premis Micaela Chalmeta per a la creació de cooperatives de l’Economia Solidària compromeses amb la transformació social; un sopar de germanor a càrrec de PastaxPasta; música amb la DJ La Niña Mai i un concert de New Sabrosura per acabar la nit amb ritme tropical. Ep\, i si teniu set\, us agradarà saber que durant tot l’esdeveniment hi haurà una barra amb cervesa artesana cooperativa\, mojitos i refrescos. \nNo us quedeu sense els vostres tiquets per sopar i animeu-vos a participar en la gran festa del cooperativisme!
URL:https://sostrecivic.jamgo.org/agenda/diada-coop/
LOCATION:Plaça del Fort Pienc\, Plaça del Fort Pienc\, Barcelona\, 08013\, Espanya
ATTACH;FMTTYPE=image/jpeg:https://sostrecivic.jamgo.org/wp-content/uploads/2022/06/unnamed.jpg
END:VEVENT
END:VCALENDAR