BEGIN:VCALENDAR
VERSION:2.0
PRODID:-//Sostre Cívic - ECPv6.10.1.1//NONSGML v1.0//EN
CALSCALE:GREGORIAN
METHOD:PUBLISH
X-ORIGINAL-URL:https://sostrecivic.jamgo.org
X-WR-CALDESC:Events for Sostre Cívic
REFRESH-INTERVAL;VALUE=DURATION:PT1H
X-Robots-Tag:noindex
X-PUBLISHED-TTL:PT1H
BEGIN:VTIMEZONE
TZID:Europe/Madrid
BEGIN:DAYLIGHT
TZOFFSETFROM:+0100
TZOFFSETTO:+0200
TZNAME:CEST
DTSTART:20220327T010000
END:DAYLIGHT
BEGIN:STANDARD
TZOFFSETFROM:+0200
TZOFFSETTO:+0100
TZNAME:CET
DTSTART:20221030T010000
END:STANDARD
END:VTIMEZONE
BEGIN:VEVENT
DTSTART;TZID=Europe/Madrid:20220617T173000
DTEND;TZID=Europe/Madrid:20220617T210000
DTSTAMP:20260424T032435
CREATED:20220608T092656Z
LAST-MODIFIED:20220608T092656Z
UID:10276-1655487000-1655499600@sostrecivic.jamgo.org
SUMMARY:Assemblea General Ordinària
DESCRIPTION:El proper divendres 17 de juny a les 17.30 h totes les persones sòcies estem convocades a l’Assemblea General Ordinària (AGO) de Sostre Cívic que tindrà lloc al Centre Cívic Ateneu Fort Pienc a la Plaça Fort Pienc\, 4 de Barcelona. \nDesprés de més de 2 anys de reunions telemàtiques\, de virtualitzar els nostres vincles\, de no poder acabar les trobades xerrant informalment al voltant d’un pica-pica o una beguda… ens trobem de nou! Volem que l’Assemblea General del juny sigui un moment de celebració i de retrobament presencial. \nTot i això\, optem per una forma híbrida presencial i mantenint el format en línia per aquelles persones que així ho desitgin. \nInscripcions i documentació\nTant si la participació és presencial o en línia és imprescindible per poder participar acreditar-se via La Interna\, que es podrà fer fins el mateix divendres 17 de juny a les 15.00h. \nEn la mateixa pàgina pots consultar també l’Ordre del Dia i la documentació relativa als diferents punts.
URL:https://sostrecivic.jamgo.org/agenda/assemblea-general-ordinaria-2022/
LOCATION:Centre Cívic Ateneu Fort Pienc\, Plaça Fort Pienc\, 4.\, Barcelona\, Barcelona\, 08013
ATTACH;FMTTYPE=image/jpeg:https://sostrecivic.jamgo.org/wp-content/uploads/2022/06/0622-AGO.jpg
END:VEVENT
END:VCALENDAR