BEGIN:VCALENDAR
VERSION:2.0
PRODID:-//Sostre Cívic - ECPv6.10.1.1//NONSGML v1.0//EN
CALSCALE:GREGORIAN
METHOD:PUBLISH
X-WR-CALNAME:Sostre Cívic
X-ORIGINAL-URL:https://sostrecivic.jamgo.org
X-WR-CALDESC:Events for Sostre Cívic
REFRESH-INTERVAL;VALUE=DURATION:PT1H
X-Robots-Tag:noindex
X-PUBLISHED-TTL:PT1H
BEGIN:VTIMEZONE
TZID:Europe/Madrid
BEGIN:DAYLIGHT
TZOFFSETFROM:+0100
TZOFFSETTO:+0200
TZNAME:CEST
DTSTART:20220327T010000
END:DAYLIGHT
BEGIN:STANDARD
TZOFFSETFROM:+0200
TZOFFSETTO:+0100
TZNAME:CET
DTSTART:20221030T010000
END:STANDARD
END:VTIMEZONE
BEGIN:VEVENT
DTSTART;TZID=Europe/Madrid:20220420T180000
DTEND;TZID=Europe/Madrid:20220420T200000
DTSTAMP:20260424T051408
CREATED:20220411T091210Z
LAST-MODIFIED:20220411T091210Z
UID:9737-1650477600-1650484800@sostrecivic.jamgo.org
SUMMARY:Assemblea General Extraordinària
DESCRIPTION:Benvolguts/des\, \nEl proper dimecres 20 d’abril a les 18.00h totes les persones sòcies de Sostre Cívic estem convocades a una Assemblea General Extraordinària (AGE) de Sostre Cívic. L’objectiu d’aquesta convocatòria és aprovar\, si escau\, dos nous mecanismes d’enfortiment financer de la cooperativa: \n\nLa creació d’un fons econòmic comú a partir de l’establiment d’una quota d’ingrés.\nL’admissió d’aportacions voluntàries al capital social de l’entitat.\n\nL’AGE se celebrarà per mitjans telemàtics. \nLes persones sòcies poden confirmar assistència i accedir a tota la documentació a través de La Interna
URL:https://sostrecivic.jamgo.org/agenda/assemblea-general-extraordinaria/
LOCATION:En linia
ATTACH;FMTTYPE=image/png:https://sostrecivic.jamgo.org/wp-content/uploads/2022/04/news_3169.png
ORGANIZER;CN="Sostre C%C3%ADvic":MAILTO:info@sostrecivic.cat
END:VEVENT
END:VCALENDAR