BEGIN:VCALENDAR
VERSION:2.0
PRODID:-//Sostre Cívic - ECPv6.10.1.1//NONSGML v1.0//EN
CALSCALE:GREGORIAN
METHOD:PUBLISH
X-ORIGINAL-URL:https://sostrecivic.jamgo.org
X-WR-CALDESC:Events for Sostre Cívic
REFRESH-INTERVAL;VALUE=DURATION:PT1H
X-Robots-Tag:noindex
X-PUBLISHED-TTL:PT1H
BEGIN:VTIMEZONE
TZID:Europe/Madrid
BEGIN:DAYLIGHT
TZOFFSETFROM:+0100
TZOFFSETTO:+0200
TZNAME:CEST
DTSTART:20220327T010000
END:DAYLIGHT
BEGIN:STANDARD
TZOFFSETFROM:+0200
TZOFFSETTO:+0100
TZNAME:CET
DTSTART:20221030T010000
END:STANDARD
END:VTIMEZONE
BEGIN:VEVENT
DTSTART;TZID=Europe/Madrid:20220405T183000
DTEND;TZID=Europe/Madrid:20220405T200000
DTSTAMP:20260424T051524
CREATED:20220329T140126Z
LAST-MODIFIED:20220329T194428Z
UID:9542-1649183400-1649188800@sostrecivic.jamgo.org
SUMMARY:Diàlegs a la Riba del Besòs
DESCRIPTION:Les diverses crisis econòmiques\, climàtiques\, sanitàries que s’han fet visibles recentment han posat de relleu la dificultat d’una aplicació efectiva del dret de l’habitatge per tothom. Davant la complexa relació entre un mercat immobiliari i un dret social universal\, reflexionarem en aquesta sessió sobre propostes i reptes per avançar en l’aplicació d’aquest dret de les persones a disposar d’un habitatge digne i assequible. \nPreludi de Jairo Rios\, escultor (Presentació artística) \nDiàleg amb: \n\nXavier Mauri Director General de la Fundació Habitat 3\nJosé Téllez de la Cooperativa Sostre Cívic.\nToni Suárez Regidor d’Habitatge i tinent d’alcaldessa de l’Ajuntament de Santa Coloma de Gramenet.\nCarme Arcarazo\, del Sindicat de Llogateres.\n\nCoordina i presenta: Monica Morales \nDiàleg en línia a Facebook: facebook.com/dialegsalaribadelbesos \nL’aforament és limitat\, cal sol·licitar al correu dialegsalaribadelbesos@gmail.com
URL:https://sostrecivic.jamgo.org/agenda/dialegs-a-la-riba-del-besos/
LOCATION:Centre d’Art Can Sisteré\, c. Sant Carles s/n.\, Santa Coloma de Gramenet\, 08921
END:VEVENT
END:VCALENDAR