BEGIN:VCALENDAR
VERSION:2.0
PRODID:-//Sostre Cívic - ECPv6.10.1.1//NONSGML v1.0//EN
CALSCALE:GREGORIAN
METHOD:PUBLISH
X-WR-CALNAME:Sostre Cívic
X-ORIGINAL-URL:https://sostrecivic.jamgo.org
X-WR-CALDESC:Events for Sostre Cívic
REFRESH-INTERVAL;VALUE=DURATION:PT1H
X-Robots-Tag:noindex
X-PUBLISHED-TTL:PT1H
BEGIN:VTIMEZONE
TZID:Europe/Madrid
BEGIN:DAYLIGHT
TZOFFSETFROM:+0100
TZOFFSETTO:+0200
TZNAME:CEST
DTSTART:20220327T010000
END:DAYLIGHT
BEGIN:STANDARD
TZOFFSETFROM:+0200
TZOFFSETTO:+0100
TZNAME:CET
DTSTART:20221030T010000
END:STANDARD
END:VTIMEZONE
BEGIN:VEVENT
DTSTART;TZID=Europe/Madrid:20220128T160000
DTEND;TZID=Europe/Madrid:20220128T170000
DTSTAMP:20260424T080546
CREATED:20211228T123210Z
LAST-MODIFIED:20220126T161441Z
UID:8468-1643385600-1643389200@sostrecivic.jamgo.org
SUMMARY:Visita l'edifici Cirerers!
DESCRIPTION:Et volem convidar a una visita guiada que farem a l’edifici del projecte d’habitatge cooperatiu Cirerers\, al barri de Roquetes. És el segon projecte d’obra nova de Sostre Cívic a la ciutat\, després d’iniciar el setembre de 2019 la construcció de La Balma\, a Poblenou. \nL’edifici\, dissenyat per l’equip d’arquitectes de la cooperativa Celobert\, representa tot un exemple d’innovació constructiva\, i ja és avui l’edifici de fusta més alt de l’Estat\, amb vuit plantes. A més\, altres materials que fa servir\, com el morter de calç en les façanes i plaques de guix en els interiors\, són igualment biodegradables i de baixa petjada ecològica\, aconseguint així que la seva producció\, transport i reciclatge comporti molt poques emissions de CO2. \nA més\, el projecte està pensat des d’una lògica comunitària i per això disposa d’un carrer-replà a cada planta\, on les usuàries podem sortir\, jugar o estendre la roba. També compta amb espais interiors comunitaris en planta baixa\, oberts al barri i a la plaça. Cirerers és un projecte de convivència autogestionat i basat en un funcionament assembleari que fomenta la cooperació i l’ajuda mútua. Vols conèixer-lo? \n  \nAquesta activitat es fa en el marc de Coòpolis\, ateneu cooperatiu de Barcelona. \nINSCRIU-T’HI AQUÍ
URL:https://sostrecivic.jamgo.org/agenda/visita-ledifici-cirerers-28gener22/
LOCATION:Cirerers\, Carrer del Pla dels Cirerers\, 2-4\, Barcelona\, 08042
CATEGORIES:Visites
END:VEVENT
BEGIN:VEVENT
DTSTART;TZID=Europe/Madrid:20220128T180000
DTEND;TZID=Europe/Madrid:20220128T200000
DTSTAMP:20260424T080546
CREATED:20220117T141419Z
LAST-MODIFIED:20220118T112043Z
UID:8636-1643392800-1643400000@sostrecivic.jamgo.org
SUMMARY:Coneix el projecte Walden XXI!
DESCRIPTION:Coneix el projecte Walden XXI!\nFa 3 anys vam començar el projecte del primer habitatge cooperatiu sènior a Catalunya… i esperem fer-ho possible el 2023\, que és la data prevista per entrar-hi a viure! Rehabilitarem un antic hotel a Sant Feliu de Guíxols per reconvertir-lo en 31 apartaments privats i diferents espais comunitaris (un 20% de la superfície del projecte) com sales polivalents\, cuina\, menjador\, biblioteca-ordinadors\, bugaderia\, trasters\, terrasses\, jardí interior\, terrasses\, tallers bricolatge\, magatzem\, etc. \nEn aquesta pàgina pots consultar més informació de Walden XXI i\, si vols conèixer més del nostre projecte\, et convidem a aquesta sessió informativa virtual. \n  \nQuan?\nEl divendres 28 de gener\, de 18 a 20 hores. \nA on?\nXerrada online. Passarem el link de l’acte per correu electrònic a les persones inscrites. \n\n\n\nPLACES LIMITADES. INSCRIU-TE AL FORMULARI ABANS DEL 27 DE GENER\n \n\n\n\n\n\n\n\n﻿﻿﻿﻿
URL:https://sostrecivic.jamgo.org/agenda/coneix-el-projecte-walden-xxi-5/
LOCATION:En linia
CATEGORIES:Xerrades
END:VEVENT
END:VCALENDAR