BEGIN:VCALENDAR
VERSION:2.0
PRODID:-//Sostre Cívic - ECPv6.10.1.1//NONSGML v1.0//EN
CALSCALE:GREGORIAN
METHOD:PUBLISH
X-WR-CALNAME:Sostre Cívic
X-ORIGINAL-URL:https://sostrecivic.jamgo.org
X-WR-CALDESC:Events for Sostre Cívic
REFRESH-INTERVAL;VALUE=DURATION:PT1H
X-Robots-Tag:noindex
X-PUBLISHED-TTL:PT1H
BEGIN:VTIMEZONE
TZID:Europe/Madrid
BEGIN:DAYLIGHT
TZOFFSETFROM:+0100
TZOFFSETTO:+0200
TZNAME:CEST
DTSTART:20220327T010000
END:DAYLIGHT
BEGIN:STANDARD
TZOFFSETFROM:+0200
TZOFFSETTO:+0100
TZNAME:CET
DTSTART:20221030T010000
END:STANDARD
END:VTIMEZONE
BEGIN:VEVENT
DTSTART;TZID=Europe/Madrid:20220127T180000
DTEND;TZID=Europe/Madrid:20220127T193000
DTSTAMP:20260424T080627
CREATED:20220114T164818Z
LAST-MODIFIED:20220114T165200Z
UID:8627-1643306400-1643311800@sostrecivic.jamgo.org
SUMMARY:Nou habitatge cooperatiu a Olesa de Montserrat. Sessió informativa
DESCRIPTION:Ja queda menys per fer realitat el primer projecte d’habitatge cooperatiu a Olesa de Montserrat! Els últims mesos hem treballat en millorar el finançament del projecte per optimitzar les condicions econòmiques per accedir-hi\, i ja podem celebrar el resultat positiu d’aquestes gestions. \nRecuperem patrimoni en desús per fer habitatge social \nEl projecte neix quan un grup de sòcies residents a Olesa de Montserrat\, que porten des del 2018 impulsant el model d’habitatge cooperatiu al municipi\, va detectar un edifici que un promotor privat va començar a construir fa anys i que fruit de la crisi immobiliària de 2008 es va quedar aturat. L’edifici\, situat entre els carrers Pau Casals i Colom\, a ple centre de l’Eixample nou del municipi\, compta amb l’estructura\, soterranis\, tancaments exteriors\, teulada\, i gran part de les divisions interiors ja construïdes. Amb aquest projecte\, volem recuperar aquest patrimoni privat en desús que havia estat en mans d’un fons immobiliari\, i complir amb la funció social de l’habitatge des de l’autopromoció amb lògica de bé comú i no-lucre. \nMalgrat que l’obra ja està començada\, es planteja realitzar un procés participatiu amb el grup impulsor per adaptar el projecte en la mesura del possible\, amb l’objectiu d’aconseguir 25 habitatges i espais col·lectius complementaris\, així com espais oberts a la població. Alhora el projecte vol esdevenir un catalitzador de projectes socials a la població i comarca tot incentivant l’economia solidària. \nCom puc participar del projecte?\nPots consultar aquest complet dossier del projecte amb tota la informació sobre els requisits d’accés\, informació econòmica i calendari previst. Pots venir el proper dijous 27 de gener a les 18h a la nostra sessió informativa a l’auditori de la Casa de Cultura. \nPer qualsevol dubte o qüestió\, pots escriure’ns a info@sostrecivic.cat i te les respondrem. \nT’hi esperem 🙂 \n\nQuan?\nEl dijous 27 de gener\, de 18:00 a 19:30 hores. \nA on?\nAuditori de la Casa de Cultura\, carrer Salvador Casas de Olesa de Montserrat. \n  \n\nPLACES LIMITADES. INSCRIU-TE AL FORMULARI ABANS DEL 26 DE GENER\n \n\n\n\n\n\n\n\n﻿﻿﻿﻿
URL:https://sostrecivic.jamgo.org/agenda/nou-habitatge-cooperatiu-a-olesa-de-montserrat-sessio-informativa/
LOCATION:Casa de Cultura\, Carrer de Salvador Casas\, 26\, Olesa de Montserrat\, 08640\, Espanya
CATEGORIES:Xerrades
ATTACH;FMTTYPE=image/jpeg:https://sostrecivic.jamgo.org/wp-content/uploads/2022/01/0122-Xerrada-Olesa-H-1-e1642179112521.jpg
END:VEVENT
END:VCALENDAR