BEGIN:VCALENDAR
VERSION:2.0
PRODID:-//Sostre Cívic - ECPv6.10.1.1//NONSGML v1.0//EN
CALSCALE:GREGORIAN
METHOD:PUBLISH
X-WR-CALNAME:Sostre Cívic
X-ORIGINAL-URL:https://sostrecivic.jamgo.org
X-WR-CALDESC:Events for Sostre Cívic
REFRESH-INTERVAL;VALUE=DURATION:PT1H
X-Robots-Tag:noindex
X-PUBLISHED-TTL:PT1H
BEGIN:VTIMEZONE
TZID:Europe/Madrid
BEGIN:DAYLIGHT
TZOFFSETFROM:+0100
TZOFFSETTO:+0200
TZNAME:CEST
DTSTART:20210328T010000
END:DAYLIGHT
BEGIN:STANDARD
TZOFFSETFROM:+0200
TZOFFSETTO:+0100
TZNAME:CET
DTSTART:20211031T010000
END:STANDARD
END:VTIMEZONE
BEGIN:VEVENT
DTSTART;TZID=Europe/Madrid:20211218T090000
DTEND;TZID=Europe/Madrid:20211218T170000
DTSTAMP:20260424T091338
CREATED:20211126T111226Z
LAST-MODIFIED:20211217T105114Z
UID:8257-1639818000-1639846800@sostrecivic.jamgo.org
SUMMARY:Jornada: Construïm col·lectivament El Turrós!
DESCRIPTION:Vine a conèixer el grup i la masia i participar de la construcció col·lectiva d’aquest projecte! \nTornem a obrir portes a qui tingui ganes de donar un cop de mà 💪🌱 amb algunes de les tasques que tenim engegades: netejant feixes\, fent 🚽 vàters secs\, tractament d’aigües grises\, fer llenya🪓 …tot un Festival d’✊🏿 autosuficiència que volem i necessitem compartir!! \n📌Si t’animes a venir a donar un cop de mà: \n1️⃣ Avisa que vens a algú del Turrós o escriu a casacomu@riseup.net\n2️⃣ Porta les eines que tinguis\, guants i roba còmoda\n3️⃣ Nosaltres posem el dinar i el bon rotllo \nSi ens dius que vens\, t’enviarem més detalls. \n🤷🏻‍♀️I si no pots venir aquest cop\, apunta’t a les properes!! \nAnirem informant! \n  \n📣 I si vols saber el que passa i anem fent al Turrós ☑️\napunta’t al nou canal de Telegram 🔔 https://t.me/elturros 🌳🌳🐿Difusió El Turrós🐓🌳🌳 \n  \n😝Salut i alegria😘 \n 
URL:https://sostrecivic.jamgo.org/agenda/jornada-construim-collectivament-el-turros/
LOCATION:El Turrós\, Zona Santa Magdalena\, 7. Mas El Turrós.\, Arguelaguer\, La Garrotxa
CATEGORIES:Trobades
END:VEVENT
END:VCALENDAR