BEGIN:VCALENDAR
VERSION:2.0
PRODID:-//Sostre Cívic - ECPv6.10.1.1//NONSGML v1.0//EN
CALSCALE:GREGORIAN
METHOD:PUBLISH
X-WR-CALNAME:Sostre Cívic
X-ORIGINAL-URL:https://sostrecivic.jamgo.org
X-WR-CALDESC:Events for Sostre Cívic
REFRESH-INTERVAL;VALUE=DURATION:PT1H
X-Robots-Tag:noindex
X-PUBLISHED-TTL:PT1H
BEGIN:VTIMEZONE
TZID:Europe/Madrid
BEGIN:DAYLIGHT
TZOFFSETFROM:+0100
TZOFFSETTO:+0200
TZNAME:CEST
DTSTART:20210328T010000
END:DAYLIGHT
BEGIN:STANDARD
TZOFFSETFROM:+0200
TZOFFSETTO:+0100
TZNAME:CET
DTSTART:20211031T010000
END:STANDARD
END:VTIMEZONE
BEGIN:VEVENT
DTSTART;TZID=Europe/Madrid:20210916T180000
DTEND;TZID=Europe/Madrid:20210916T200000
DTSTAMP:20260424T122831
CREATED:20210805T143512Z
LAST-MODIFIED:20210805T143733Z
UID:7637-1631815200-1631822400@sostrecivic.jamgo.org
SUMMARY:És possible l'habitatge cooperatiu a l'Hospitalet?
DESCRIPTION:  \n\n\nXerrada amb La Chalmeta\, Sostre Cívic\, Tallers Bellvitge\, l’IGOP i la PAH per debatre sobre les possibilitats del model d’habitatge cooperatiu en cessió d’ús a la ciutat.  Inscripcions aquí.
URL:https://sostrecivic.jamgo.org/agenda/es-possible-lhabitatge-cooperatiu-a-lhospitalet/
LOCATION:L’Espora\, viver cooperatiu\, C/ Llobregat\, 66\, L'Hospitalet
END:VEVENT
END:VCALENDAR