BEGIN:VCALENDAR
VERSION:2.0
PRODID:-//Sostre Cívic - ECPv6.10.1.1//NONSGML v1.0//EN
CALSCALE:GREGORIAN
METHOD:PUBLISH
X-WR-CALNAME:Sostre Cívic
X-ORIGINAL-URL:https://sostrecivic.jamgo.org
X-WR-CALDESC:Events for Sostre Cívic
REFRESH-INTERVAL;VALUE=DURATION:PT1H
X-Robots-Tag:noindex
X-PUBLISHED-TTL:PT1H
BEGIN:VTIMEZONE
TZID:Europe/Madrid
BEGIN:DAYLIGHT
TZOFFSETFROM:+0100
TZOFFSETTO:+0200
TZNAME:CEST
DTSTART:20210328T010000
END:DAYLIGHT
BEGIN:STANDARD
TZOFFSETFROM:+0200
TZOFFSETTO:+0100
TZNAME:CET
DTSTART:20211031T010000
END:STANDARD
END:VTIMEZONE
BEGIN:VEVENT
DTSTART;TZID=Europe/Madrid:20210703T090000
DTEND;TZID=Europe/Madrid:20210703T133000
DTSTAMP:20260424T145323
CREATED:20210628T173402Z
LAST-MODIFIED:20210628T173457Z
UID:7316-1625302800-1625319000@sostrecivic.jamgo.org
SUMMARY:Mobilitzem l'habitatge buit a La Vall
DESCRIPTION:El proper 3 de juliol\, l’Ajuntament de la Vall d’en Bas organitza a Can Trona una jornada per tal de mobilitzar l’habitatge buit que hi ha al municipi. Durant la jornada\, que començarà a les 9 del matí\, es farà un repàs del marc legal i els diferens mètodes de compra\, venda i lloguer d’habitatge amb persones que explicaran els seus casos pràctics. \n “MOBILITZEM L’HABITATGE BUIT A LA VALL” \n (normatives bàsiques\, serveis existents a la comarca\, experiències sobre mobilització d’habitatges buits). \n\nPrograma:\n9:00h a 09:15h Benvinguda i Introducció. Lluís Amat\, alcalde i Pep Calm\, regidor d’Acció Social i Comunitària\n09:15h a 13:15h Ponències               \n\nLlei d’habitatge 17/2019. Llei urbanisme 2012. POUM de la Vall d’en Bas. Joan Albesa\, arquitecte \nCompetències d’Habitatge a la Vall d’en Bas. Jaume Aumatell\, arquitecte tècnic\nOficina local d’habitatge d’Olot. Míriam Paredes\, responsable\nOficina Comarcal d’Habitatge. Gemma Soler. Agència de l’Habitatge de Catalunya\nGarrotxa Domus\, Jordi Ayats\, director. \n\n\n\n\n\n\n\n\n\n\n\n\nPreguntes. \n\n\n\nCompravendes. Itziar González\, arquitecta\n\n\n\nPreguntes. \nDESCANS. \n\n\n\nMasoveries rurals a la Vall d’en Bas. Emili Duran\, Benet Riera i  Joan Vergés\,\nExperiència d’habitatge en cessió d’ús\, Mas el Turrós d’Argelaguer. Mandi de Sostre Cívic i Sabina del Mas Turrós.\nExperiència d’habitatge cooperatiu a Mas la Sala\, Sant Pau de Segúries. Una experiència d’habitatge cooperatiu al món rural\, impulsat per joves.\n\n\n\nPreguntes \n\n13:15 a 13:30 Cloenda. Lluís Amat\, alcalde\n\n  \n  \nCal inscripció prèvia enviant correu electrònic a cantrona@vallbas.cat  o bé omplint aquest formulari: ​https://forms.gle/6r2oogR6Gu7NZ7d38
URL:https://sostrecivic.jamgo.org/agenda/mobilitem-lhabitatge-buit-a-la-vall/
LOCATION:Auditori Can Trona\, Passatge de Can Trona\, 26\, Joanetes\, Girona\, 17176\, Espanya
CATEGORIES:Actes
ATTACH;FMTTYPE=image/jpeg:https://sostrecivic.jamgo.org/wp-content/uploads/2021/06/HABITATGE-6-e1624901684246.jpg
END:VEVENT
END:VCALENDAR