BEGIN:VCALENDAR
VERSION:2.0
PRODID:-//Sostre Cívic - ECPv6.10.1.1//NONSGML v1.0//EN
CALSCALE:GREGORIAN
METHOD:PUBLISH
X-ORIGINAL-URL:https://sostrecivic.jamgo.org
X-WR-CALDESC:Events for Sostre Cívic
REFRESH-INTERVAL;VALUE=DURATION:PT1H
X-Robots-Tag:noindex
X-PUBLISHED-TTL:PT1H
BEGIN:VTIMEZONE
TZID:Europe/Madrid
BEGIN:DAYLIGHT
TZOFFSETFROM:+0100
TZOFFSETTO:+0200
TZNAME:CEST
DTSTART:20210328T010000
END:DAYLIGHT
BEGIN:STANDARD
TZOFFSETFROM:+0200
TZOFFSETTO:+0100
TZNAME:CET
DTSTART:20211031T010000
END:STANDARD
END:VTIMEZONE
BEGIN:VEVENT
DTSTART;TZID=Europe/Madrid:20210702T173000
DTEND;TZID=Europe/Madrid:20210702T200000
DTSTAMP:20260424T145353
CREATED:20210628T181809Z
LAST-MODIFIED:20210628T181809Z
UID:7337-1625247000-1625256000@sostrecivic.jamgo.org
SUMMARY:Assemblea General Ordinària de Sostre Cívic
DESCRIPTION:El proper divendres 2 de juliol a les 17.30 h totes les persones sòcies de Sostre Cívic estan convocades a l’Assemblea General Ordinària (AGO) de la cooperativa i l’associació. A diferència de la darrera AGO que\, a causa de l’estat d’alarma\, ens vam veure obligades a celebrar-la exclusivament per mitjans virtuals\, aquest cop volem retrobar-nos presencialment. Volem\, però\, mantenir totes les mesures sanitàries que marquen les autoritats: control d’aforament\, distància i mascareta. Per això optem per una forma híbrida presencial i mantenint el format en línia per aquelles persones que així ho desitgin.\n\n \n\nLa participació presencial es farà al Casal Ca L’Isidret (Poblenou\, Barcelona) i estarà reservada a 50 places\, i la participació en línia es farà a través de la plataforma Zoom i estarà garantida per totes les persones sòcies de Sostre Cívic. Tant si la participació és presencial o en línia és imprescindible per poder participar la inscripció via La Interna\, que es podrà fer fins el dijous 1 de juliol a les 23.59h.\n\n \n\nEntre els punts de l’ordre del dia\, es presentarà la memòria d’activitats de 2020\, sotmetran a votació els Comptes anuals i s’escollirà un nou Consell Rector\, adaptant un nou model de governança al creixement dels darrers anys de la cooperativa\, que equilibra el pes de les diferents tipologies de sòcies dins de l’entitat\, i desplega la figura de soci treballador. A més\, també es presentarà a l’Assemblea per la seva votació l’acceptació del dret de Superfície d’un solar de l’Ajuntament de Barcelona per a crear el projecte de Can 70 i la compra d’un patrimoni per a desenvolupar un nou projecte d’habitatge cooperatiu rural.\n\n\n\n\nL’Ordre del Dia i la documentació relativa als diferents punts està a disposició de les persones sòcies en aquesta pàgina de La Interna. \n \nVisitem La Balma!\n \nUn cop finalitzada l’Assemblea\, es convocarà a totes les sòcies per anar a visitar La Balma (a 10 minuts a peu de l’AGO presencial) a celebrar la finalització de les obres i la imminent entrada a viure en aquest nou projecte d’habitatge de la cooperativa a la ciutat de Barcelona.
URL:https://sostrecivic.jamgo.org/agenda/assemblea-general-ordinaria-de-sostre-civic/
LOCATION:Casal Ca L’Isidret\, Carrer Josep Pla\, 174\, Barcelona\, 08019\, Espanya
CATEGORIES:Trobades
ATTACH;FMTTYPE=image/jpeg:https://sostrecivic.jamgo.org/wp-content/uploads/2021/06/news_1438.jpg
ORGANIZER;CN="Sostre C%C3%ADvic":MAILTO:info@sostrecivic.cat
END:VEVENT
END:VCALENDAR