BEGIN:VCALENDAR
VERSION:2.0
PRODID:-//Sostre Cívic - ECPv6.10.1.1//NONSGML v1.0//EN
CALSCALE:GREGORIAN
METHOD:PUBLISH
X-WR-CALNAME:Sostre Cívic
X-ORIGINAL-URL:https://sostrecivic.jamgo.org
X-WR-CALDESC:Events for Sostre Cívic
REFRESH-INTERVAL;VALUE=DURATION:PT1H
X-Robots-Tag:noindex
X-PUBLISHED-TTL:PT1H
BEGIN:VTIMEZONE
TZID:Europe/Madrid
BEGIN:DAYLIGHT
TZOFFSETFROM:+0100
TZOFFSETTO:+0200
TZNAME:CEST
DTSTART:20210328T010000
END:DAYLIGHT
BEGIN:STANDARD
TZOFFSETFROM:+0200
TZOFFSETTO:+0100
TZNAME:CET
DTSTART:20211031T010000
END:STANDARD
END:VTIMEZONE
BEGIN:VEVENT
DTSTART;TZID=Europe/Madrid:20210515T123000
DTEND;TZID=Europe/Madrid:20210515T140000
DTSTAMP:20260424T173745
CREATED:20210427T163451Z
LAST-MODIFIED:20210427T163902Z
UID:6802-1621081800-1621087200@sostrecivic.jamgo.org
SUMMARY:Concentració reivindicativa: Per una via cooperativa al dret a l'habitatge
DESCRIPTION:Un model d’habitatge comunitari\, estable i no especulatiu s’està obrint pas a Catalunya amb els primers projectes d’habitatge cooperatiu en cessió d’ús. Però després d’unes primeres passes de gegant\, el sector es troba amb dificultats d’accés a finançament i de cost econòmic dels projectes. \nLa Sectorial d’habitatge cooperatiu en cessió d’ús de la Xarxa d’Economia Solidària (XES) engega la campanya FEM ASSEQUIBLE L’HABITATGE COOPERATIU! adreçada a diferents administracions públiques a nivell local\, nacional i estatal\, per reclamar mesures que afavoreixin l’assequibilitat de l’habitatge cooperatiu i que aquest tingui un paper clau en la fase de reconstrucció social dels propers mesos i anys. \nDintre de la campanya\, conjuntament amb les diferents entitats de la XES que conformem la sectorial d’habitatge\, ens auto-convoquem el dissabte 15 de maig a les 12.30h a Barcelona\, a Plaça Sant Jaume. Volem fer el 1r acte de força al carrer del moviment català per l’habitatge cooperatiu en cessió d’ús\, com a cloenda de la campanya ‘Fem assequible l’habitatge cooperatiu!‘
URL:https://sostrecivic.jamgo.org/agenda/concentracio-reivindicativa-per-una-via-cooperativa-al-dret-a-lhabitatge/
LOCATION:Plaça sant Jaume\, Barcelona\, plaça Sant Jaume\, Barcelona\, Espanya
ATTACH;FMTTYPE=image/png:https://sostrecivic.jamgo.org/wp-content/uploads/2021/04/0421-XesHabitatge_cartell_-e1619541531325.png
ORGANIZER;CN="Sectorial d'Habitatge de la XES":MAILTO:habitatge@xes.cat
END:VEVENT
END:VCALENDAR