BEGIN:VCALENDAR
VERSION:2.0
PRODID:-//Sostre Cívic - ECPv6.10.1.1//NONSGML v1.0//EN
CALSCALE:GREGORIAN
METHOD:PUBLISH
X-WR-CALNAME:Sostre Cívic
X-ORIGINAL-URL:https://sostrecivic.jamgo.org
X-WR-CALDESC:Events for Sostre Cívic
REFRESH-INTERVAL;VALUE=DURATION:PT1H
X-Robots-Tag:noindex
X-PUBLISHED-TTL:PT1H
BEGIN:VTIMEZONE
TZID:Europe/Madrid
BEGIN:DAYLIGHT
TZOFFSETFROM:+0100
TZOFFSETTO:+0200
TZNAME:CEST
DTSTART:20210328T010000
END:DAYLIGHT
BEGIN:STANDARD
TZOFFSETFROM:+0200
TZOFFSETTO:+0100
TZNAME:CET
DTSTART:20211031T010000
END:STANDARD
END:VTIMEZONE
BEGIN:VEVENT
DTSTART;TZID=Europe/Madrid:20210430T100000
DTEND;TZID=Europe/Madrid:20210430T120000
DTSTAMP:20260424T171639
CREATED:20210427T142210Z
LAST-MODIFIED:20210427T142210Z
UID:6797-1619776800-1619784000@sostrecivic.jamgo.org
SUMMARY:Impuls del cohabitatge sènior pel  foment d’una vellesa activa i autogestionada
DESCRIPTION:Primera sessió de les Jornades d’Habitatge de la Cooperativa Obrera de Viviendas. \nPresentació de onclusions de  l’informe “Impuls del  cohabitatge sènior pel  foment d’una vellesa activa i autogestionada”. Impulsat per Sostre Cívic\, juntament amb la COV\, en el marc de la Federació de Cooperatives d’Habitatge de Catalunya (FCHC). \nCal inscripció prèvia: ompliu formulari  https://forms.gle/TB42LV5dDrbytveJ6 o envieu correu a cov@cov-elprat.com   La COV us enviarà posteriorment link per connexió en directe. Un cop finalitzada la sessió\, també es farà difusió per poder visualitzar en diferit.
URL:https://sostrecivic.jamgo.org/agenda/impuls-del-cohabitatge-senior-pel-foment-duna-vellesa-activa-i-autogestionada/
CATEGORIES:Xerrades
ATTACH;FMTTYPE=image/jpeg:https://sostrecivic.jamgo.org/wp-content/uploads/2021/04/Ez-uQ39XEAEj3kS.jpg
END:VEVENT
END:VCALENDAR