BEGIN:VCALENDAR
VERSION:2.0
PRODID:-//Sostre Cívic - ECPv6.10.1.1//NONSGML v1.0//EN
CALSCALE:GREGORIAN
METHOD:PUBLISH
X-ORIGINAL-URL:https://sostrecivic.jamgo.org
X-WR-CALDESC:Events for Sostre Cívic
REFRESH-INTERVAL;VALUE=DURATION:PT1H
X-Robots-Tag:noindex
X-PUBLISHED-TTL:PT1H
BEGIN:VTIMEZONE
TZID:Europe/Madrid
BEGIN:DAYLIGHT
TZOFFSETFROM:+0100
TZOFFSETTO:+0200
TZNAME:CEST
DTSTART:20210328T010000
END:DAYLIGHT
BEGIN:STANDARD
TZOFFSETFROM:+0200
TZOFFSETTO:+0100
TZNAME:CET
DTSTART:20211031T010000
END:STANDARD
END:VTIMEZONE
BEGIN:VEVENT
DTSTART;TZID=Europe/Madrid:20210422T180000
DTEND;TZID=Europe/Madrid:20210422T200000
DTSTAMP:20260424T183740
CREATED:20210412T145107Z
LAST-MODIFIED:20210420T163428Z
UID:6672-1619114400-1619121600@sostrecivic.jamgo.org
SUMMARY:Presentació projecte Can Paler Nou a Cardedeu (Presencial)
DESCRIPTION:Busques habitatge a Cardedeu? Obrim la llista d’entrada al grup de Cal Paler Nou! \nCal Paler Nou és un futur edifici de 39 habitatges amb espais comunitaris\, ubicat al centre de Cardedeu. Som un grup de persones que hem decidit emprendre un projecte\nd’habitatge cooperatiu en cessió d’ús per construir alternatives al model actual d’accés a l’habitatge\, conjuntament i sent part de la cooperativa Sostre Cívic. \nEn aquesta pàgina pots consultar més informació del projecte i\, si vols conèixer més\, et convidem a aquesta sessió informativa presencial. \nQuan?\nEl dijous 22 d’abril\, de 18:00 a 20:00 hores. \nA on?\nSala de les Columnes de l’Ajuntament de Cardedeu. Entrada lliure amb inscripció prèvia: \n  \n[FORMULARI TANCAT]\nPots apuntar-te a la sessió en línia del dimarts 27 d’abril a les 18h aquí.
URL:https://sostrecivic.jamgo.org/agenda/presentacio-projecte-can-paler-nou-a-cardedeu/
LOCATION:Sala de les columnes de l’Ajuntament de Cardedeu\, Plaça de Sant Joan\, 1\, Cardedeu\, Barcelona\, 08440\, Espanya
CATEGORIES:Xerrades
ATTACH;FMTTYPE=image/png:https://sostrecivic.jamgo.org/wp-content/uploads/2021/04/003-e1618239115122.png
END:VEVENT
END:VCALENDAR