BEGIN:VCALENDAR
VERSION:2.0
PRODID:-//Sostre Cívic - ECPv6.10.1.1//NONSGML v1.0//EN
CALSCALE:GREGORIAN
METHOD:PUBLISH
X-WR-CALNAME:Sostre Cívic
X-ORIGINAL-URL:https://sostrecivic.jamgo.org
X-WR-CALDESC:Events for Sostre Cívic
REFRESH-INTERVAL;VALUE=DURATION:PT1H
X-Robots-Tag:noindex
X-PUBLISHED-TTL:PT1H
BEGIN:VTIMEZONE
TZID:Europe/Madrid
BEGIN:DAYLIGHT
TZOFFSETFROM:+0100
TZOFFSETTO:+0200
TZNAME:CEST
DTSTART:20210328T010000
END:DAYLIGHT
BEGIN:STANDARD
TZOFFSETFROM:+0200
TZOFFSETTO:+0100
TZNAME:CET
DTSTART:20211031T010000
END:STANDARD
END:VTIMEZONE
BEGIN:VEVENT
DTSTART;TZID=Europe/Madrid:20210421T180000
DTEND;TZID=Europe/Madrid:20210421T200000
DTSTAMP:20260424T183542
CREATED:20210419T084717Z
LAST-MODIFIED:20210419T085024Z
UID:6720-1619028000-1619035200@sostrecivic.jamgo.org
SUMMARY:Jornada de l'accés a l'habitatge al Moianès: Propostes per a mobilitzar habitatges buits
DESCRIPTION:1. PONÈNCIES: \n\nPolítiques públiques de promoció d’habitatge accessible al Moianès\, Sonsoles Letang\, Consell Comarcal del Moianès\nEstratègies per a la mobilització d’habitatges buits\,  Celobert i Sostre Cívic\n\n2. TAULA RODONA D’EXPERIÈNCIES \n\nPrograma municipal de promoció de la masoveria urbana a Mieres\, a càrrec de l’ Ajuntament de Mieres\nCooperatives d’habitatge en cessió d’ús en sòl privat: El Turrós\, a càrrec de El Turrós\n\n3. PREGUNTES I DEBAT \n\nQuines inquietuds i di_cultats hi ha per mobilitzar habitatges buits?\nQuè facilitaria la mobilització d’habitatges buits?\n\nModera: Ateneu cooperatiu de la Catalunya Central \nConclusions i tancament \nCal inscripció previa: https://forms.gle/gYo9hmuX4oWyjitx7
URL:https://sostrecivic.jamgo.org/agenda/jornada-propostes-per-a-mobilitzar-habitatges-buits/
LOCATION:On-line
ATTACH;FMTTYPE=image/jpeg:https://sostrecivic.jamgo.org/wp-content/uploads/2021/04/propostes-x-mobilitzar-habitatges-buits-e1618822213828.jpg
END:VEVENT
END:VCALENDAR