BEGIN:VCALENDAR
VERSION:2.0
PRODID:-//Sostre Cívic - ECPv6.10.1.1//NONSGML v1.0//EN
CALSCALE:GREGORIAN
METHOD:PUBLISH
X-ORIGINAL-URL:https://sostrecivic.jamgo.org
X-WR-CALDESC:Events for Sostre Cívic
REFRESH-INTERVAL;VALUE=DURATION:PT1H
X-Robots-Tag:noindex
X-PUBLISHED-TTL:PT1H
BEGIN:VTIMEZONE
TZID:Europe/Madrid
BEGIN:DAYLIGHT
TZOFFSETFROM:+0100
TZOFFSETTO:+0200
TZNAME:CEST
DTSTART:20210328T010000
END:DAYLIGHT
BEGIN:STANDARD
TZOFFSETFROM:+0200
TZOFFSETTO:+0100
TZNAME:CET
DTSTART:20211031T010000
END:STANDARD
END:VTIMEZONE
BEGIN:VEVENT
DTSTART;TZID=Europe/Madrid:20210407T100000
DTEND;TZID=Europe/Madrid:20210407T200000
DTSTAMP:20260424T183704
CREATED:20210325T210754Z
LAST-MODIFIED:20210329T093055Z
UID:6563-1617789600-1617825600@sostrecivic.jamgo.org
SUMMARY:Visita immoble Sant Joan de Vilatorrada
DESCRIPTION:Visita a l’immoble del projecte d’habitatge cooperatiu a Sant Joan de Vilatorrada\nVols viure en un habitatge cooperatiu al Bages? El 8 d’abril obrirem les inscripcions per participar en aquest projecte: Edifici de 5 habitatges\, a Sant Joan de Vilatorrada\, al costat de Manresa i per tant sota el seu radi d’influència. Consta de planta baixa i 2 plantes construït l’any 2015\, que no ha estat mai habitat. Situat a 350m (4 minuts caminant) de l’estació d’autobusos i a 10 minuts caminant de l’Ajuntament i la Plaça Nova. L’edifici compta amb ascensor per accés als habitatges. Està dissenyat amb habitatges de diferents mides i habitacions\, tal i com es podrà veure en aquest document. Tots els habitatges són habitatges de protecció oficial \nPer a més detalls sobre aquest projecte\, farem aquesta xerrada informativa amb informació rellevant sobre el projecte el dimarts 6 d’abril\, de 18h\, les característiques de l’edifici i dels habitatges\, les condicions i requisits d’accés i totes aquelles dades rellevants per accedir-hi. També ho pots consultar en aquest dossier informatiu. Al dia següent\, el dimecres 7 d’abril\, farem una visita a l’immoble\, que et pots inscriure més avall: \n  \nQuan?\nEl dimecres 7 d’abril\, a partir de les 10h en l’horari a convenir amb la persona tècnica. \nA on?\nA l’edifici situat a Sant Joan de Vilatorrada\, l’adreça la passarem a les persones inscrites al següent formulari: \n  \nINSCRIU-TE AL FORMULARI ABANS DEL DIMARTS 6 D’ABRIL\n \n\n\n\n\n\n\n\n﻿﻿
URL:https://sostrecivic.jamgo.org/agenda/visita-immoble-sant-joan-de-vilatorrada/
CATEGORIES:Xerrades
ATTACH;FMTTYPE=image/jpeg:https://sostrecivic.jamgo.org/wp-content/uploads/2021/03/St-joan-vilatorrada-scaled-e1616703262707.jpg
ORGANIZER;CN="Sostre C%C3%ADvic":MAILTO:info@sostrecivic.cat
END:VEVENT
END:VCALENDAR