BEGIN:VCALENDAR
VERSION:2.0
PRODID:-//Sostre Cívic - ECPv6.10.1.1//NONSGML v1.0//EN
CALSCALE:GREGORIAN
METHOD:PUBLISH
X-ORIGINAL-URL:https://sostrecivic.jamgo.org
X-WR-CALDESC:Events for Sostre Cívic
REFRESH-INTERVAL;VALUE=DURATION:PT1H
X-Robots-Tag:noindex
X-PUBLISHED-TTL:PT1H
BEGIN:VTIMEZONE
TZID:Europe/Madrid
BEGIN:DAYLIGHT
TZOFFSETFROM:+0100
TZOFFSETTO:+0200
TZNAME:CEST
DTSTART:20200329T010000
END:DAYLIGHT
BEGIN:STANDARD
TZOFFSETFROM:+0200
TZOFFSETTO:+0100
TZNAME:CET
DTSTART:20201025T010000
END:STANDARD
END:VTIMEZONE
BEGIN:VEVENT
DTSTART;TZID=Europe/Madrid:20201217T170000
DTEND;TZID=Europe/Madrid:20201217T190000
DTSTAMP:20260424T233338
CREATED:20201201T170524Z
LAST-MODIFIED:20201217T105450Z
UID:5419-1608224400-1608231600@sostrecivic.jamgo.org
SUMMARY:Xerrada informativa Palafrugell
DESCRIPTION:Xerrada informativa sobre el projecte d’habitatge cooperatiu a Palafrugell\nVols viure en un habitatge cooperatiu al Baix Empordà? L’1 d’abril vam obrir les inscripcions per participar en aquest projecte: un edifici de 6 habitatges en 2 plantes\, construït l’any 2008 i situat a 4 minuts caminant de l’estació d’autobusos i a 10 minuts de l’Ajuntament i la Plaça Nova. Per a més detalls sobre aquest projecte\, farem aquesta xerrada informativa amb informació rellevant sobre el projecte\, les característiques de l’edifici i dels habitatges\, les condicions i requisits d’accés i totes aquelles dades rellevants per accedir-hi. També pots consultar aquí. \nQuan?\nEl dijous 17 de desembre\, de 18:00 a 20:00 hores. \nA on?\nXerrada online. Passarem el link de l’acte per correu electrònic a les persones inscrites. \n  \n[FORMULARI TANCAT]
URL:https://sostrecivic.jamgo.org/agenda/xerrada-informativa-palafrugell/
ATTACH;FMTTYPE=image/png:https://sostrecivic.jamgo.org/wp-content/uploads/2020/12/xerrada-palafrugell__2.png
ORGANIZER;CN="Sostre C%C3%ADvic":MAILTO:info@sostrecivic.cat
END:VEVENT
END:VCALENDAR